Workbook

Sheet Storico 1996 2010
A2: CENSIMENTO DEL VERDE ANDAMENTO STORICO 1996 - 2010
B3: Tipologia | D3: Censimento 1996 | F3: Censimento 2006 | H3: Censimento 2009 | J3: Censimento 2010
A4: 1 | B4: PU | C4: Parco urbano | D4: 482858 | E4: MQ | F4: 843476 | G4: MQ | H4: 1089348 | I4: MQ | J4: 1089348 | K4: MQ
A5: 2 | B5: GP | C5: Giardino pubblico | D5: 105212 | E5: MQ | F5: 135973 | G5: MQ | H5: 133574 | I5: MQ | J5: 133574 | K5: MQ
A6: 3 | B6: GQ | C6: Giardino di quartiere | D6: 126574 | E6: MQ | F6: 196789 | G6: MQ | H6: 231284 | I6: MQ | J6: 224650 | K6: MQ
A7: 4 | B7: SA | C7: Sosta Alberata | D7: 110157 | E7: MQ | F7: 114787 | G7: MQ | H7: 173296 | I7: MQ | J7: 183238 | K7: MQ
A8: 5 | B8: VR | C8: Verde residenziale | D8: 159942 | E8: MQ | F8: 185907 | G8: MQ | H8: 178092 | I8: MQ | J8: 178092 | K8: MQ
A9: 6 | B9: VO | C9: Verde Ornamentale | D9: 55817 | E9: MQ | F9: 96855 | G9: MQ | H9: 124487 | I9: MQ | J9: 124487 | K9: MQ
A10: 7 | B10: V | C10: Verde Stradale | D10: 61469 | E10: MQ | F10: 65703 | G10: MQ | H10: 63243 | I10: MQ | J10: 60345 | K10: MQ
A11: 8 | B11: S | C11: Verde di Servizio | D11: 51650 | E11: MQ | F11: 1174179 | G11: MQ | H11: 1238958 | I11: MQ | J11: 1224294 | K11: MQ
A12: 9 | B12: VS | C12: Verde Speciale | D12: 1050208 | E12: MQ | F12: 1442595 | G12: MQ | H12: 2164891 | I12: MQ | J12: 2208850 | K12: MQ
A13: 10 | B13: F | C13: Filari | D13: 1837510 | E13: MQ | F13: 51247 | G13: MQ | H13: 52549 | I13: MQ | J13: 52549 | K13: MQ
A14: 11 | B14: I | C14: Incolti | D14: 1718985 | E14: MQ | F14: 2476618 | G14: MQ | H14: 5322507 | I14: MQ | J14: =+'11- Incolti'!J278 -> 1555737 | K14: MQ | L14: =J14+J15 -> 4849936
A15: 12 | B15: VP | C15: Verde di Progetto | D15: 0 | E15: MQ | F15: 0 | G15: MQ | H15: 0 | J15: =+'11- Incolti'!K278 -> 3294199 | K15: MQ
D16: =SUM(D4:D15) -> 5760382 | E16: MQ | F16: 6784129 | G16: MQ | H16: 10772229 | I16: MQ | J16: =SUM(J4:J15) -> 10329363 | K16: MQ
O21: Censimento 1996 | P21: Censimento 2006 | Q21: Censimento 2009 | R21: Censimento 2010
G220: CIRC O.A.: Ordinamento attuele delle circoscrizioni

Sheet 2020
A1: Proiezione dell'incremento del verde urbano al 2020
A4: Soglia auspicabile minima di verde totalmente fruibile (Decr. Ass. Urb. Ras 2266 del 20 dicembre 1983) | B4: 9 | C4: mq/abitante
A6: Verde totalmente fruibile: parchi urbani, giardini pubblici, giardini di quartiere e soste alberate
A8: TIPOLOGIE DI VERDE (Cagliari - 2010) | C8: SUPERFICIE (MQ)
A9: PU (Parchi Urbani) | C9: 1089348
A10: GP (Giardini Pubblici) | C10: 133574
A11: GQ (Giardini di Quartiere) | C11: 231284
A12: SA (Soste Alberate) | C12: 183238
A13: TOTALE | C13: =SUM(C9:C12) -> 1637444
A15: RESIDENTI A CAGLIARI AL 1 GENNAIO 2009 | B15: 157371 | C15: ABITANTI
A16: VERDE FRUIBILE A CAGLIARI NEL 2010 (MQ) | B16: =C13 -> 1637444 | C16: MQ
A17: VERDE FRUIBILE A CAGLIARI NEL 2010 (MQ/ABITANTE) | B17: =B16/B15 -> 10.404992 | C17: MQ/AB
A19: NATI IN UN ANNO A CAGLIARI (1 GENNAIO 2008 31 DICEMBRE 2008) | C19: 1043
A20: DECEDUTI IN UN ANNO A CAGLIARI (1 GENNAIO 2008 31 DICEMBRE 2008) | C20: 1584
A21: SALDO | C21: =C19-C20 -> -541
A22: FONTE: SERVIZI STATISTICI E DEMOGRAFICI DEL COMUNE DI CAGLIARI
A25: TASSO DI CRESCITA RESIDENTI IPOTIZZABILE IN DIECI ANNI
A26: SALDO ATTIVO DI NUOVI RESIDENTI | C26: 15000
A27: NUOVI RESIDENTI AL 2020 | C27: =C26+B15 -> 172371
A29: VERDE FRUIBILE STIMABILE AL 2020
A30: VERDE FRUIBILE A CAGLIARI NEL 2010 | C30: =C13 -> 1637444
A31: PARCO DI SU STANGIONI/SAN LORENZO | C31: 2410000
A32: TOTALE | C32: =C30+C31 -> 4047444
A35: VERDE FRUIBILE A CAGLIARI NEL 2020 (MQ) | B35: =C32 -> 4047444 | C35: MQ
A36: VERDE FRUIBILE A CAGLIARI NEL 2020 (MQ/ABITANTE) | B36: =B35/C27 -> 23.481003 | C36: MQ/AB

Sheet Verde Fruibile 1996-2009
A1: Il Verde Fruibile
A4: Soglia auspicabile minima di verde totalmente fruibile (Decr. Ass. Urb. Ras 2266 del 20 dicembre 1983) | E4: 9 | F4: mq/abitante
A6: Verde totalmente fruibile: Parchi Urbani, Giardini Pubblici, Giardini di Quartiere e Soste Alberate
A8: TIPOLOGIE DI VERDE | C8: SUPERFICIE (MQ) Anno 1996 | D8: SUPERFICIE (MQ) Anno 2006 | E8: SUPERFICIE (MQ) Anno 2009 | F8: SUPERFICIE (MQ) Anno 2010
A9: PU (Parchi Urbani) | C9: =+'Storico 1996 2010'!D4 -> 482858 | D9: =+'Storico 1996 2010'!F4 -> 843476 | E9: =+'Storico 1996 2010'!H4 -> 1089348 | F9: =+'Storico 1996 2010'!J4 -> 1089348
A10: GP (Giardini Pubblici) | C10: =+'Storico 1996 2010'!D5 -> 105212 | D10: =+'Storico 1996 2010'!F5 -> 135973 | E10: =+'Storico 1996 2010'!H5 -> 133574 | F10: =+'Storico 1996 2010'!J5 -> 133574
A11: GQ (Giardini di Quartiere) | C11: =+'Storico 1996 2010'!D6 -> 126574 | D11: =+'Storico 1996 2010'!F6 -> 196789 | E11: =+'Storico 1996 2010'!H6 -> 231284 | F11: =+'Storico 1996 2010'!J6 -> 224650
A12: SA (Soste Alberate) | C12: =+'Storico 1996 2010'!D7 -> 110157 | D12: =+'Storico 1996 2010'!F7 -> 114787 | E12: =+'Storico 1996 2010'!H7 -> 173296 | F12: =+'Storico 1996 2010'!J7 -> 183238
A13: TOTALE | C13: =SUM(C9:C12) -> 824801 | D13: =SUM(D9:D12) -> 1291025 | E13: =SUM(E9:E12) -> 1627502 | F13: =SUM(F9:F12) -> 1630810
A16: Anno di riferimento | B16: N. Abitanti
A17: 1996 | B17: 180169
A18: 2006 | B18: 159686
A19: 2009 (2008) | B19: 157722
A20: 2010 (2009) | B20: 157371
A22: Verde Fruibile (mq/abitante)
A23: 1996 | B23: =+C13/B17 -> 4.5779296 | C23: MQ/ABITANTE | D23: Inferiore alla soglia auspicabile
A24: 2006 | B24: =+D13/B18 -> 8.0847726 | C24: MQ/ABITANTE | D24: Inferiore alla soglia auspicabile
A25: 2009 | B25: =+E13/B19 -> 10.318801 | C25: MQ/ABITANTE | D25: Superiore alla soglia auspicabile
A26: 2010 | B26: =+F13/B20 -> 10.362837 | C26: MQ/ABITANTE | D26: Superiore alla soglia auspicabile

Sheet Verde Comunale e NON Comunale
A3: Verde Comunale e Verde NON Comunale - DATI 2010
A4: Parchi Urbani Comunali | J4: =+'Storico 1996 2010'!J4-'1 - Parco Urbano'!H3 -> 866819 | K4: MQ
A5: Parchi Urbani NON Comunali (Monte Claro - Provincia) | J5: =+'1 - Parco Urbano'!G3 -> 222529 | K5: MQ
A6: Verde Speciale Comunale | J6: =+'Storico 1996 2010'!J12-'9 - Verde Speciale'!G24-'9 - Verde Speciale'!G18-'9 - Verde Speciale'!G19-'9 - Verde Speciale'!G17 -> 15317 | K6: MQ
A7: Verde Speciale NON Comunale (Monte Urpinu, Sant'Elia/San Bartolomeo - Aree militari) | J7: =+'Storico 1996 2010'!J12-J6 -> 2193533 | K7: MQ
A8: Verde di Servizio Comunale | J8: =+'Storico 1996 2010'!J11-'8 - Verde di servizio'!G154 -> 1134217 | K8: MQ
A9: Verde di Servizio NON Comunale (Ospedale Binaghi - ASL/Università) | J9: =+'8 - Verde di servizio'!G154 -> 90077 | K9: MQ

Sheet 1 - Parco Urbano
A1: PARCO URBANO | J1: PARCO URBANO PER CIRCOSCRIZIONI
A2: CIRC O.A. | H2: mq | L2: mq
A3: 3 | B3: REV.PU | C3: 3. 1 | E3: MONTE CLARO | F3: MQ | G3: 222529 | H3: =SUM(G3) -> 222529 | I3: ok | K3: Circoscrizione 1 | L3: 0
K4: Circoscrizione 2 | L4: =+G9 -> 183939
A5: 3 | B5: REV.PU | C5: 6. 1 | E5: COLLE S.MICHELE | F5: MQ | G5: 246316 | H5: =SUM(G5) -> 246316 | I5: ok | K5: Circoscrizione 3 | L5: =+G3+G5 -> 468845
K6: Circoscrizione 4 | L6: =+G7+G8 -> 323287
A7: 4 | B7: REV.PU | C7: 8. 1 | E7: MONTE URPINU | F7: MQ | G7: 284597 | I7: ok | K7: Circoscrizione 5 | L7: 0
A8: 4 | B8: N.PU | C8: 8. 2 | E8: MONTE URPINU VIVAIO SERVIZIO VERDE PUBBLICO (EX CAVA COMUNALE) | F8: MQ | G8: 38690 | I8: no | K8: Municipalità di PIRRI | L8: =+G11 -> 114704
A9: 2 | B9: N.PU | C9: 8. 3 | E9: PARCO ARCHEOLOGICO DI TUVIXEDDU | F9: MQ | G9: 183939 | H9: =SUM(G7:G9) -> 507226 | I9: ok | K9: TOTALE | L9: =SUM(L3:L8) -> 1090775
A11: 6 | B11: REV.PU | C11: 11.1 | E11: PARCO TERRAMAINI | F11: MQ | G11: =113450+1254 -> 114704 | H11: =SUM(G11) -> 114704 | I11: ok
B13: TOTALE PARCO URBANO | F13: MQ | H13: =SUM(H3:H12) -> 1090775
E15: CIRC O.A.: Ordinamento attuale delle circoscrizioni

Sheet 2 - Giardino Pubblico
A1: GIARDINO PUBBLICO | J1: GIARDINO PUBBLICO PER CIRCOSCRIZIONI
A2: CIRC O.A. | H2: mq
A3: 1 | B3: GP | C3: 1. 1 | E3: VIALE BUON CAMMINO | F3: MQ | G3: 19525 | H3: =SUM(G3) -> 19525
A4: 1 | B4: N.GP | C4: 1. 2 | E4: VIALE BUON CAMMINO | F4: MQ | G4: 1440 | H4: =SUM(G4) -> 1440 | Q4: aggiunto
A6: 1 | B6: GP | C6: 3. 1 | E6: GIARDINI PUBBLICI | F6: MQ | G6: 19306 | H6: =SUM(G6) -> 19306
A8: 4 | B8: N.GP | C8: 4. 1 | E8: PARCO DELLA MUSICA | F8: MQ | G8: 36699 | H8: =SUM(G8) -> 36699 | Q8: aggiunto
A11: 4 | B11: GP | C11: 7. 1 | E11: VIA DONORATICO | F11: MQ | G11: 22607 | H11: =SUM(G11) -> 22607 | J11: Circoscrizione 1 | K11: =+G3+G4+G6+G17+G18+G19 -> 80928
J12: Circoscrizione 2 | K12: 0
A13: 4 | B13: GP | C13: 8. 1 | E13: PARCO VIDAL | F13: MQ | J13: Circoscrizione 3 | K13: 0
J14: Circoscrizione 4 | K14: =+G8+G11 -> 59306
A15: 5 | B15: GP | C15: 9. 1 | E15: CAVALLUCCIO MARINO | F15: MQ | G15: 7610 | H15: =SUM(G15) -> 7610 | J15: Circoscrizione 5 | K15: =+G15 -> 7610
J16: Municipalità di PIRRI | K16: =+G21 -> 21254
A17: 1 | B17: GP | C17: 10. 1 | E17: PIAZZA AMENDOLA | F17: MQ | G17: 1995 | J17: TOTALE | K17: =SUM(K11:K16) -> 169098
A18: 1 | B18: GP | C18: 10. 2 | E18: PARCO BONARIA | F18: MQ | G18: 14302
A19: 1 | B19: GP | C19: 10. 3 | E19: PINETA VIALE COLOMBO | F19: MQ | G19: 24360 | H19: =SUM(G17:G19) -> 40657
A21: 6 | B21: GP | C21: 11. 1 | E21: EX VETRERIA | F21: MQ | G21: 21254 | H21: =SUM(G21) -> 21254
B23: TOTALE GIARDINO PUBBLICO | F23: MQ | H23: =SUM(H3:H21) -> 169098
E25: CIRC O.A.: Ordinamento attuale delle circoscrizioni

Sheet 3 - Giardino di Quartiere
A1: GIARDINO DI QUARTIERE | J1: GIARDINO DI QUARTIERE PER CIRCOSCRIZIONI
A2: CIRC O.A. | H2: mq | K2: mq
A3: 2 | B3: GQ | C3: 2. 1 | E3: VIA TRINCEA DEI RAZZI | F3: MQ | G3: 2271 | I3: ok | J3: Circoscrizione 1 | K3: =+G64+G65+G67 -> 8362
A4: 2 | B4: REV.GQ | C4: 2. 2 | E4: VIA TRINCEA DELLE FRASCHE | F4: MQ | G4: 3792 | I4: no | J4: Circoscrizione 2 | K4: =+G3+G4+G5+G19+G20 -> 10387 | P4: corretto
A5: 2 | B5: GQ | C5: 2. 3 | E5: VIA MONTIXEDDU | F5: MQ | G5: 2803 | H5: =SUM(G3:G5) -> 8866 | I5: ok | J5: Circoscrizione 3 | K5: =+G9+G10+G11+G12+G13+G14+G15+G16+G17+G18+G21+G22+G24+G25 -> 54479
J6: Circoscrizione 4 | K6: =+G7+G27+G28+G29+G30+G31+G32+G33+G34+G36+G37+G38+G39+G40 -> 62468
A7: 4 | B7: N.GQ | C7: 4.1 | E7: VIA MANZONI - VIA CARDUCCI (PARCH. MULTIPIANO) | F7: MQ | G7: 2087 | H7: =SUM(G7) -> 2087 | I7: ok | J7: Circoscrizione 5 | K7: =+G42+G43+G44+G45+G46+G47+G48+G49+G50+G51+G52+G54+G55+G56+G57+G58+G59+G60+G61+G62+G63+G66 -> 80332
J8: Municipalità di PIRRI | K8: =+G69+G70+G71+G72+G73+G74 -> 19831
A9: 3 | B9: GQ | C9: 5. 1 | E9: PIAZZA MEDAGLIA MIRACOLOSA | F9: MQ | G9: 3688 | I9: ok | J9: TOTALE | K9: =SUM(K3:K8) -> 235859
A10: 3 | B10: GQ | C10: 5. 2 | E10: PIAZZA MUSE | F10: MQ | G10: 8204 | I10: no
A11: 3 | B11: GQ | C11: 5. 3 | E11: VIA CARPACCIO | F11: MQ | G11: 6692 | I11: ok
A12: 3 | B12: GQ | C12: 5. 4 | E12: VIA BERNINI | F12: MQ | G12: 7810 | I12: no
A13: 3 | B13: GQ | C13: 5. 5 | E13: VIA MANDROLISAI | F13: MQ | G13: 1554 | I13: ok
A14: 3 | B14: GQ | C14: 5. 6 | E14: VIA MANDROLISAI | F14: MQ | G14: 1384 | I14: ok
A15: 3 | B15: GQ | C15: 5. 7 | E15: VIA IL PERUGINO | F15: MQ | G15: 3241 | I15: no
A16: 3 | B16: GQ | C16: 5. 8 | E16: VIA BORROMINI | F16: MQ | G16: 3851 | I16: no | P16: corretto
A17: 3 | B17: GQ | C17: 5. 9 | E17: VIA GHERARDO DELLE NOTTI | F17: MQ | G17: 1596 | I17: no | P17: corretto
A18: 3 | B18: REV.GQ | C18: 5. 10 | E18: VIA CRESPELLANI | F18: MQ | G18: 3635 | I18: no | P18: corretto
A19: 2 | B19: REV.GQ | C19: 5. 11 | E19: VIA ABRUZZI | F19: MQ | G19: 1050 | I19: ok
A20: 2 | B20: REV.GQ | C20: 5. 12 | E20: VIA PREMUDA | F20: MQ | G20: 471 | I20: ok
A21: 3 | B21: N.GQ | C21: 5. 13 | E21: VIA GIOTTO | F21: MQ | G21: 567 | I21: ok
A22: 3 | B22: N.GQ | C22: 5. 14 | E22: VIA BROTZU | F22: MQ | G22: 4597 | H22: =SUM(G9:G22) -> 48340 | I22: no | P22: corretto | Q22: dicitura
A24: 3 | B24: GQ | C24: 6. 1 | E24: VIA BRIANZA | F24: MQ | G24: 6674 | I24: no
A25: 3 | B25: GQ | C25: 6. 2 | E25: VIA SAMPANTE | F25: MQ | G25: 986 | H25: =SUM(G24:G25) -> 7660 | I25: no
A27: 4 | B27: REV.GQ | C27: 7. 1 | E27: CIRCOSCRIZ. 7 -- CEP / FONSARDA | F27: MQ | G27: 2109 | I27: ok
A28: 4 | B28: GQ | C28: 7. 2 | E28: VIA FLAVIO GIOIA | F28: MQ | G28: 3321 | I28: no
A29: 4 | B29: GQ | C29: 7. 3 | E29: VIA EUCLIDE | F29: MQ | G29: 3521 | I29: no
A30: 4 | B30: GQ | C30: 7. 4 | E30: CIA ARCHIMEDE | F30: MQ | G30: 3090 | I30: no
A31: 4 | B31: GQ | C31: 7. 5 | E31: VIA CASTIGLIONE-VIA GRANDI | F31: MQ | G31: 1996 | I31: ok
A32: 4 | B32: N.GQ | C32: 7. 6 | E32: VIA BIASI | F32: MQ | G32: 1532 | I32: no | P32: aggiunto
A33: 4 | B33: N.GQ | C33: 7. 7 | E33: VIA SAN SALVATORE | F33: MQ | G33: 3719 | I33: no | P33: aggiunto
A34: 4 | B34: N.GQ | C34: 7. 8 | E34: VIALE MARCONI | F34: MQ | G34: 2185 | H34: =SUM(G27:G34) -> 21473 | I34: no | P34: aggiunto
A36: 4 | B36: GQ | C36: 8. 1 | E36: VIA OSLO | F36: MQ | G36: 13996 | I36: no | P36: corretto
A37: 4 | B37: GQ | C37: 8. 2 | E37: PIAZZA ISLANDA | F37: MQ | G37: 4306 | I37: no
A38: 4 | B38: REV.GQ | C38: 8. 3 | E38: VIA LIONE | F38: MQ | G38: 3177 | I38: ok
A39: 4 | B39: GQ | C39: 8. 4 | E39: VIA DELL' ABBAZIA | F39: MQ | G39: 3587 | I39: no
A40: 4 | B40: N.GQ | C40: 8. 5 | E40: LOTTIZZAZIONE MAGNOLIA - | F40: MQ | G40: =13842 -> 13842 | H40: =SUM(G36:G40) -> 38908 | I40: ok | P40: corretto
A42: 5 | B42: GQ | C42: 9. 1 | E42: VECCHIO BORGO S. ELIA | F42: MQ | G42: 8909 | I42: no | P42: corretto
A43: 5 | B43: GQ | C43: 9. 2 | E43: VIA FAVONIO | F43: MQ | G43: 4104 | I43: ok
A44: 5 | B44: REV.GQ | C44: 9. 3 | E44: VIA DEL POZZETTO | F44: MQ | G44: =4637 -> 4637 | I44: ok | P44: corretto
...

Sheet 4 - Sosta Alberata
B1: SOSTA ALBERATA | K1: SOSTA ALBERATA PER CIRCOSCRIZIONI
A2: CIRC O.A. | H2: mq | L2: mq
A3: 1 | B3: SA | C3: 1. 1 | E3: VIA ROMA | F3: MQ | G3: 5277 | K3: Circoscrizione 1 | L3: =+G3+G4+G5+G6+G7+G8+G9+G10+G11+G12+G13+G22+G23+G24+G25+G26+G28+G68+G69+G70+G72+G73+G76+G78 -> 57436
A4: 1 | B4: SA | C4: 1. 2 | E4: PIAZZA MATTEOTTI | F4: MQ | G4: 4611 | K4: Circoscrizione 2 | L4: =+G15+G16+G17+G18+G19+G20+G36 -> 19929
A5: 1 | B5: SA | C5: 1. 3 | E5: PIAZZA DEL CARMINE | F5: MQ | G5: 6026 | K5: Circoscrizione 3 | L5: =+G37+G38+G40+G41+G42 -> 5239 | P5: cambiato
A6: 1 | B6: SA | C6: 1. 4 | E6: VIA S. EULALIA | F6: MQ | G6: 914 | K6: Circoscrizione 4 | L6: =+G29+G30+G31+G32+G33+G34+G44+G46+G47+G48+G49+G71+G77 -> 32750
A7: 1 | B7: SA | C7: 1. 5 | E7: PIAZZA S.SEPOLCRO | F7: MQ | G7: 412 | K7: Circoscrizione 5 | L7: =+G51+G52+G53+G54+G55+G56+G57+G58+G59+G60+G61+G62+G63+G64+G65+G66+G74+G75 -> 28133
A8: 1 | B8: SA | C8: 1. 6 | E8: VIA BAYLLE | F8: MQ | G8: 396 | K8: Municipalità di PIRRI | L8: =+G80+G81+G82+G83+G84+G85 -> 4872
A9: 1 | B9: SA | C9: 1. 7 | E9: PIAZZA JENNE | F9: MQ | G9: 1182 | K9: TOTALE | L9: =SUM(L3:L8) -> 148359
A10: 1 | B10: SA | C10: 1. 8 | E10: BASTIONE S. REMY | F10: MQ | G10: 6395
A11: 1 | B11: SA | C11: 1. 9 | E11: VIA FOSSARIO | F11: MQ | G11: 242
A12: 1 | B12: SA | C12: 1.10 | E12: BASTIONE S.CROCE | F12: MQ | G12: 961 | P12: cambiato
A13: 1 | B13: N.SA | C13: 1.11 | E13: PIAZZA SAVOIA | F13: MQ | G13: 182 | H13: =SUM(G3:G13) -> 26598 | P13: aggiunta
A15: 2 | B15: SA | C15: 2. 1 | E15: PIAZZA TRENTO | F15: MQ | G15: 1389
A16: 2 | B16: N.SA | C16: 2. 2 | E16: VIA SANTA GILLA - I FENICOTTERI | F16: MQ | G16: 7752
A17: 2 | B17: N.SA | C17: 2. 3 | E17: VIA MONTENERO | F17: MQ | G17: 334 | P17: aggiunta
A18: 2 | B18: N.SA | C18: 2. 4 | E18: VIA NICOLODI | F18: MQ | G18: 1318 | P18: aggiunta
A19: 2 | B19: N.SA | C19: 2. 5 | E19: PIAZZA SAN MICHELE | F19: MQ | G19: 1594 | P19: aggiunto
A20: 2 | B20: N.SA | C20: 2. 6 | E20: VIALE BUOCAMMINO | F20: MQ | G20: 1361 | H20: =SUM(G15:G20) -> 13748 | P20: aggiunto
A22: 1 | B22: SA | C22: 3. 1 | E22: PIAZZA COSTITUZIONE | F22: MQ | G22: 278
A23: 1 | B23: SA | C23: 3. 2 | E23: PIAZZA MARGHINOTTI | F23: MQ | G23: 748
A24: 1 | B24: SA | C24: 3. 3 | E24: VIALE REGINA ELENA | F24: MQ | G24: 9185
A25: 1 | B25: SA | C25: 3. 4 | E25: PIAZZA S.DOMENICO | F25: MQ | G25: 543
A26: 1 | B26: SA | C26: 3. 5 | E26: VIA S.ROCCO | F26: MQ | G26: 183 | H26: =SUM(G22:G26) -> 10937
A28: 1 | B28: SA | C28: 4. 1 | E28: PIAZZA GARIBALDI | F28: MQ | G28: 2632
A29: 4 | B29: SA | C29: 4. 2 | E29: PIAZZA GALILEO GALILEI | F29: MQ | G29: 2444
A30: 4 | B30: SA | C30: 4. 3 | E30: VIA DONIZETTI | F30: MQ | G30: 341
A31: 4 | B31: SA | C31: 4. 4 | E31: VIA CAVALCANTI | F31: MQ | G31: 264
A32: 4 | B32: SA | C32: 4. 5 | E32: PIAZZA MICHELANGELO | F32: MQ | G32: 2625
A33: 4 | B33: SA | C33: 4. 6 | E33: PIAZZA GIOVANNI XXIII | F33: MQ | G33: 15819
A34: 4 | B34: N.SA | C34: 4. 7 | E34: PARCO DELLA MUSICA | F34: MQ | G34: 0 | H34: =SUM(G28:G34) -> 24125 | P34: tolto
A36: 2 | B36: SA | C36: 5. 1 | E36: PIAZZA S.MICHELE | F36: MQ | G36: 6181
A37: 3 | B37: N.SA | C37: 5. 2 | E37: VIA PIERO DELLA FRANCESCA | F37: MQ | G37: 1136
A38: 3 | B38: N.SA | C38: 5. 3 | E38: VIA SINI | F38: MQ | G38: 1282 | H38: =SUM(G36:G38) -> 8599 | P38: aggiunta
A40: 3 | B40: SA | C40: 6. 1 | E40: VIA PERTUSOLA | F40: MQ | G40: 805
A41: 3 | B41: SA | C41: 6. 2 | E41: TRAVERSA IS MIRRIONIS | F41: MQ | G41: 1224 | P41: cambiato
A42: 3 | B42: N.SA | C42: 6. 3 | E42: VIA PARRAGUEZ | F42: MQ | G42: 792 | H42: =SUM(G40:G42) -> 2821 | P42: aggiunta
A44: 4 | B44: SA | C44: 7. 1 | E44: VIALE MARCONI | F44: MQ | G44: 984 | H44: =SUM(G44) -> 984
A46: 4 | B46: SA | C46: 8. 1 | E46: VIA PESSINA | F46: MQ | G46: 854
A47: 4 | B47: SA | C47: 8. 2 | E47: VIA BERNA | F47: MQ | G47: 1635
...

Sheet 5 - Verde Residenziale
A1: VERDE RESIDENZIALE | L1: VERDE RESIDENZIALE PER CIRCOSCRIZIONI
A2: CIRC O.A. | H2: mq | M2: mq
A3: 2 | B3: REV.VR | C3: 2. 1 | E3: VIA CASTELLI | F3: MQ | G3: =4004+421+4852 -> 9277 | L3: Circoscrizione 1 | M3: =+G9+G10+G11+G12+G92+G93+G94+G103 -> 7843
A4: 2 | B4: VR | C4: 2. 2 | E4: VIA BLIGNY | F4: MQ | G4: 337 | L4: Circoscrizione 2 | M4: =+H7 -> 10579
A5: 2 | B5: VR | C5: 2. 3 | E5: VIA MONTENERO | F5: MQ | G5: 323 | L5: Circoscrizione 3 | M5: =+G13+G14+G15+G16+G18+G19+G20+G21+G22+G23+G24+G26+G27+G28+G29+G30+G32+G33+G34+G35+G36+G38+G39+G40+G41 -> 34054
A6: 2 | B6: VR | C6: 2. 4 | E6: VIA ARGONNE | F6: MQ | G6: 0 | L6: Circoscrizione 4 | M6: =G43+G44+G45+G46+G47+G48+G49+G50+G51+G52+G53+G54+G56+G57+G58+G59+G60+G61+G62+G63+G64+G65+G66+G67+G68+G69+G70+G71+G72+G73+G95 -> 47021 | N6: tolto
A7: 2 | B7: N.VR | C7: 2. 5 | E7: VIA COL D'ECHELE | F7: MQ | G7: 642 | H7: =SUM(G3:G7) -> 10579 | N7: aggiunto
L8: Circoscrizione 5 | M8: =+G75+G76+G77+G78+G79+G80+G81+G82+G83+G84+G85+G86+G87+G88+G89+G90+G96+G97+G98+G99+G100+G101+G102+G104 -> 38819
A9: 1 | B9: VR | C9: 3. 1 | E9: PIAZZA MAREMMA | F9: MQ | G9: 138 | L9: Municipalità di PIRRI | M9: =+H128 -> 29545
A10: 1 | B10: VR | C10: 3. 2 | E10: PIAZZA SALENTO | F10: MQ | G10: 515 | L10: TOTALE | M10: =SUM(M3:M9) -> 167861
A11: 1 | B11: VR | C11: 3. 3 | E11: PIAZZA IRPINIA | F11: MQ | G11: 1734 | N11: corretto
A12: 1 | B12: VR | C12: 3. 4 | E12: VIA GARFAGNANA | F12: MQ | G12: 944
A13: 3 | B13: VR | C13: 3. 5 | E13: VIA CAMPANIA | F13: MQ | G13: 200
A14: 3 | B14: VR | C14: 3. 6 | E14: VIA MATTEI | F14: MQ | G14: 578
A15: 3 | B15: VR | C15: 3. 7 | E15: VIA BALESTRA | F15: MQ | G15: 1659
A16: 3 | B16: VR | C16: 3. 8 | E16: VIA ALEO | F16: MQ | G16: 139 | H16: =SUM(G9:G16) -> 5907 | N16: corretto
A18: 3 | B18: VR | C18: 5. 1 | E18: VIA GIOTTO | F18: MQ | G18: 2662
A19: 3 | B19: VR | C19: 5. 2 | E19: VIA DESSI' DELIPERI | F19: MQ | G19: 0 | N19: tolto
A20: 3 | B20: VR | C20: 5. 3 | E20: VIA ASQUER | F20: MQ | G20: 2151
A21: 3 | B21: VR | C21: 5. 4 | E21: VIA BROTZU | F21: MQ | G21: 866
A22: 3 | B22: VR | C22: 5. 5 | E22: VIA DE MARTIS | F22: MQ | G22: 2632
A23: 3 | B23: VR | C23: 5. 6 | E23: VIA MASACCIO | F23: MQ | G23: 2325
A24: 3 | B24: VR | C24: 5. 7 | E24: VIA CRESPELLANI | F24: MQ | G24: 2307
A25: 3 | B25: VR | C25: 5. 8 | E25: VIA ABRUZZI | F25: MQ
A26: 3 | B26: VR | C26: 5. 9 | E26: VIA DE MARTIS | F26: MQ | G26: 975
A27: 3 | B27: VR | C27: 5. 10 | E27: PIAZZA DELLE ARTI | F27: MQ | G27: 1194
A28: 3 | B28: VR | C28: 5. 11 | E28: VIA BERNINI | F28: MQ | G28: 1827
A29: 3 | B29: VR | C29: 5. 12 | E29: PIAZZA DEGLI SFORZA | F29: MQ | G29: 2106
A30: 3 | B30: VR | C30: 5. 13 | E30: VIA TIEPOLO | F30: MQ | G30: 1291 | H30: =SUM(G18:G30) -> 20336
A32: 3 | B32: VR | C32: 6. 1 | E32: VIA CINQUINI | F32: MQ | G32: 4680 | N32: corretto
A33: 3 | B33: VR | C33: 6. 2 | E33: VIA JENNER | F33: MQ | G33: 368
A34: 3 | B34: VR | C34: 6. 3 | E34: PIAZZA ESQUIVEL | F34: MQ | G34: 3919
A35: 3 | B35: VR | C35: 6. 4 | E35: VIA CORNALIAS | F35: MQ | G35: 443
A36: 3 | B36: VR | C36: 6. 5 | E36: VIA CODROIPO | F36: MQ
B37: VR | C37: 6. 6 | E37: VIA MANDROLISAI | F37: MQ
A38: 3 | B38: VR | C38: 6. 7 | E38: VIA DEI FALLETTI | F38: MQ | G38: 936
A39: 3 | B39: N.VR | C39: 6. 8 | E39: VIA DEL SEMINARIO | F39: MQ | G39: 170 | N39: aggiunto
A40: 3 | B40: N.VR | C40: 6. 9 | E40: VIA PARRAGUEZ | F40: MQ | G40: 178 | N40: aggiunto
A41: 3 | B41: N.VR | C41: 6. 10 | E41: VIA PARRAGUEZ | F41: MQ | G41: 448 | H41: =SUM(G32:G41) -> 11142 | N41: aggiunto
A43: 4 | B43: VR | C43: 7. 1 | E43: PIAZZA BAEZZA | F43: MQ | G43: 1317
...

Sheet 6 - Verde Ornamentale
A1: VERDE ORNAMENTALE | K1: VERDE ORNAMENTALE PER CIRCOSCRIZIONI
A2: CIRC O.A. | H2: mq | L2: mq
A3: 1 | B3: VO | C3: 1. 1 | E3: MOLO SANT'AGOSTINO | F3: MQ | G3: 158 | K3: Circoscrizione 1 | L3: =+H20+G32+G33+G34+G41+G84+G85+G86+G87+G88+G95+G96+G98+G38+G100+G101 -> 25021 | P3: corretto
A4: 1 | B4: VO | C4: 1. 2 | E4: LARGO CARLO FELICE | F4: MQ | G4: 174 | K4: Circoscrizione 2 | L4: =+H30+G51+G52 -> 8584
A5: 1 | B5: VO | C5: 1. 3 | E5: VIA MANNO | F5: MQ | G5: 2 | K5: Circoscrizione 3 | L5: =+G35+G36+G37+G39+G47+G48+G49+G50+G53+G54+G55+G57+G58+G59+G60+G61 -> 32841
A6: 1 | B6: VO | C6: 1. 4 | E6: PIAZZA MAZZINI | F6: MQ | G6: 61 | K6: Circoscrizione 4 | L6: =+G42+G43+G44+G45+G63+G64+G65+G66+G67+G69+G71+G90+G92+G93+G70+G72+G73+G94 -> 14793
A7: 1 | B7: VO | C7: 1. 5 | E7: BASTIONE S. REMY | F7: MQ | G7: 207 | K7: Circoscrizione 5 | L7: =+G75+G76+G77+G78+G79+G80+G81+G82+G89+G91+G97+G99 -> 22576
A8: 1 | B8: VO | C8: 1. 6 | E8: VIA CAMMINO NUOVO | F8: MQ | G8: 715 | K8: Municipalità di PIRRI | L8: =+H114 -> 10576 | S8: =SUM(L8:M8) -> 10576 | T8: =+S8-H116 -> -103815
A9: 1 | B9: VO | C9: 1. 7 | E9: PIAZZA LODDO | F9: MQ | G9: 89 | K9: TOTALE | L9: =SUM(L3:L8) -> 114391
A10: 1 | B10: VO | C10: 1. 8 | E10: VIA ANFITEATRO | F10: MQ | G10: 197
A11: 1 | B11: VO | C11: 1. 9 | E11: VIA PORCELL | F11: MQ | G11: 1463
A12: 1 | B12: VO | C12: 1. 10 | E12: VIA FIUME | F12: MQ | G12: 623
A13: 1 | B13: VO | C13: 1. 11 | E13: PIAZZA INDIPENDENZA | F13: MQ | G13: 82
A14: 1 | B14: VO | C14: 1. 12 | E14: PIAZZA ARSENALE | F14: MQ | G14: 96
A15: 1 | B15: VO | C15: 1. 13 | E15: VIALE BUON CAMMINO | F15: MQ | G15: 3068
A16: 1 | B16: VO | C16: 1. 14 | E16: VIALE BUON CAMMINO | F16: MQ | G16: 1805
A17: 1 | B17: VO | C17: 1. 15 | E17: CORSO VITTORIO EMANUELE | F17: MQ | G17: 1300
A18: 1 | B18: N.VO | C18: 1. 16 | E18: VIA CAMMINO NUOVO | F18: MQ | G18: 840 | P18: aggiunto
A19: 1 | B19: N.VO | C19: 1. 17 | E19: VIA CAMMINO NUOVO | F19: MQ | G19: 2478 | P19: aggiunto
A20: 1 | B20: N.VO | C20: 1. 18 | E20: VIA SPANO | F20: MQ | G20: 5 | H20: =SUM(G3:G20) -> 13363 | P20: aggiunto
A22: 2 | B22: VO | C22: 2. 1 | E22: VIA MAMELI | F22: MQ | G22: 0 | P22: tolto
A23: 2 | B23: VO | C23: 2. 2 | E23: VIA ROVERETO | F23: MQ | G23: 1005
A24: 2 | B24: VO | C24: 2. 3 | E24: VIA NICOLODI | F24: MQ | G24: 0 | P24: tolto
A25: 2 | B25: VO | C25: 2. 4 | E25: PIAZZA S.AVENDRACE | F25: MQ | G25: 436 | P25: corretto
A26: 2 | B26: VO | C26: 2. 5 | E26: VIA TRINCEA DEI RAZZI | F26: MQ | G26: 884
A27: 2 | B27: VO | C27: 2. 6 | E27: PIAZZA S.MICHELE | F27: MQ | G27: 0 | P27: tolto
A28: 2 | B28: VO | C28: 2. 7 | E28: ROTONDA S.GILLA | F28: MQ | G28: 868
A29: 2 | B29: REV.VO | C29: 2. 8 | E29: VIA SIMETO | F29: MQ | G29: 218 | P29: corretto
A30: 2 | B30: N.VO | C30: 2. 9 | E30: ROTONDA LOTTIZZAZIONE I FENICOTTERI | F30: MQ | G30: 1278 | H30: =SUM(G22:G30) -> 4689
A32: 1 | B32: VO | C32: 3. 1 | E32: PIAZZA COSTITUZIONE | F32: MQ | G32: 85
A33: 1 | B33: VO | C33: 3. 2 | E33: VIALE REGINA ELENA (PIAZZA MARGHINOTTI) | F33: MQ | G33: 138
A34: 1 | B34: VO | C34: 3. 3 | E34: VIALE REGINA ELENA | F34: MQ | G34: 1746
A35: 3 | B35: VO | C35: 3. 4 | E35: VIA ROMAGNA | F35: MQ | G35: 1114
A36: 3 | B36: VO | C36: 3. 5 | E36: VIALE CIUSA | F36: MQ | G36: 921
A37: 3 | B37: VO | C37: 3. 6 | E37: VIA LIGURIA | F37: MQ | G37: 2572
A38: 1 | B38: VO | C38: 3. 7 | E38: VIALE REGINA ELENA | F38: MQ | G38: 5298
A39: 3 | B39: N.VO | C39: 3. 8 | E39: VIA ROMAGNA | F39: MQ | G39: 15 | H39: =SUM(G32:G39) -> 11889 | P39: aggiunto
A41: 1 | B41: VO | C41: 4. 1 | E41: PIAZZA GARIBALDI | F41: MQ | G41: 679
A42: 4 | B42: VO | C42: 4. 2 | E42: VIA GIUDICESSA BENEDETTA | F42: MQ | G42: 271
A43: 4 | B43: VO | C43: 4. 3 | E43: PIAZZA PORRINO | F43: MQ | G43: 910 | P43: corretto
...

Sheet 7 - Verde Stradale
B1: VERDE STRADALE | M1: VERDE STRADALE PER CIRCOSCRIZIONI
A2: CIRC O.A. | H2: mq
A3: 1 | B3: V | C3: 1. 1 | E3: VIA RIVA PONENTE | F3: MQ | G3: 10 | N3: mq | S3: corretto
A4: 2 | B4: V | C4: 1. 2 | E4: VIA CARLOFORTE | F4: MQ | G4: 0 | M4: Circoscrizione 1 | N4: =+G3+G5+G6+G11+G16+G19+G48+G50+G51 -> 2808 | S4: tolto | T4: perché?
A5: 1 | B5: V | C5: 1. 3 | E5: PIAZZA SAVOIA | F5: MQ | G5: 0 | M5: Circoscrizione 2 | N5: =+G4+G8+G9+G10+G13+G25+G12+G14 -> 44919 | S5: tolto
A6: 1 | B6: V | C6: 1 .4 | E6: VIA BELVEDERE | F6: MQ | G6: 1991 | H6: =SUM(G3:G6) -> 2001 | M6: Circoscrizione 3 | N6: =+G17+G26+G28+G64 -> 1989
M7: Circoscrizione 4 | N7: =+G38+G21+G22+G23+G30+G32+G33+G34+G36+G37+G39 -> 18736
A8: 2 | B8: V | C8: 2. 1 | E8: PIAZZA TRENTO | F8: MQ | G8: 33 | M8: Circoscrizione 5 | N8: =+G41+G42+G43+G44+G45+G46+G52+G53+G54+G55+G56+G58+G57+G59 -> 16984
A9: 2 | B9: V | C9: 2. 2 | E9: VIA PO | F9: MQ | G9: 302 | M9: Municipalità di PIRRI | N9: =+G62+G63+G66 -> 2787
A10: 2 | B10: V | C10: 2. 3 | E10: VIA ARGONNE | F10: MQ | G10: 276 | M10: TOTALE | N10: =SUM(N4:N9) -> 88223
A11: 1 | B11: V | C11: 2. 4 | E11: PIAZZA D' ARMI | F11: MQ | G11: 472
A12: 2 | B12: N.V | C12: 2. 5 | E12: VIA MARNA | F12: MQ | G12: 111
A13: 2 | B13: N.V | C13: 2. 6 | E13: LUNGO LINEA FERROVIARIA IN PROSSIMITA DE I "FENICOTTERI" | F13: MQ | G13: 2406
A14: 2 | B14: N.V | C14: 2. 7 | E14: SVINCOLO A GOCCIA VIA SAN PAOLO FORESTAZIONE URBANA | F14: MQ | G14: 41699 | H14: =SUM(G8:G14) -> 45299
A16: 1 | B16: V | C16: 3. 1 | E16: VIA GARIBALDI | F16: MQ | G16: 4
A17: 3 | B17: V | C17: 3. 2 | E17: VIA LIGURIA | F17: MQ | G17: 292 | S17: corretto
A18: 1 | B18: V | C18: 3. 3 | E18: VIA ROMAGNA | F18: MQ | G18: 0 | S18: tolto
A19: 1 | B19: N.V | C19: 3. 4 | E19: VIA ROMAGNA | F19: MQ | G19: 173 | H19: =SUM(G16:G19) -> 469 | S19: aggiunto
A21: 4 | B21: V | C21: 4. 1 | E21: PIAZZA S.ROCCO | F21: MQ | G21: 25 | S21: corretto
A22: 4 | B22: V | C22: 4. 2 | E22: VIA S.ALENIXEDDA | F22: MQ | G22: 164
A23: 4 | B23: V | C23: 4. 3 | E23: VIA BACAREDDA | F23: MQ | G23: 0 | H23: =SUM(G21:G23) -> 189 | S23: tolto
A25: 2 | B25: V | C25: 5. 1 | E25: PIAZZA S.MICHELE | F25: MQ | G25: 92
A26: 3 | B26: REV.V | C26: 5. 2 | E26: SPARTITRAFFICO ALDO MORONGIU | F26: MQ | G26: 484 | H26: =SUM(G25:G26) -> 576 | S26: corretto
A28: 3 | B28: V | C28: 6. 1 | E28: VIA CADELLO | F28: MQ | G28: 487 | H28: =SUM(G28) -> 487
A30: 4 | B30: V | C30: 7. 1 | E30: VIA DEI GIUDICATI | F30: MQ | G30: 0 | S30: tolto
B31: V | C31: 7. 2 | E31: VIA EUCLIDE | F31: MQ
A32: 4 | B32: V | C32: 7. 3 | E32: VIA VOLTA | F32: MQ | G32: 169
A33: 4 | B33: N.V | C33: 7. 4 | E33: VIA GIUDICESSA BENEDETTA - SPARTITRAFFICO | F33: MQ | G33: 73
A34: 4 | B34: N.V | C34: 7. 5 | E34: VIA GIUDICESSA BENEDETTA | F34: MQ | G34: 0 | H34: =SUM(G30:G34) -> 242 | S34: tolto
A36: 4 | B36: V | C36: 8. 1 | E36: VIA AMAT | F36: MQ | G36: 587 | S36: corretto
A37: 4 | B37: V | C37: 8. 2 | E37: VIA VIDAL | F37: MQ | G37: 202
A38: 4 | B38: V | C38: 8. 3 | E38: VIA COSTANTINOPOLI | F38: MQ | G38: 0 | S38: tolto
A39: 4 | B39: N.V | C39: 8. 4 | E39: ASSE MEDIANO | F39: MQ | G39: 17516 | H39: =SUM(G36:G39) -> 18305 | S39: corretto
A41: 5 | B41: V | C41: 9. 1 | E41: PIAZZA S.BARTOLOMEO | F41: MQ | G41: 381 | S41: corretto
A42: 5 | B42: REV.V | C42: 9. 2 | E42: CIRCONVALLAZIONE STADIO | F42: MQ | G42: 2104
A43: 5 | B43: REV.V | C43: 9. 3 | E43: VIA VESPUCCI | F43: MQ | G43: 0 | S43: tolto
A44: 5 | B44: V | C44: 9. 4 | E44: VIA GALLINARA | F44: MQ | G44: 142
A45: 5 | B45: V | C45: 9. 5 | E45: MARINA PICCOLA | F45: MQ | G45: 1752
A46: 5 | B46: N.V | C46: 9. 6 | E46: VIA DEI CAVALLEGGERI | F46: MQ | G46: 266 | H46: =SUM(G41:G46) -> 4645
A48: 1 | B48: V | C48: 10. 1 | E48: PIAZZA DEFFENU | F48: MQ | G48: 158
...

Sheet 8 - Verde di servizio
A1: VERDE DI SERVIZIO | J1: VERDE DI SERVIZIO PER CIRCOSCRIZIONI
A2: CIRC O.A. | H2: mq | K2: mq
A3: 1 | B3: S | C3: 1. 1 | E3: VIALE LA PLAIA (da riperimetrare meglio) | F3: MQ | G3: 1577 | J3: Circoscrizione 1 | K3: =H13+G32+G33+G34+G35+G38+G39+G40+G138+G139+G140+G141+G142+G155+G159+G160 -> 65969
A4: 1 | B4: S | C4: 1. 2 | D4: s | E4: VIA G.M.ANGIOJ, SATTA | F4: MQ | G4: 844 | J4: Circoscrizione 2 | K4: =+H30+G53+G54+G55+G68 -> 132660
A5: 1 | B5: S | C5: 1. 3 | D5: s | E5: PIAZZA DETTORI | F5: MQ | G5: 45 | J5: Circoscrizione 3 | K5: =+G36+G37+G52+G56+G57+G58+G59+G60+G61+G62+G63+G64+G65+G66+G67+H81+G162 -> 248880
A6: 1 | B6: S | C6: 1. 4 | D6: s | E6: VIA COLLEGIO, MANNO | F6: MQ | G6: 0 | J6: Circoscrizione 4 | K6: =+G154+G42+G43+G44+G46+G49+G48+H98+H110+G156 -> 213482.12 | O6: tolto
A7: 1 | B7: S | C7: 1. 5 | D7: s | E7: VIA S.GIUSEPPE | F7: MQ | G7: 203 | J7: Circoscrizione 5 | K7: =+H136+G143+G144+G145+G146+G147+G148+G149+G150+G151+G152+G153+G157+G158 -> 385066
A8: 1 | B8: S | C8: 1. 6 | D8: s | E8: VIA CANELLES, S.CATERINA | F8: MQ | G8: 202 | J8: Municipalità di PIRRI | K8: =+G163+G164+G165+G166+G167+G168+G169+G170+G171+G172+G173+G176+G177+G178+G179+G181+G180+G182+G183+G184+G185 -> 119437
A9: 1 | B9: S | C9: 1. 7 | E9: VIALE REGINA ELENA | F9: MQ | G9: 16761 | J9: TOTALE | K9: =SUM(K3:K8) -> 1165494.1
A10: 1 | B10: S | C10: 1. 8 | D10: s | E10: VIA CANELLES | F10: MQ | G10: 233
A11: 1 | B11: S | C11: 1. 9 | D11: s | E11: VIA LAMARMORA | F11: MQ | G11: 430
A12: 1 | B12: S | C12: 1.10 | D12: s | E12: VIA S.VINCENZO | F12: MQ | G12: 475
A13: 1 | B13: N.S | C13: 1.11 | E13: VIA CAMMINO NUOVO | F13: MQ | G13: 5124 | H13: =SUM(G3:G13) -> 25894 | N13: =SUM(M3:M13) -> 0 | O13: aggiunto
A16: 2 | B16: S | C16: 2. 1 | E16: PIAZZA TRENTO | F16: MQ | G16: 2539 | O16: corretto
A17: 2 | B17: S | C17: 2. 2 | D17: s | E17: VIALE TRENTO | F17: MQ | G17: 7217
A18: 2 | B18: S | C18: 2. 3 | D18: s | E18: VIA FALZAREGO | F18: MQ | G18: 7217
A19: 2 | B19: S | C19: 2. 4 | D19: s | E19: VIA FALZAREGO | F19: MQ | G19: 2170
A20: 2 | B20: S | C20: 2. 5 | D20: s | E20: VIA BAINSIZZA | F20: MQ | G20: 6623 | O20: corretto
A21: 2 | B21: S | C21: 2. 6 | D21: s | E21: VIA MAGLIAS | F21: MQ | G21: 10290
A22: 2 | B22: S | C22: 2. 7 | D22: s | E22: VIA BLIGNY, MAMELI | F22: MQ | G22: 2948
A23: 2 | B23: S | C23: 2. 8 | D23: s | E23: VIA DOBERDO' | F23: MQ | G23: 0 | O23: tolto
A24: 2 | B24: S | C24: 2. 9 | D24: s | E24: VIA REDIPUGLIA | F24: MQ | G24: 1901 | O24: corretto
A25: 2 | B25: S | C25: 2.10 | D25: s | E25: VIA CASTAGNE VIZZA | F25: MQ | G25: 1618
A26: 2 | B26: S | C26: 2.11 | D26: s | E26: VIA IS MIRRIONIS | F26: MQ | G26: 2962
A27: 2 | B27: N.S | C27: 2.12 | E27: VIA CAMPO SCIPIONE | F27: MQ | G27: 63198
A28: 2 | B28: N.S | C28: 2.13 | E28: VIA CODROIPO | F28: MQ | G28: 3829 | O28: aggiunto
A29: 2 | B29: N.S | C29: 2. 14 | E29: VIA ARGONNE | F29: MQ | G29: 2649 | O29: aggiunto
A30: 2 | B30: N.S | C30: 2. 15 | E30: VIA TUVUMANNU | F30: MQ | G30: 7183 | H30: =SUM(G16:G30) -> 122344 | N30: =SUM(M16:M30) -> 0 | O30: aggiunto
A32: 1 | B32: S | C32: 3. 1 | D32: s | E32: VIALE D'ARBOREA | F32: MQ | G32: 30
A33: 1 | B33: S | C33: 3. 2 | D33: s | E33: PIAZZA GARIBALDI, RIVA | F33: MQ | G33: 2497
A34: 1 | B34: S | C34: 3. 3 | D34: s | E34: VIALE S. VINCENZO,MEREU | F34: MQ | G34: 5123 | O34: corretto
A35: 1 | B35: S | C35: 3. 4 | D35: s | E35: VIALE S. VINCENZO,FOIS | F35: MQ | G35: 138
A36: 3 | B36: S | C36: 3. 5 | E36: CAMPO CUS | F36: MQ | G36: 40081 | O36: corretto
A37: 3 | B37: S | C37: 3. 6 | E37: PIAZZA DEI CASTELLANI | F37: MQ | G37: 0 | O37: spostato
A38: 1 | B38: N.S | C38: 3. 7 | E38: VIA PICENO | F38: MQ | G38: 530 | O38: aggiunto
A39: 1 | B39: N.S | C39: 3. 8 | E39: VIA BASILICATA | F39: MQ | G39: 5148 | O39: aggiunto
A40: 1 | B40: N.S | C40: 3. 9 | E40: VIA BASILICATA | F40: MQ | G40: 5064 | H40: =SUM(G32:G40) -> 58611 | N40: =SUM(M32:M40) -> 0 | O40: aggiunto
A42: 4 | B42: S | C42: 4. 1 | D42: s | E42: VIA DANTE, FOSCOLO | F42: MQ | G42: 358
A43: 4 | B43: S | C43: 4. 2 | D43: s | E43: VIA DONIZETTI | F43: MQ | G43: 372
A44: 4 | B44: S | C44: 4. 3 | E44: VIA PACINOTTI | F44: MQ | G44: 1488
...

Sheet 9 - Verde Speciale
A1: VERDE SPECIALE | K1: VERDE SPECIALE PER CIRCOSCRIZIONI
A2: CIRC O.A. | H2: mq | L2: mq
A3: 1 | B3: VS | C3: 1. 1 | E3: ORTO BOTANICO | F3: MQ | G3: 38445 | K3: Circoscrizione 1 | L3: =+G3+G4+G5+G7+G23+G26+G27 -> 141537
A4: 1 | B4: VS | C4: 1. 2 | E4: ANFITEATRO ROMANO | F4: MQ | G4: 26760 | K4: Circoscrizione 2 | L4: =+G6 -> 4110
A5: 1 | B5: VS | C5: 1. 3 | E5: CITTADELLA DEI MUSEI | F5: MQ | G5: 3168 | K5: Circoscrizione 3 | L5: 0
A6: 2 | B6: VS | C6: 1. 4 | E6: VILLA DI TIGELLIO | F6: MQ | G6: 4110 | K6: Circoscrizione 4 | L6: =+G15+G24+G25 -> 324975
A7: 1 | B7: N.VS | C7: 1. 5 | E7: VIALE BUON CAMMINO | F7: MQ | G7: 1805 | H7: =SUM(G3:G7) -> 74288 | P7: aggiunto
K8: Circoscrizione 5 | L8: =+G17+G18+G19+G20 -> 2044392
B9: REV.VS | C9: 2. 1 | E9: COLLE TUVIXEDDU | F9: MQ | G9: 0 | H9: =SUM(G9) -> 0 | K9: Municipalità di PIRRI | L9: 0
K10: TOTALE | L10: =SUM(L3:L9) -> 2515014
B11: VS | C11: 3. 1 | E11: MONTE CLARO | F11: MQ | G11: 0 | H11: =SUM(G11) -> 0
B13: VS | C13: 4. 1 | E13: VIA CAO DI S. MARCO - VIVAIO COMUNALE | F13: MQ | G13: 0 | H13: 0
A15: 4 | B15: REV.VS | C15: 8. 1 | E15: MONTE URPINU | F15: MQ | G15: 138182 | H15: =SUM(G15) -> 138182
A17: 5 | B17: REV.VS | C17: 9. 1 | E17: MONTE S. ELIA | F17: MQ | G17: 1299869
A18: 5 | B18: REV.VS | C18: 9. 2 | E18: VIALE CALAMOSCA | F18: MQ | G18: 744523
A19: 5 | B19: VS | C19: 9. 3 | E19: S. ELIA RIMBOSCHIMENTO | F19: MQ | G19: 0 | P19: tolto
A20: 5 | B20: VS | C20: 9. 4 | E20: VIA MONTECRISTO | F20: MQ | G20: 0 | H20: =SUM(G17:G20) -> 2044392 | P20: tolto
B22: VS | C22: 10. 1 | E22: PARCO DELLE RIMEMBRANZE | F22: MQ | G22: 0 | P22: tolto
A23: 1 | B23: VS | C23: 10. 2 | E23: CIMITERO DI BONARIA | F23: MQ | G23: 71359
A24: 4 | B24: REV.VS | C24: 10. 3 | E24: MONTE URPINU | F24: MQ | G24: 149141 | P24: corretto
A25: 4 | B25: N.VS | C25: 10. 4 | E25: MONTE URPINU - OSPEDALE BINAGHI | F25: MQ | G25: 37652 | P25: corretto
A26: 1 | B26: N.VS | C26: 10. 5 | F26: MQ | G26: 0 | P26: tolto
A27: 1 | B27: N.VS | C27: 10. 6 | F27: MQ | G27: 0 | H27: =SUM(G22:G27) -> 258152 | P27: tolto
A29: TOTALE VERDE SPECIALE | F29: MQ | H29: =SUM(H6:H27) -> 2515014
E31: CIRC O.A.: Ordinamento attuale delle circoscrizioni
E259: CIRC O.A.: Ordinamento attuele delle circoscrizioni

Sheet 10 - Filari
A1: FILARI | J1: FILARI PER CIRCOSCRIZIONI
A2: CIRC O.A. | H2: mq | K2: mq
A3: 1 | B3: F | C3: 1. 1 | E3: VIALE TRIESTE | F3: MQ | G3: =45*5 -> 225 | I3: 45 | J3: Circoscrizione 1 | K3: =+H10+G26+G27+G93+G96+G97+G98+G99+G100+G28 -> 4440
A4: 1 | B4: F | C4: 1. 2 | E4: LARGO CARLO FELICE | F4: MQ | G4: =128*5 -> 640 | I4: 128 | J4: Circoscrizione 2 | K4: =+H24+G48+G44+G45 -> 3190
A5: 1 | B5: F | C5: 1. 3 | E5: CORSO VITTORIO EMANUELE | F5: MQ | G5: =15*5 -> 75 | I5: 15 | J5: Circoscrizione 3 | K5: =+G46+G49+G50+G51 -> 235
A6: 1 | B6: F | C6: 1. 4 | E6: PIAZZA JENNE | F6: MQ | G6: =4*5 -> 20 | I6: 4 | J6: Circoscrizione 4 | K6: =+H42+H58+H66 -> 5110
A7: 1 | B7: F | C7: 1. 5 | E7: VIA UNIVERSITA' | F7: MQ | G7: =2*5 -> 10 | I7: 2 | J7: Circoscrizione 5 | K7: =+H91+G94+G95+G101+G102+G103+G104+G105 -> 9965
A8: 1 | B8: F | C8: 1. 6 | E8: CAMMINO NUOVO | F8: MQ | G8: =14*5 -> 70 | I8: 14 | J8: Municipalità di PIRRI | K8: =+H111 -> 645
A9: 1 | B9: F | C9: 1. 7 | E9: VIALE S. IGNAZIO | F9: MQ | G9: =55*5 -> 275 | I9: 55 | J9: TOTALE | K9: =SUM(K3:K8) -> 23585
A10: 1 | B10: F | C10: 1. 8 | E10: VIALE BUONCAMMINO | F10: MQ | G10: =69*5 -> 345 | H10: =SUM(G3:G10) -> 1660 | I10: 69
A12: 2 | B12: F | C12: 2. 1 | E12: VIALE TRIESTE | F12: MQ | G12: =183*5 -> 915 | I12: 183
A13: 2 | B13: F | C13: 2. 2 | E13: VIA FALZAREGO | F13: MQ | G13: =0*5 -> 0 | I13: 0 | Q13: tolto
A14: 2 | B14: F | C14: 2. 3 | E14: VIALE TRENTO | F14: MQ | G14: =25*5 -> 125 | I14: 25
A15: 2 | B15: F | C15: 2. 4 | E15: VIA DE MAGISTRIS | F15: MQ | G15: =3*5 -> 15 | I15: 3
A16: 2 | B16: F | C16: 2. 5 | E16: VIALE MERELLO | F16: MQ | G16: =204*5 -> 1020 | I16: 204
A17: 2 | B17: F | C17: 2. 6 | E17: VIA MARENGO | F17: MQ | G17: =2*5 -> 10 | I17: 2
A18: 2 | B18: F | C18: 2. 7 | E18: VIA COL D'ECHELE | F18: MQ | G18: =0*5 -> 0 | Q18: tolto
A19: 2 | B19: F | C19: 2. 8 | E19: VIA MONTE GRAPPA | F19: MQ | G19: =19*5 -> 95 | I19: 19 | Q19: spost retino
A20: 2 | B20: F | C20: 2. 9 | E20: VIA CODROIPO | F20: MQ | G20: =23*5 -> 115 | I20: 23
A21: 2 | B21: F | C21: 2.10 | E21: VIA S.AVENDRACE | F21: MQ | G21: 5 | I21: 1
A22: 2 | B22: F | C22: 2.11 | E22: VIA S.GILLA | F22: MQ | G22: =70*5 -> 350 | I22: 70
A23: 2 | B23: F | C23: 2.12 | E23: VIA PO | F23: MQ | G23: =12*5 -> 60 | I23: 12
A24: 2 | B24: F | C24: 2.13 | E24: VIALE ELMAS | F24: MQ | G24: 0 | H24: =SUM(G12:G24) -> 2710 | Q24: tolto
A26: 1 | B26: F | C26: 3. 1 | E26: VIALE REGINA ELENA | F26: MQ | G26: =71*5 -> 355 | I26: 71 | Q26: corretto
A27: 1 | B27: F | C27: 3. 2 | E27: VIA LIGURIA | F27: MQ | G27: =40*5 -> 200 | I27: 40
A28: 1 | B28: F | C28: 3. 3 | E28: VIALE REGINA MARGHERITA | F28: MQ | G28: =52*5 -> 260 | H28: =SUM(G26:G28) -> 815 | I28: 52
A30: 4 | B30: F | C30: 4. 1 | E30: VIA SONNINO | F30: MQ | G30: =34*5 -> 170 | I30: 34
A31: 4 | B31: F | C31: 4. 2 | E31: VIA BACAREDDA | F31: MQ | G31: 0 | Q31: tolto
A32: 4 | B32: F | C32: 4. 3 | E32: VIA PAOLI | F32: MQ | G32: =7*5 -> 35 | I32: 7 | Q32: corretto
A33: 4 | B33: F | C33: 4. 4 | E33: VIA DANTE | F33: MQ | G33: =246*5 -> 1230 | I33: 246
A34: 4 | B34: F | C34: 4. 5 | E34: VIA PERGOLESI | F34: MQ | G34: =80*5 -> 400 | I34: 80
A35: 4 | B35: F | C35: 4. 6 | E35: VIA SAN BENEDETTO | F35: MQ | G35: =6*5 -> 30 | I35: 6
A36: 4 | B36: F | C36: 4. 7 | E36: VIA PETRARCA | F36: MQ | G36: =28*5 -> 140 | I36: 28
A37: 4 | B37: F | C37: 4. 8 | E37: VIA CAO DI S. MARCO | F37: MQ | G37: 0 | Q37: tolto
A38: 4 | B38: F | C38: 4. 9 | E38: PIAZZA GIOVANNI XXIII | F38: MQ | G38: =11*5 -> 55 | I38: 11
A39: 4 | B39: F | C39: 4.10 | E39: PIAZZA S.BENEDETTO | F39: MQ | G39: =13*5 -> 65 | I39: 13
A40: 4 | B40: F | C40: 4.11 | E40: VIA G.VERDI | F40: MQ | G40: =16*5 -> 80 | I40: 16
A41: 4 | B41: F | C41: 4.12 | E41: VIA S.ALENIXEDDA | F41: MQ | G41: =44*5 -> 220 | I41: 44
A42: 4 | B42: F | C42: 4.13 | E42: VIA DEI GIUDICATI | F42: MQ | G42: =15*5 -> 75 | H42: =SUM(G30:G42) -> 2500 | I42: 15
A44: 2 | B44: F | C44: 5. 1 | E44: VIA LUNIGIANA | F44: MQ | G44: =29*5 -> 145 | I44: 29
...

Sheet 11- Incolti
A1: INCOLTI | J1: INCOLTI PER CIRCOSCRIZIONI
A2: CIRC O.A. | H2: mq | K2: mq
A3: 1 | B3: I | C3: 1. 1 | E3: VIA ANFITEATRO | F3: MQ | G3: 3151 | J3: Circoscrizione 1 | K3: =H8+G21+G29+G183+G184+G195+G198 -> 72404
A4: 1 | B4: I | C4: 1. 2 | E4: VIA UNIVERSITA' | F4: MQ | G4: 0 | J4: Circoscrizione 2 | K4: =+G10+G11+G12+G17+G18+G19+G20+G22+G23+G24+G25+G26+G53+G77 -> 846388 | M4: tolto
A5: 1 | B5: I | C5: 1. 3 | E5: VIALE REGINA ELENA | F5: MQ | J5: Circoscrizione 3 | K5: =+G33+G35+G45+G47+G50+G55+G58+G59+G63+H98+G203+G263+G269+G68+G69+G71+G72+G73+G76+G78+G79+G80 -> 2881846
A6: 1 | B6: I | C6: 1. 4 | E6: CAMMINO NUOVO | F6: MQ | G6: 223 | J6: Circoscrizione 4 | K6: =+H129+H147+G215+G216+G217+G218+G219+G220++G221+G259+G245 -> 268520 | M6: corretto
A7: 1 | B7: I | C7: 1. 5 | E7: VIALE REGINA ELENA | F7: MQ | G7: 1725 | J7: Circoscrizione 5 | K7: =+H178+G187+G193+G197+G199+G200+G201+G252+G253+G254+G255+G257+G258+G264 -> 353817 | M7: corretto
A8: 1 | B8: I | C8: 1. 6 | E8: VIALE BUON CAMMINO | F8: MQ | G8: 27532 | H8: =SUM(G3:G8) -> 32631 | J8: Municipalità di PIRRI | K8: =+G205+G204+G206+G207+G209+G210+G211+G212+G224+G225+G226+G227+G228+G229+G230+G233+G234+G235+G236+G237+G238+G239+G240+G241+G267+G268+G262+G242+G243+G244+G246+G247+G248+G249 -> 426961 | M8: corretto
J9: TOTALE | K9: =SUM(K3:K8) -> 4849936
A10: 2 | B10: I | C10: 2. 1 | E10: S. GILLA | F10: MQ | G10: 11737
A11: 2 | B11: I | C11: 2. 2 | E11: S. GILLA | F11: MQ | G11: 11253
A12: 2 | B12: I | C12: 2. 3 | E12: VIA S. GILLA | F12: MQ | G12: 1365
A13: 2 | B13: I | C13: 2. 4 | E13: VIA CODROIPO | F13: MQ | G13: 0 | M13: tolto
A14: 2 | B14: I | C14: 2. 5 | E14: VIA ARGONNE | F14: MQ | G14: 0 | M14: tolto
A15: 2 | B15: I | C15: 2. 6 | E15: VIA COL D'ECHELE | F15: MQ | G15: 0 | M15: tolto
A16: 2 | B16: I | C16: 2. 7 | E16: VIA TUVUMANNU | F16: MQ | G16: 0 | M16: tolto
A17: 2 | B17: REV.I | C17: 2. 8 | E17: VIA IS MIRRIONIS | F17: MQ | G17: =18896 -> 18896
A18: 2 | B18: REV.I | C18: 2. 9 | E18: COLLE TUVIXEDDU | F18: MQ | G18: 29123
A19: 2 | B19: I | C19: 2.10 | E19: VIA BAINSIZZA | F19: MQ | G19: 2337 | M19: corretto
A20: 2 | B20: REV.I | C20: 2.11 | E20: VIA DEI PUNICI | F20: MQ | G20: 524
A21: 1 | B21: I | C21: 2.12 | E21: VIALE BUON CAMMINO (ORTO DEI CAPPUCCINI) | F21: MQ | G21: 27077 | M21: corretto
A22: 2 | B22: I | C22: 2.13 | E22: VIA S. GIOVANNI BOSCO | F22: MQ | G22: 8019 | M22: corretto
A23: 2 | B23: I | C23: 2.14 | E23: SS 554 | F23: MQ | G23: 28989 | M23: aggiunto aree
A24: 2 | B24: REV.I | C24: 2.15 | E24: NUOVO RACCORDO | F24: MQ | G24: 55705
A25: 2 | B25: N.I | C25: 2.16 | E25: LUNGOMARE SALINE | F25: MQ | G25: 80579
A26: 2 | B26: N.I | C26: 2.17 | E26: VIA SAN PAOLO | F26: MQ | G26: 106280 | H26: =SUM(G10:G26) -> 381884
B28: I | C28: 3. 1 | E28: VIALE REGINA ELENA | F28: MQ | G28: 0
A29: 1 | B29: I | C29: 3. 2 | E29: VIA S.SATURNINO | F29: MQ | G29: 1523
A30: 1 | B30: I | C30: 3. 3 | E30: VIA PICENO | F30: MQ | G30: 0 | M30: tolto
A31: 1 | B31: I | C31: 3. 4 | E31: VIA BASILICATA | F31: MQ | G31: 0 | M31: tolto
A32: 1 | B32: I | C32: 3. 5 | E32: VIA BASILICATA | F32: MQ | G32: 0 | M32: tolto
A33: 3 | B33: I | C33: 3. 6 | E33: VIA TRENTINO | F33: MQ | G33: 3172
B34: I | C34: 3. 7 | E34: MONTE CLARO | F34: MQ
A35: 3 | B35: REV.I | C35: 3. 8 | E35: VIA VALENZANI | F35: MQ | G35: 25331 | H35: =SUM(G28:G35) -> 30026
A37: 4 | B37: I | C37: 4. 1 | E37: VIA CINO DA PISTOIA | F37: MQ | G37: 0 | M37: tolto
B38: REV.I | C38: 4. 2 | E38: VIA CAO S.MARCO | F38: MQ | G38: 0 | H38: =SUM(G37:G38) -> 0
A40: 2 | B40: I | C40: 5. 1 | E40: VIALE MONASTIR | F40: MQ | G40: 0
A41: 3 | B41: I | C41: 5. 2 | E41: VIA VAL D'ELSA | F41: MQ
A42: 3 | B42: I | C42: 5. 3 | E42: VIA ABRUZZI | F42: MQ
A43: 3 | B43: I | C43: 5. 4 | E43: VIA MANDROLISAI | F43: MQ
...

Sheet Riassunto per Circoscrizione
B1: TIPOLOGIA | N1: (mq)
B3: PU | C3: GP | D3: GQ | E3: SA | F3: VR | G3: VO | H3: V | I3: S | J3: VS | K3: F | L3: I | M3: sommano | O3: =M4-225-5277-4611-158 -> 456477 | P3: ho levato viale F1.1,SA 1.1 e 1.2, VO 1.1perché non sono CS
A4: ='1 - Parco Urbano'!K3 -> Circoscrizione 1 | B4: ='1 - Parco Urbano'!L3 -> 0 | C4: ='2 - Giardino Pubblico'!K11 -> 80928 | D4: ='3 - Giardino di Quartiere'!K3 -> 8362 | E4: ='4 - Sosta Alberata'!L3 -> 57436 | F4: ='5 - Verde Residenziale'!M3 -> 7843 | G4: ='6 - Verde Ornamentale'!L3 -> 25021 | H4: ='7 - Verde Stradale'!N4 -> 2808 | I4: ='8 - Verde di servizio'!K3 -> 65969 | J4: ='9 - Verde Speciale'!L3 -> 141537 | K4: ='10 - Filari'!K3 -> 4440 | L4: ='11- Incolti'!K3 -> 72404 | M4: =SUM(B4:L4) -> 466748
A5: ='1 - Parco Urbano'!K4 -> Circoscrizione 2 | B5: ='1 - Parco Urbano'!L4 -> 183939 | C5: ='2 - Giardino Pubblico'!K12 -> 0 | D5: ='3 - Giardino di Quartiere'!K4 -> 10387 | E5: ='4 - Sosta Alberata'!L4 -> 19929 | F5: ='5 - Verde Residenziale'!M4 -> 10579 | G5: ='6 - Verde Ornamentale'!L4 -> 8584 | H5: ='7 - Verde Stradale'!N5 -> 44919 | I5: ='8 - Verde di servizio'!K4 -> 132660 | J5: ='9 - Verde Speciale'!L4 -> 4110 | K5: ='10 - Filari'!K4 -> 3190 | L5: ='11- Incolti'!K4 -> 846388 | M5: =SUM(B5:L5) -> 1264685
A6: ='1 - Parco Urbano'!K5 -> Circoscrizione 3 | B6: ='1 - Parco Urbano'!L5 -> 468845 | C6: ='2 - Giardino Pubblico'!K13 -> 0 | D6: ='3 - Giardino di Quartiere'!K5 -> 54479 | E6: ='4 - Sosta Alberata'!L5 -> 5239 | F6: ='5 - Verde Residenziale'!M5 -> 34054 | G6: ='6 - Verde Ornamentale'!L5 -> 32841 | H6: ='7 - Verde Stradale'!N6 -> 1989 | I6: ='8 - Verde di servizio'!K5 -> 248880 | J6: ='9 - Verde Speciale'!L5 -> 0 | K6: ='10 - Filari'!K5 -> 235 | L6: ='11- Incolti'!K5 -> 2881846 | M6: =SUM(B6:L6) -> 3728408
A7: ='1 - Parco Urbano'!K6 -> Circoscrizione 4 | B7: ='1 - Parco Urbano'!L6 -> 323287 | C7: ='2 - Giardino Pubblico'!K14 -> 59306 | D7: ='3 - Giardino di Quartiere'!K6 -> 62468 | E7: ='4 - Sosta Alberata'!L6 -> 32750 | F7: ='5 - Verde Residenziale'!M6 -> 47021 | G7: ='6 - Verde Ornamentale'!L6 -> 14793 | H7: ='7 - Verde Stradale'!N7 -> 18736 | I7: ='8 - Verde di servizio'!K6 -> 213482.12 | J7: ='9 - Verde Speciale'!L6 -> 324975 | K7: ='10 - Filari'!K6 -> 5110 | L7: ='11- Incolti'!K6 -> 268520 | M7: =SUM(B7:L7) -> 1370448.1
A8: ='1 - Parco Urbano'!K7 -> Circoscrizione 5 | B8: ='1 - Parco Urbano'!L7 -> 0 | C8: ='2 - Giardino Pubblico'!K15 -> 7610 | D8: ='3 - Giardino di Quartiere'!K7 -> 80332 | E8: ='4 - Sosta Alberata'!L7 -> 28133 | F8: ='5 - Verde Residenziale'!M8 -> 38819 | G8: ='6 - Verde Ornamentale'!L7 -> 22576 | H8: ='7 - Verde Stradale'!N8 -> 16984 | I8: ='8 - Verde di servizio'!K7 -> 385066 | J8: ='9 - Verde Speciale'!L8 -> 2044392 | K8: ='10 - Filari'!K7 -> 9965 | L8: ='11- Incolti'!K7 -> 353817 | M8: =SUM(B8:L8) -> 2987694
A9: Municipalità Pirri | B9: ='1 - Parco Urbano'!L8 -> 114704 | C9: ='2 - Giardino Pubblico'!K16 -> 21254 | D9: ='3 - Giardino di Quartiere'!K8 -> 19831 | E9: ='4 - Sosta Alberata'!L8 -> 4872 | F9: ='5 - Verde Residenziale'!M9 -> 29545 | G9: ='6 - Verde Ornamentale'!L8 -> 10576 | H9: ='7 - Verde Stradale'!N9 -> 2787 | I9: ='8 - Verde di servizio'!K8 -> 119437 | J9: ='9 - Verde Speciale'!L9 -> 0 | K9: ='10 - Filari'!K8 -> 645 | L9: ='11- Incolti'!K8 -> 426961 | M9: =SUM(B9:L9) -> 750612
A10: TOTALI PARZIALI | B10: ='1 - Parco Urbano'!L9 -> 1090775 | C10: ='2 - Giardino Pubblico'!K17 -> 169098 | D10: ='3 - Giardino di Quartiere'!K9 -> 235859 | E10: ='4 - Sosta Alberata'!L9 -> 148359 | F10: ='5 - Verde Residenziale'!M10 -> 167861 | G10: ='6 - Verde Ornamentale'!L9 -> 114391 | H10: ='7 - Verde Stradale'!N10 -> 88223 | I10: ='8 - Verde di servizio'!K9 -> 1165494.1 | J10: ='9 - Verde Speciale'!L10 -> 2515014 | K10: ='10 - Filari'!K9 -> 23585 | L10: ='11- Incolti'!K9 -> 4849936 | M10: =SUM(B10:L10) -> 10568595
B11: Tutte le misure sono espresse in MQ | L11: Totale | N11: =SUM(B10:L10) -> 10568595
E254: CIRC O.A.: Ordinamento attuele delle circoscrizioni

Sheet Centro Storico
A1: Dato di partenza | B1: ='Riassunto per Circoscrizione'!M4 -> 466748 | D1: Circoscrizione 1
A2: Da sotrarre | B2: 225 | C2: F1.1 | D2: Viale Trieste
B3: 5277 | C3: SA 1.1 | D3: Piazza Matteotti
B4: 4611 | C4: SA 1.2 | D4: Via Roma
B5: 158 | C5: VO 1.1 | D5: Molo Sant'Agostino
B6: 72404 | C6: Tutti | D6: Incolti
B7: =B1-B2-B3-B4-B5-B6 -> 384073
B8: 1435 | D8: Totale Filari senza Viale Trieste
B9: =B7-B8 -> 382638
A11: Pirri
B12: 805 | C12: I.27
B13: 1577 | C13: I.33
B14: 1706 | C14: I.36 | D14: =SUM(B12:B14) -> 4088
B15: 245 | C15: SA.2
B16: 326 | C16: SA.3
B17: 116 | C17: VO.1
B18: 2173 | C18: S.12 | D18: =SUM(B15:B18) -> 2860
B19: =SUM(B12:B18) -> 6948

Sheet Foglio2
