Workbook

Sheet Storico 1996 2010
A2: CENSIMENTO DEL VERDE ANDAMENTO STORICO 1996 - 2010
B3: Tipologia | D3: Censimento 1996 | F3: Censimento 2006 | H3: Censimento 2009 | J3: Censimento 2010
A4: 1 | B4: PU | C4: Parco urbano | D4: 482858 | E4: MQ | F4: 843476 | G4: MQ | H4: 1089348 | I4: MQ | J4: 1089348 | K4: MQ
A5: 2 | B5: GP | C5: Giardino pubblico | D5: 105212 | E5: MQ | F5: 135973 | G5: MQ | H5: 133574 | I5: MQ | J5: 133574 | K5: MQ
A6: 3 | B6: GQ | C6: Giardino di quartiere | D6: 126574 | E6: MQ | F6: 196789 | G6: MQ | H6: 231284 | I6: MQ | J6: 224650 | K6: MQ
A7: 4 | B7: SA | C7: Sosta Alberata | D7: 110157 | E7: MQ | F7: 114787 | G7: MQ | H7: 173296 | I7: MQ | J7: 183238 | K7: MQ
A8: 5 | B8: VR | C8: Verde residenziale | D8: 159942 | E8: MQ | F8: 185907 | G8: MQ | H8: 178092 | I8: MQ | J8: 178092 | K8: MQ
A9: 6 | B9: VO | C9: Verde Ornamentale | D9: 55817 | E9: MQ | F9: 96855 | G9: MQ | H9: 124487 | I9: MQ | J9: 124487 | K9: MQ
A10: 7 | B10: V | C10: Verde Stradale | D10: 61469 | E10: MQ | F10: 65703 | G10: MQ | H10: 63243 | I10: MQ | J10: 60345 | K10: MQ
A11: 8 | B11: S | C11: Verde di Servizio | D11: 51650 | E11: MQ | F11: 1174179 | G11: MQ | H11: 1238958 | I11: MQ | J11: 1224294 | K11: MQ
A12: 9 | B12: VS | C12: Verde Speciale | D12: 1050208 | E12: MQ | F12: 1442595 | G12: MQ | H12: 2164891 | I12: MQ | J12: 2208850 | K12: MQ
A13: 10 | B13: F | C13: Filari | D13: 1837510 | E13: MQ | F13: 51247 | G13: MQ | H13: 52549 | I13: MQ | J13: 52549 | K13: MQ
A14: 11 | B14: I | C14: Incolti | D14: 1718985 | E14: MQ | F14: 2476618 | G14: MQ | H14: 5322507 | I14: MQ | J14: =+'11- Incolti'!J278 -> 1555737 | K14: MQ | L14: =J14+J15 -> 4849936
A15: 12 | B15: VP | C15: Verde di Progetto | D15: 0 | E15: MQ | F15: 0 | G15: MQ | H15: 0 | J15: =+'11- Incolti'!K278 -> 3294199 | K15: MQ
D16: =SUM(D4:D15) -> 5760382 | E16: MQ | F16: 6784129 | G16: MQ | H16: 10772229 | I16: MQ | J16: =SUM(J4:J15) -> 10329363 | K16: MQ
O21: Censimento 1996 | P21: Censimento 2006 | Q21: Censimento 2009 | R21: Censimento 2010
G220: CIRC O.A.: Ordinamento attuele delle circoscrizioni

Sheet 2020
A1: Proiezione dell'incremento del verde urbano al 2020
A4: Soglia auspicabile minima di verde totalmente fruibile (Decr. Ass. Urb. Ras 2266 del 20 dicembre 1983) | B4: 9 | C4: mq/abitante
A6: Verde totalmente fruibile: parchi urbani, giardini pubblici, giardini di quartiere e soste alberate
A8: TIPOLOGIE DI VERDE (Cagliari - 2010) | C8: SUPERFICIE (MQ)
A9: PU (Parchi Urbani) | C9: 1089348
A10: GP (Giardini Pubblici) | C10: 133574
A11: GQ (Giardini di Quartiere) | C11: 231284
A12: SA (Soste Alberate) | C12: 183238
A13: TOTALE | C13: =SUM(C9:C12) -> 1637444
A15: RESIDENTI A CAGLIARI AL 1 GENNAIO 2009 | B15: 157371 | C15: ABITANTI
A16: VERDE FRUIBILE A CAGLIARI NEL 2010 (MQ) | B16: =C13 -> 1637444 | C16: MQ
A17: VERDE FRUIBILE A CAGLIARI NEL 2010 (MQ/ABITANTE) | B17: =B16/B15 -> 10.404992 | C17: MQ/AB
A19: NATI IN UN ANNO A CAGLIARI (1 GENNAIO 2008 31 DICEMBRE 2008) | C19: 1043
A20: DECEDUTI IN UN ANNO A CAGLIARI (1 GENNAIO 2008 31 DICEMBRE 2008) | C20: 1584
A21: SALDO | C21: =C19-C20 -> -541
A22: FONTE: SERVIZI STATISTICI E DEMOGRAFICI DEL COMUNE DI CAGLIARI
A25: TASSO DI CRESCITA RESIDENTI IPOTIZZABILE IN DIECI ANNI
A26: SALDO ATTIVO DI NUOVI RESIDENTI | C26: 15000
A27: NUOVI RESIDENTI AL 2020 | C27: =C26+B15 -> 172371
A29: VERDE FRUIBILE STIMABILE AL 2020
A30: VERDE FRUIBILE A CAGLIARI NEL 2010 | C30: =C13 -> 1637444
A31: PARCO DI SU STANGIONI/SAN LORENZO | C31: 2410000
A32: TOTALE | C32: =C30+C31 -> 4047444
A35: VERDE FRUIBILE A CAGLIARI NEL 2020 (MQ) | B35: =C32 -> 4047444 | C35: MQ
A36: VERDE FRUIBILE A CAGLIARI NEL 2020 (MQ/ABITANTE) | B36: =B35/C27 -> 23.481003 | C36: MQ/AB

Sheet Verde Fruibile 1996-2009
A1: Il Verde Fruibile
A4: Soglia auspicabile minima di verde totalmente fruibile (Decr. Ass. Urb. Ras 2266 del 20 dicembre 1983) | E4: 9 | F4: mq/abitante
A6: Verde totalmente fruibile: Parchi Urbani, Giardini Pubblici, Giardini di Quartiere e Soste Alberate
A8: TIPOLOGIE DI VERDE | C8: SUPERFICIE (MQ) Anno 1996 | D8: SUPERFICIE (MQ) Anno 2006 | E8: SUPERFICIE (MQ) Anno 2009 | F8: SUPERFICIE (MQ) Anno 2010
A9: PU (Parchi Urbani) | C9: =+'Storico 1996 2010'!D4 -> 482858 | D9: =+'Storico 1996 2010'!F4 -> 843476 | E9: =+'Storico 1996 2010'!H4 -> 1089348 | F9: =+'Storico 1996 2010'!J4 -> 1089348
A10: GP (Giardini Pubblici) | C10: =+'Storico 1996 2010'!D5 -> 105212 | D10: =+'Storico 1996 2010'!F5 -> 135973 | E10: =+'Storico 1996 2010'!H5 -> 133574 | F10: =+'Storico 1996 2010'!J5 -> 133574
A11: GQ (Giardini di Quartiere) | C11: =+'Storico 1996 2010'!D6 -> 126574 | D11: =+'Storico 1996 2010'!F6 -> 196789 | E11: =+'Storico 1996 2010'!H6 -> 231284 | F11: =+'Storico 1996 2010'!J6 -> 224650
A12: SA (Soste Alberate) | C12: =+'Storico 1996 2010'!D7 -> 110157 | D12: =+'Storico 1996 2010'!F7 -> 114787 | E12: =+'Storico 1996 2010'!H7 -> 173296 | F12: =+'Storico 1996 2010'!J7 -> 183238
A13: TOTALE | C13: =SUM(C9:C12) -> 824801 | D13: =SUM(D9:D12) -> 1291025 | E13: =SUM(E9:E12) -> 1627502 | F13: =SUM(F9:F12) -> 1630810
A16: Anno di riferimento | B16: N. Abitanti
A17: 1996 | B17: 180169
A18: 2006 | B18: 159686
A19: 2009 (2008) | B19: 157722
A20: 2010 (2009) | B20: 157371
A22: Verde Fruibile (mq/abitante)
A23: 1996 | B23: =+C13/B17 -> 4.5779296 | C23: MQ/ABITANTE | D23: Inferiore alla soglia auspicabile
A24: 2006 | B24: =+D13/B18 -> 8.0847726 | C24: MQ/ABITANTE | D24: Inferiore alla soglia auspicabile
A25: 2009 | B25: =+E13/B19 -> 10.318801 | C25: MQ/ABITANTE | D25: Superiore alla soglia auspicabile
A26: 2010 | B26: =+F13/B20 -> 10.362837 | C26: MQ/ABITANTE | D26: Superiore alla soglia auspicabile

Sheet Verde Comunale e NON Comunale
A3: Verde Comunale e Verde NON Comunale - DATI 2010
A4: Parchi Urbani Comunali | J4: =+'Storico 1996 2010'!J4-'1 - Parco Urbano'!H3 -> 866819 | K4: MQ
A5: Parchi Urbani NON Comunali (Monte Claro - Provincia) | J5: =+'1 - Parco Urbano'!G3 -> 222529 | K5: MQ
A6: Verde Speciale Comunale | J6: =+'Storico 1996 2010'!J12-'9 - Verde Speciale'!G24-'9 - Verde Speciale'!G18-'9 - Verde Speciale'!G19-'9 - Verde Speciale'!G17 -> 15317 | K6: MQ
A7: Verde Speciale NON Comunale (Monte Urpinu, Sant'Elia/San Bartolomeo - Aree militari) | J7: =+'Storico 1996 2010'!J12-J6 -> 2193533 | K7: MQ
A8: Verde di Servizio Comunale | J8: =+'Storico 1996 2010'!J11-'8 - Verde di servizio'!G154 -> 1134217 | K8: MQ
A9: Verde di Servizio NON Comunale (Ospedale Binaghi - ASL/Università) | J9: =+'8 - Verde di servizio'!G154 -> 90077 | K9: MQ

Sheet 1 - Parco Urbano
A1: PARCO URBANO | J1: PARCO URBANO PER CIRCOSCRIZIONI
A2: CIRC O.A. | H2: mq | L2: mq
A3: 3 | B3: REV.PU | C3: 3. 1 | E3: MONTE CLARO | F3: MQ | G3: 222529 | H3: =SUM(G3) -> 222529 | I3: ok | K3: Circoscrizione 1 | L3: 0
K4: Circoscrizione 2 | L4: =+G9 -> 183939
A5: 3 | B5: REV.PU | C5: 6. 1 | E5: COLLE S.MICHELE | F5: MQ | G5: 246316 | H5: =SUM(G5) -> 246316 | I5: ok | K5: Circoscrizione 3 | L5: =+G3+G5 -> 468845
K6: Circoscrizione 4 | L6: =+G7+G8 -> 323287
A7: 4 | B7: REV.PU | C7: 8. 1 | E7: MONTE URPINU | F7: MQ | G7: 284597 | I7: ok | K7: Circoscrizione 5 | L7: 0
A8: 4 | B8: N.PU | C8: 8. 2 | E8: MONTE URPINU VIVAIO SERVIZIO VERDE PUBBLICO (EX CAVA COMUNALE) | F8: MQ | G8: 38690 | I8: no | K8: Municipalità di PIRRI | L8: =+G11 -> 114704
A9: 2 | B9: N.PU | C9: 8. 3 | E9: PARCO ARCHEOLOGICO DI TUVIXEDDU | F9: MQ | G9: 183939 | H9: =SUM(G7:G9) -> 507226 | I9: ok | K9: TOTALE | L9: =SUM(L3:L8) -> 1090775
A11: 6 | B11: REV.PU | C11: 11.1 | E11: PARCO TERRAMAINI | F11: MQ | G11: =113450+1254 -> 114704 | H11: =SUM(G11) -> 114704 | I11: ok
B13: TOTALE PARCO URBANO | F13: MQ | H13: =SUM(H3:H12) -> 1090775
E15: CIRC O.A.: Ordinamento attuale delle circoscrizioni

Sheet 2 - Giardino Pubblico
A1: GIARDINO PUBBLICO | J1: GIARDINO PUBBLICO PER CIRCOSCRIZIONI
A2: CIRC O.A. | H2: mq
A3: 1 | B3: GP | C3: 1. 1 | E3: VIALE BUON CAMMINO | F3: MQ | G3: 19525 | H3: =SUM(G3) -> 19525
A4: 1 | B4: N.GP | C4: 1. 2 | E4: VIALE BUON CAMMINO | F4: MQ | G4: 1440 | H4: =SUM(G4) -> 1440 | Q4: aggiunto
A6: 1 | B6: GP | C6: 3. 1 | E6: GIARDINI PUBBLICI | F6: MQ | G6: 19306 | H6: =SUM(G6) -> 19306
A8: 4 | B8: N.GP | C8: 4. 1 | E8: PARCO DELLA MUSICA | F8: MQ | G8: 36699 | H8: =SUM(G8) -> 36699 | Q8: aggiunto
A11: 4 | B11: GP | C11: 7. 1 | E11: VIA DONORATICO | F11: MQ | G11: 22607 | H11: =SUM(G11) -> 22607 | J11: Circoscrizione 1 | K11: =+G3+G4+G6+G17+G18+G19 -> 80928
J12: Circoscrizione 2 | K12: 0
A13: 4 | B13: GP | C13: 8. 1 | E13: PARCO VIDAL | F13: MQ | J13: Circoscrizione 3 | K13: 0
J14: Circoscrizione 4 | K14: =+G8+G11 -> 59306
A15: 5 | B15: GP | C15: 9. 1 | E15: CAVALLUCCIO MARINO | F15: MQ | G15: 7610 | H15: =SUM(G15) -> 7610 | J15: Circoscrizione 5 | K15: =+G15 -> 7610
J16: Municipalità di PIRRI | K16: =+G21 -> 21254
A17: 1 | B17: GP | C17: 10. 1 | E17: PIAZZA AMENDOLA | F17: MQ | G17: 1995 | J17: TOTALE | K17: =SUM(K11:K16) -> 169098
A18: 1 | B18: GP | C18: 10. 2 | E18: PARCO BONARIA | F18: MQ | G18: 14302
A19: 1 | B19: GP | C19: 10. 3 | E19: PINETA VIALE COLOMBO | F19: MQ | G19: 24360 | H19: =SUM(G17:G19) -> 40657
A21: 6 | B21: GP | C21: 11. 1 | E21: EX VETRERIA | F21: MQ | G21: 21254 | H21: =SUM(G21) -> 21254
B23: TOTALE GIARDINO PUBBLICO | F23: MQ | H23: =SUM(H3:H21) -> 169098
E25: CIRC O.A.: Ordinamento attuale delle circoscrizioni

Sheet 3 - Giardino di Quartiere
A1: GIARDINO DI QUARTIERE | J1: GIARDINO DI QUARTIERE PER CIRCOSCRIZIONI
A2: CIRC O.A. | H2: mq | K2: mq
A3: 2 | B3: GQ | C3: 2. 1 | E3: VIA TRINCEA DEI RAZZI | F3: MQ | G3: 2271 | I3: ok | J3: Circoscrizione 1 | K3: =+G64+G65+G67 -> 8362
A4: 2 | B4: REV.GQ | C4: 2. 2 | E4: VIA TRINCEA DELLE FRASCHE | F4: MQ | G4: 3792 | I4: no | J4: Circoscrizione 2 | K4: =+G3+G4+G5+G19+G20 -> 10387 | P4: corretto
A5: 2 | B5: GQ | C5: 2. 3 | E5: VIA MONTIXEDDU | F5: MQ | G5: 2803 | H5: =SUM(G3:G5) -> 8866 | I5: ok | J5: Circoscrizione 3 | K5: =+G9+G10+G11+G12+G13+G14+G15+G16+G17+G18+G21+G22+G24+G25 -> 54479
J6: Circoscrizione 4 | K6: =+G7+G27+G28+G29+G30+G31+G32+G33+G34+G36+G37+G38+G39+G40 -> 62468
A7: 4 | B7: N.GQ | C7: 4.1 | E7: VIA MANZONI - VIA CARDUCCI (PARCH. MULTIPIANO) | F7: MQ | G7: 2087 | H7: =SUM(G7) -> 2087 | I7: ok | J7: Circoscrizione 5 | K7: =+G42+G43+G44+G45+G46+G47+G48+G49+G50+G51+G52+G54+G55+G56+G57+G58+G59+G60+G61+G62+G63+G66 -> 80332
J8: Municipalità di PIRRI | K8: =+G69+G70+G71+G72+G73+G74 -> 19831
A9: 3 | B9: GQ | C9: 5. 1 | E9: PIAZZA MEDAGLIA MIRACOLOSA | F9: MQ | G9: 3688 | I9: ok | J9: TOTALE | K9: =SUM(K3:K8) -> 235859
A10: 3 | B10: GQ | C10: 5. 2 | E10: PIAZZA MUSE | F10: MQ | G10: 8204 | I10: no
A11: 3 | B11: GQ | C11: 5. 3 | E11: VIA CARPACCIO | F11: MQ | G11: 6692 | I11: ok
A12: 3 | B12: GQ | C12: 5. 4 | E12: VIA BERNINI | F12: MQ | G12: 7810 | I12: no
A13: 3 | B13: GQ | C13: 5. 5 | E13: VIA MANDROLISAI | F13: MQ | G13: 1554 | I13: ok
A14: 3 | B14: GQ | C14: 5. 6 | E14: VIA MANDROLISAI | F14: MQ | G14: 1384 | I14: ok
A15: 3 | B15: GQ | C15: 5. 7 | E15: VIA IL PERUGINO | F15: MQ | G15: 3241 | I15: no
A16: 3 | B16: GQ | C16: 5. 8 | E16: VIA BORROMINI | F16: MQ | G16: 3851 | I16: no | P16: corretto
A17: 3 | B17: GQ | C17: 5. 9 | E17: VIA GHERARDO DELLE NOTTI | F17: MQ | G17: 1596 | I17: no | P17: corretto
A18: 3 | B18: REV.GQ | C18: 5. 10 | E18: VIA CRESPELLANI | F18: MQ | G18: 3635 | I18: no | P18: corretto
A19: 2 | B19: REV.GQ | C19: 5. 11 | E19: VIA ABRUZZI | F19: MQ | G19: 1050 | I19: ok
A20: 2 | B20: REV.GQ | C20: 5. 12 | E20: VIA PREMUDA | F20: MQ | G20: 471 | I20: ok
A21: 3 | B21: N.GQ | C21: 5. 13 | E21: VIA GIOTTO | F21: MQ | G21: 567 | I21: ok
A22: 3 | B22: N.GQ | C22: 5. 14 | E22: VIA BROTZU | F22: MQ | G22: 4597 | H22: =SUM(G9:G22) -> 48340 | I22: no | P22: corretto | Q22: dicitura
A24: 3 | B24: GQ | C24: 6. 1 | E24: VIA BRIANZA | F24: MQ | G24: 6674 | I24: no
A25: 3 | B25: GQ | C25: 6. 2 | E25: VIA SAMPANTE | F25: MQ | G25: 986 | H25: =SUM(G24:G25) -> 7660 | I25: no
A27: 4 | B27: REV.GQ | C27: 7. 1 | E27: CIRCOSCRIZ. 7 -- CEP / FONSARDA | F27: MQ | G27: 2109 | I27: ok
A28: 4 | B28: GQ | C28: 7. 2 | E28: VIA FLAVIO GIOIA | F28: MQ | G28: 3321 | I28: no
A29: 4 | B29: GQ | C29: 7. 3 | E29: VIA EUCLIDE | F29: MQ | G29: 3521 | I29: no
A30: 4 | B30: GQ | C30: 7. 4 | E30: CIA ARCHIMEDE | F30: MQ | G30: 3090 | I30: no
A31: 4 | B31: GQ | C31: 7. 5 | E31: VIA CASTIGLIONE-VIA GRANDI | F31: MQ | G31: 1996 | I31: ok
A32: 4 | B32: N.GQ | C32: 7. 6 | E32: VIA BIASI | F32: MQ | G32: 1532 | I32: no | P32: aggiunto
A33: 4 | B33: N.GQ | C33: 7. 7 | E33: VIA SAN SALVATORE | F33: MQ | G33: 3719 | I33: no | P33: aggiunto
A34: 4 | B34: N.GQ | C34: 7. 8 | E34: VIALE MARCONI | F34: MQ | G34: 2185 | H34: =SUM(G27:G34) -> 21473 | I34: no | P34: aggiunto
A36: 4 | B36: GQ | C36: 8. 1 | E36: VIA OSLO | F36: MQ | G36: 13996 | I36: no | P36: corretto
A37: 4 | B37: GQ | C37: 8. 2 | E37: PIAZZA ISLANDA | F37: MQ | G37: 4306 | I37: no
A38: 4 | B38: REV.GQ | C38: 8. 3 | E38: VIA LIONE | F38: MQ | G38: 3177 | I38: ok
A39: 4 | B39: GQ | C39: 8. 4 | E39: VIA DELL' ABBAZIA | F39: MQ | G39: 3587 | I39: no
A40: 4 | B40: N.GQ | C40: 8. 5 | E40: LOTTIZZAZIONE MAGNOLIA - | F40: MQ | G40: =13842 -> 13842 | H40: =SUM(G36:G40) -> 38908 | I40: ok | P40: corretto
A42: 5 | B42: GQ | C42: 9. 1 | E42: VECCHIO BORGO S. ELIA | F42: MQ | G42: 8909 | I42: no | P42: corretto
A43: 5 | B43: GQ | C43: 9. 2 | E43: VIA FAVONIO | F43: MQ | G43: 4104 | I43: ok
A44: 5 | B44: REV.GQ | C44: 9. 3 | E44: VIA DEL POZZETTO | F44: MQ | G44: =4637 -> 4637 | I44: ok | P44: corretto
A45: 5 | B45: GQ | C45: 9. 4 | E45: VIA AUSONIA | F45: MQ | G45: 5737 | I45: ok
A46: 5 | B46: REV.GQ | C46: 9. 5 | E46: VIA DEI MONSONI | F46: MQ | G46: 7995 | I46: no
A47: 5 | B47: REV.GQ | C47: 9. 6 | E47: VIA GHIBLI | F47: MQ | G47: 1344 | I47: no
A48: 5 | B48: REV.GQ | C48: 9. 7 | E48: VIA S'ARRULLONI | F48: MQ | G48: 2304 | I48: no
A49: 5 | B49: REV.GQ | C49: 9. 8 | E49: VIA DELLE RONDINI | F49: MQ | G49: 1607 | I49: ok
A50: 5 | B50: N.GQ | C50: 9. 9 | E50: VIALE POETTO | F50: MQ | G50: 2727 | I50: no
A51: 5 | B51: N.GQ | C51: 9. 10 | E51: VIA DEL SOLE | F51: MQ | G51: 3245 | I51: ok | P51: corretto
A52: 5 | B52: N.GQ | C52: 9. 11 | E52: SANT'ELIA | F52: MQ | G52: 4117 | H52: =SUM(G42:G52) -> 46726 | I52: ok
A54: 5 | B54: GQ | C54: 10. 1 | E54: VIA PESSAGNO | F54: MQ | G54: 5387 | I54: ok
A55: 5 | B55: GQ | C55: 10. 2 | E55: BUNKER MONTE MIXI | F55: MQ | G55: 5407 | I55: ok
A56: 5 | B56: REV.GQ | C56: 10. 3 | E56: VIA CURIE | F56: MQ | G56: 1852 | I56: no | P56: corretto
A57: 5 | B57: GQ | C57: 10. 4 | E57: VIA CAGNA | F57: MQ | G57: 4138 | I57: ok | P57: corretto
A58: 5 | B58: GQ | C58: 10. 5 | E58: VIA DARWIN (Via Freud) | F58: MQ | G58: 3656 | I58: no
A59: 5 | B59: REV.GQ | C59: 10. 6 | E59: VIA FRACASTORO | F59: MQ | G59: 2779 | I59: ok
A60: 5 | B60: GQ | C60: 10. 7 | E60: VIA IS GUADAZZONIS | F60: MQ | G60: 2492 | I60: ok
A61: 5 | B61: GQ | C61: 10. 8 | E61: VIA GROSSETO | F61: MQ | G61: 3062 | I61: no | P61: corretto
A62: 5 | B62: REV.GQ | C62: 10. 9 | E62: VIA DEI SALINIERI | F62: MQ | G62: 3263 | I62: ok
A63: 5 | B63: GQ | C63: 10. 10 | E63: VIA IS GUADAZZONIS | F63: MQ | G63: 0 | I63: ok | P63: corretto
A64: 1 | B64: REV.GQ | C64: 10. 11 | E64: VIA CABONI-VIA RAVENNA | F64: MQ | G64: 3187 | I64: ok
A65: 1 | B65: GQ | C65: 10. 12 | E65: PARCO RIMEMBRANZE | F65: MQ | G65: 4617 | I65: ok
A66: 5 | B66: N.GQ | C66: 10. 13 | E66: VIA PASTEUR | F66: MQ | G66: 1570 | I66: ok
A67: 1 | B67: N.GQ | C67: 10. 14 | E67: VIA RAVENNA | F67: MQ | G67: 558 | H67: =SUM(G54:G67) -> 41968 | I67: ok | P67: tolto
A69: 6 | B69: GQ | C69: 11. 1 | E69: PIAZZA ERACLITO | F69: MQ | G69: 2123 | I69: ok | P69: corretto
A70: 6 | B70: GQ | C70: 11. 2 | E70: VIA GRILLI | F70: MQ | G70: 1137 | I70: no | P70: corretto
A71: 6 | B71: GQ | C71: 11. 3 | E71: PIAZZA CIMITERO | F71: MQ | G71: 6922 | I71: ok
A72: 6 | B72: GQ | C72: 11. 4 | E72: VIA DEL TRICOLORE | F72: MQ | G72: 4600 | I72: no | P72: corretto
A73: 6 | B73: N.GQ | C73: 11. 5 | E73: CIMITERO DI PIRRI | F73: MQ | G73: 2848 | I73: ok
A74: 6 | B74: N.GQ | C74: 11. 6 | E74: VIA DEL RISORGIMENTO | F74: MQ | G74: 2201 | H74: =SUM(G69:G74) -> 19831 | I74: ok | P74: aggiunto
A76: TOTALE GIARDINO DI QUARTIERE | F76: MQ | H76: =SUM(H5:H74) -> 235859 | N76: =SUM(N5:N73) -> 0
E78: CIRC O.A.: Ordinamento attuale delle circoscrizioni
E261: CIRC O.A.: Ordinamento attuele delle circoscrizioni

Sheet 4 - Sosta Alberata
B1: SOSTA ALBERATA | K1: SOSTA ALBERATA PER CIRCOSCRIZIONI
A2: CIRC O.A. | H2: mq | L2: mq
A3: 1 | B3: SA | C3: 1. 1 | E3: VIA ROMA | F3: MQ | G3: 5277 | K3: Circoscrizione 1 | L3: =+G3+G4+G5+G6+G7+G8+G9+G10+G11+G12+G13+G22+G23+G24+G25+G26+G28+G68+G69+G70+G72+G73+G76+G78 -> 57436
A4: 1 | B4: SA | C4: 1. 2 | E4: PIAZZA MATTEOTTI | F4: MQ | G4: 4611 | K4: Circoscrizione 2 | L4: =+G15+G16+G17+G18+G19+G20+G36 -> 19929
A5: 1 | B5: SA | C5: 1. 3 | E5: PIAZZA DEL CARMINE | F5: MQ | G5: 6026 | K5: Circoscrizione 3 | L5: =+G37+G38+G40+G41+G42 -> 5239 | P5: cambiato
A6: 1 | B6: SA | C6: 1. 4 | E6: VIA S. EULALIA | F6: MQ | G6: 914 | K6: Circoscrizione 4 | L6: =+G29+G30+G31+G32+G33+G34+G44+G46+G47+G48+G49+G71+G77 -> 32750
A7: 1 | B7: SA | C7: 1. 5 | E7: PIAZZA S.SEPOLCRO | F7: MQ | G7: 412 | K7: Circoscrizione 5 | L7: =+G51+G52+G53+G54+G55+G56+G57+G58+G59+G60+G61+G62+G63+G64+G65+G66+G74+G75 -> 28133
A8: 1 | B8: SA | C8: 1. 6 | E8: VIA BAYLLE | F8: MQ | G8: 396 | K8: Municipalità di PIRRI | L8: =+G80+G81+G82+G83+G84+G85 -> 4872
A9: 1 | B9: SA | C9: 1. 7 | E9: PIAZZA JENNE | F9: MQ | G9: 1182 | K9: TOTALE | L9: =SUM(L3:L8) -> 148359
A10: 1 | B10: SA | C10: 1. 8 | E10: BASTIONE S. REMY | F10: MQ | G10: 6395
A11: 1 | B11: SA | C11: 1. 9 | E11: VIA FOSSARIO | F11: MQ | G11: 242
A12: 1 | B12: SA | C12: 1.10 | E12: BASTIONE S.CROCE | F12: MQ | G12: 961 | P12: cambiato
A13: 1 | B13: N.SA | C13: 1.11 | E13: PIAZZA SAVOIA | F13: MQ | G13: 182 | H13: =SUM(G3:G13) -> 26598 | P13: aggiunta
A15: 2 | B15: SA | C15: 2. 1 | E15: PIAZZA TRENTO | F15: MQ | G15: 1389
A16: 2 | B16: N.SA | C16: 2. 2 | E16: VIA SANTA GILLA - I FENICOTTERI | F16: MQ | G16: 7752
A17: 2 | B17: N.SA | C17: 2. 3 | E17: VIA MONTENERO | F17: MQ | G17: 334 | P17: aggiunta
A18: 2 | B18: N.SA | C18: 2. 4 | E18: VIA NICOLODI | F18: MQ | G18: 1318 | P18: aggiunta
A19: 2 | B19: N.SA | C19: 2. 5 | E19: PIAZZA SAN MICHELE | F19: MQ | G19: 1594 | P19: aggiunto
A20: 2 | B20: N.SA | C20: 2. 6 | E20: VIALE BUOCAMMINO | F20: MQ | G20: 1361 | H20: =SUM(G15:G20) -> 13748 | P20: aggiunto
A22: 1 | B22: SA | C22: 3. 1 | E22: PIAZZA COSTITUZIONE | F22: MQ | G22: 278
A23: 1 | B23: SA | C23: 3. 2 | E23: PIAZZA MARGHINOTTI | F23: MQ | G23: 748
A24: 1 | B24: SA | C24: 3. 3 | E24: VIALE REGINA ELENA | F24: MQ | G24: 9185
A25: 1 | B25: SA | C25: 3. 4 | E25: PIAZZA S.DOMENICO | F25: MQ | G25: 543
A26: 1 | B26: SA | C26: 3. 5 | E26: VIA S.ROCCO | F26: MQ | G26: 183 | H26: =SUM(G22:G26) -> 10937
A28: 1 | B28: SA | C28: 4. 1 | E28: PIAZZA GARIBALDI | F28: MQ | G28: 2632
A29: 4 | B29: SA | C29: 4. 2 | E29: PIAZZA GALILEO GALILEI | F29: MQ | G29: 2444
A30: 4 | B30: SA | C30: 4. 3 | E30: VIA DONIZETTI | F30: MQ | G30: 341
A31: 4 | B31: SA | C31: 4. 4 | E31: VIA CAVALCANTI | F31: MQ | G31: 264
A32: 4 | B32: SA | C32: 4. 5 | E32: PIAZZA MICHELANGELO | F32: MQ | G32: 2625
A33: 4 | B33: SA | C33: 4. 6 | E33: PIAZZA GIOVANNI XXIII | F33: MQ | G33: 15819
A34: 4 | B34: N.SA | C34: 4. 7 | E34: PARCO DELLA MUSICA | F34: MQ | G34: 0 | H34: =SUM(G28:G34) -> 24125 | P34: tolto
A36: 2 | B36: SA | C36: 5. 1 | E36: PIAZZA S.MICHELE | F36: MQ | G36: 6181
A37: 3 | B37: N.SA | C37: 5. 2 | E37: VIA PIERO DELLA FRANCESCA | F37: MQ | G37: 1136
A38: 3 | B38: N.SA | C38: 5. 3 | E38: VIA SINI | F38: MQ | G38: 1282 | H38: =SUM(G36:G38) -> 8599 | P38: aggiunta
A40: 3 | B40: SA | C40: 6. 1 | E40: VIA PERTUSOLA | F40: MQ | G40: 805
A41: 3 | B41: SA | C41: 6. 2 | E41: TRAVERSA IS MIRRIONIS | F41: MQ | G41: 1224 | P41: cambiato
A42: 3 | B42: N.SA | C42: 6. 3 | E42: VIA PARRAGUEZ | F42: MQ | G42: 792 | H42: =SUM(G40:G42) -> 2821 | P42: aggiunta
A44: 4 | B44: SA | C44: 7. 1 | E44: VIALE MARCONI | F44: MQ | G44: 984 | H44: =SUM(G44) -> 984
A46: 4 | B46: SA | C46: 8. 1 | E46: VIA PESSINA | F46: MQ | G46: 854
A47: 4 | B47: SA | C47: 8. 2 | E47: VIA BERNA | F47: MQ | G47: 1635
A48: 4 | B48: SA | C48: 8. 3 | E48: PIAZZA PADRE PIO | F48: MQ | G48: 889
A49: 4 | B49: SA | C49: 8. 4 | E49: LARGO GENNARI | F49: MQ | G49: 1871 | H49: =SUM(G46:G49) -> 5249
A51: 5 | B51: REV.SA | C51: 9. 1 | E51: VIA SCHIAVAZZI | F51: MQ | G51: 2114
A52: 5 | B52: REV.SA | C52: 9. 2 | E52: VIA AFRICO | F52: MQ | G52: 2402
A53: 5 | B53: SA | C53: 9. 3 | E53: VIA ASTROLABIO | F53: MQ | G53: 1362
A54: 5 | B54: SA | C54: 9. 4 | E54: VIA SCIROCCO | F54: MQ | G54: 853
A55: 5 | B55: SA | C55: 9. 5 | E55: VIA SESTANTE | F55: MQ | G55: 1507
A56: 5 | B56: SA | C56: 9. 6 | E56: VIA PANTELLERIA | F56: MQ | G56: 842
A57: 5 | B57: SA | C57: 9. 7 | E57: VIA DEL POZZETTO | F57: MQ | G57: 0 | P57: tolto
A58: 5 | B58: SA | C58: 9. 8 | E58: VIA DEL SOLE | F58: MQ | G58: 0 | P58: tolto
A59: 5 | B59: REV.SA | C59: 9. 9. | E59: VIA VULCANO (Via Ausonia, chiesa) | F59: MQ | G59: 5727
A60: 5 | B60: SA | C60: 9.10 | E60: PIAZZA EURO | F60: MQ | G60: 2347
A61: 5 | B61: SA | C61: 9.11 | E61: PIAZZA S.BARTOLOMEO | F61: MQ | G61: 2191
A62: 5 | B62: REV.N.SA | C62: 9.12 | E62: LAZZARETTO S. ELIA | F62: MQ | G62: 0 | P62: tolto
A63: 5 | B63: N.SA | C63: 9.13 | E63: LAZZARETTO S. ELIA (PALME) | F63: MQ | G63: 5696 | P63: corretto
A64: 5 | B64: N.SA | C64: 9.14 | E64: VIA S'ARRULLONI | F64: MQ | G64: 691 | P64: aggiunta
A65: 5 | B65: N.SA | C65: 9.15 | E65: VIA DEL POZZETTO | F65: MQ | G65: 176 | P65: aggiunta
A66: 5 | B66: N.SA | C66: 9.16 | E66: VIA PROCIDA | F66: MQ | G66: 543 | H66: =SUM(G51:G66) -> 26451 | P66: aggiunta
A68: 1 | B68: SA | C68: 10. 1 | E68: DARSENA | F68: MQ | G68: 3137
A69: 1 | B69: SA | C69: 10. 2 | E69: GIARDINETTO DI VIALE BONARIA | F69: MQ | G69: 1630
A70: 1 | B70: SA | C70: 10. 3 | E70: PIAZZA GRAMSCI ANTONIO | F70: MQ | G70: 1011
A71: 4 | B71: SA | C71: 10. 4 | E71: PIAZZA REPUBBLICA | F71: MQ | G71: 232
A72: 1 | B72: SA | C72: 10. 5 | E72: VIA QUESADA | F72: MQ | G72: 271
A73: 1 | B73: REV.SA | C73: 10. 6 | E73: PIAZZA MAXIA | F73: MQ | G73: 1727
A74: 5 | B74: SA | C74: 10. 7 | E74: PIAZZA CAMBOSU | F74: MQ | G74: 624
A75: 5 | B75: SA | C75: 10. 8 | E75: VIA DELLA PINETA | F75: MQ | G75: 1058
A76: 1 | B76: SA | C76: 10.9 | E76: PIAZZA SAN COSIMO | F76: MQ | G76: 4311
A77: 4 | B77: N.SA | C77: 10.10 | E77: VIA AMAT | F77: MQ | G77: 4792 | P77: aggiunta
A78: 1 | B78: N.SA | C78: 10.11 | E78: VIALE BONARIA | F78: MQ | G78: 5182 | H78: =SUM(G68:G78) -> 23975 | P78: aggiunta
A80: 6 | B80: SA | C80: 11. 1 | E80: VIA MONTECASSINO | F80: MQ | G80: 941 | P80: corretto
A81: 6 | B81: SA | C81: 11. 2 | E81: VIA S.MARIA CHIARA | F81: MQ | G81: 245
A82: 6 | B82: SA | C82: 11. 3 | E82: PIAZZA ITALIA | F82: MQ | G82: 326
A83: 6 | B83: N.SA | C83: 11. 4 | E83: VIA POERIO | F83: MQ | G83: 434 | P83: aggiunta
A84: 6 | B84: N.SA | C84: 11. 5 | E84: VIA MONTECASSINO | F84: MQ | G84: 1236 | P84: aggiunta
A85: 6 | B85: N.SA | C85: 11. 6 | E85: VIA FOSSE ARDEATINE | F85: MQ | G85: 1690 | H85: =SUM(G80:G85) -> 4872 | P85: aggiunta
A87: TOTALE SOSTA ALBERATA | F87: MQ | H87: =SUM(H13:H85) -> 148359
E89: CIRC O.A.: Ordinamento attuale delle circoscrizioni
E271: CIRC O.A.: Ordinamento attuele delle circoscrizioni

Sheet 5 - Verde Residenziale
A1: VERDE RESIDENZIALE | L1: VERDE RESIDENZIALE PER CIRCOSCRIZIONI
A2: CIRC O.A. | H2: mq | M2: mq
A3: 2 | B3: REV.VR | C3: 2. 1 | E3: VIA CASTELLI | F3: MQ | G3: =4004+421+4852 -> 9277 | L3: Circoscrizione 1 | M3: =+G9+G10+G11+G12+G92+G93+G94+G103 -> 7843
A4: 2 | B4: VR | C4: 2. 2 | E4: VIA BLIGNY | F4: MQ | G4: 337 | L4: Circoscrizione 2 | M4: =+H7 -> 10579
A5: 2 | B5: VR | C5: 2. 3 | E5: VIA MONTENERO | F5: MQ | G5: 323 | L5: Circoscrizione 3 | M5: =+G13+G14+G15+G16+G18+G19+G20+G21+G22+G23+G24+G26+G27+G28+G29+G30+G32+G33+G34+G35+G36+G38+G39+G40+G41 -> 34054
A6: 2 | B6: VR | C6: 2. 4 | E6: VIA ARGONNE | F6: MQ | G6: 0 | L6: Circoscrizione 4 | M6: =G43+G44+G45+G46+G47+G48+G49+G50+G51+G52+G53+G54+G56+G57+G58+G59+G60+G61+G62+G63+G64+G65+G66+G67+G68+G69+G70+G71+G72+G73+G95 -> 47021 | N6: tolto
A7: 2 | B7: N.VR | C7: 2. 5 | E7: VIA COL D'ECHELE | F7: MQ | G7: 642 | H7: =SUM(G3:G7) -> 10579 | N7: aggiunto
L8: Circoscrizione 5 | M8: =+G75+G76+G77+G78+G79+G80+G81+G82+G83+G84+G85+G86+G87+G88+G89+G90+G96+G97+G98+G99+G100+G101+G102+G104 -> 38819
A9: 1 | B9: VR | C9: 3. 1 | E9: PIAZZA MAREMMA | F9: MQ | G9: 138 | L9: Municipalità di PIRRI | M9: =+H128 -> 29545
A10: 1 | B10: VR | C10: 3. 2 | E10: PIAZZA SALENTO | F10: MQ | G10: 515 | L10: TOTALE | M10: =SUM(M3:M9) -> 167861
A11: 1 | B11: VR | C11: 3. 3 | E11: PIAZZA IRPINIA | F11: MQ | G11: 1734 | N11: corretto
A12: 1 | B12: VR | C12: 3. 4 | E12: VIA GARFAGNANA | F12: MQ | G12: 944
A13: 3 | B13: VR | C13: 3. 5 | E13: VIA CAMPANIA | F13: MQ | G13: 200
A14: 3 | B14: VR | C14: 3. 6 | E14: VIA MATTEI | F14: MQ | G14: 578
A15: 3 | B15: VR | C15: 3. 7 | E15: VIA BALESTRA | F15: MQ | G15: 1659
A16: 3 | B16: VR | C16: 3. 8 | E16: VIA ALEO | F16: MQ | G16: 139 | H16: =SUM(G9:G16) -> 5907 | N16: corretto
A18: 3 | B18: VR | C18: 5. 1 | E18: VIA GIOTTO | F18: MQ | G18: 2662
A19: 3 | B19: VR | C19: 5. 2 | E19: VIA DESSI' DELIPERI | F19: MQ | G19: 0 | N19: tolto
A20: 3 | B20: VR | C20: 5. 3 | E20: VIA ASQUER | F20: MQ | G20: 2151
A21: 3 | B21: VR | C21: 5. 4 | E21: VIA BROTZU | F21: MQ | G21: 866
A22: 3 | B22: VR | C22: 5. 5 | E22: VIA DE MARTIS | F22: MQ | G22: 2632
A23: 3 | B23: VR | C23: 5. 6 | E23: VIA MASACCIO | F23: MQ | G23: 2325
A24: 3 | B24: VR | C24: 5. 7 | E24: VIA CRESPELLANI | F24: MQ | G24: 2307
A25: 3 | B25: VR | C25: 5. 8 | E25: VIA ABRUZZI | F25: MQ
A26: 3 | B26: VR | C26: 5. 9 | E26: VIA DE MARTIS | F26: MQ | G26: 975
A27: 3 | B27: VR | C27: 5. 10 | E27: PIAZZA DELLE ARTI | F27: MQ | G27: 1194
A28: 3 | B28: VR | C28: 5. 11 | E28: VIA BERNINI | F28: MQ | G28: 1827
A29: 3 | B29: VR | C29: 5. 12 | E29: PIAZZA DEGLI SFORZA | F29: MQ | G29: 2106
A30: 3 | B30: VR | C30: 5. 13 | E30: VIA TIEPOLO | F30: MQ | G30: 1291 | H30: =SUM(G18:G30) -> 20336
A32: 3 | B32: VR | C32: 6. 1 | E32: VIA CINQUINI | F32: MQ | G32: 4680 | N32: corretto
A33: 3 | B33: VR | C33: 6. 2 | E33: VIA JENNER | F33: MQ | G33: 368
A34: 3 | B34: VR | C34: 6. 3 | E34: PIAZZA ESQUIVEL | F34: MQ | G34: 3919
A35: 3 | B35: VR | C35: 6. 4 | E35: VIA CORNALIAS | F35: MQ | G35: 443
A36: 3 | B36: VR | C36: 6. 5 | E36: VIA CODROIPO | F36: MQ
B37: VR | C37: 6. 6 | E37: VIA MANDROLISAI | F37: MQ
A38: 3 | B38: VR | C38: 6. 7 | E38: VIA DEI FALLETTI | F38: MQ | G38: 936
A39: 3 | B39: N.VR | C39: 6. 8 | E39: VIA DEL SEMINARIO | F39: MQ | G39: 170 | N39: aggiunto
A40: 3 | B40: N.VR | C40: 6. 9 | E40: VIA PARRAGUEZ | F40: MQ | G40: 178 | N40: aggiunto
A41: 3 | B41: N.VR | C41: 6. 10 | E41: VIA PARRAGUEZ | F41: MQ | G41: 448 | H41: =SUM(G32:G41) -> 11142 | N41: aggiunto
A43: 4 | B43: VR | C43: 7. 1 | E43: PIAZZA BAEZZA | F43: MQ | G43: 1317
A44: 4 | B44: VR | C44: 7. 2 | E44: VIA G. DELLA CASA | F44: MQ | G44: 3146
A45: 4 | B45: VR | C45: 7. 3 | E45: VIA MOSCA | F45: MQ | G45: 91
A46: 4 | B46: VR | C46: 7. 4 | E46: VIA RUFFINI - ARCHIMEDE | F46: MQ | G46: 2523
A47: 4 | B47: VR | C47: 7. 5 | E47: VIA ARCHIMEDE | F47: MQ | G47: 2944
A48: 4 | B48: VR | C48: 7. 6 | E48: PIAZZA PITAGORA | F48: MQ | G48: 3435
A49: 4 | B49: VR | C49: 7. 7 | E49: VIA GIOIA FLAVIO | F49: MQ | G49: 4176
A50: 4 | B50: VR | C50: 7. 8 | E50: VIA AVOGADRO | F50: MQ | G50: 5293
A51: 4 | B51: VR | C51: 7. 9 | E51: VIA TALETE | F51: MQ
A52: 4 | B52: VR | C52: 7.10 | E52: VIA MEDAGLIE D'ORO | F52: MQ | G52: 1364
A53: 4 | B53: N.VR | C53: 7. 11 | E53: VIA PARUTA | F53: MQ | G53: 562 | N53: aggiunto
A54: 4 | B54: N.VR | C54: 7. 12 | E54: VIA CATTANEO | F54: MQ | G54: 2701 | H54: =SUM(G43:G54) -> 27552 | N54: aggiunto
A56: 4 | B56: VR | C56: 8. 1 | E56: VIA OSLO | F56: MQ | G56: 296
A57: 4 | B57: VR | C57: 8. 2 | E57: PIAZZA SPAGNA | F57: MQ | G57: 417
A58: 4 | B58: VR | C58: 8. 3 | E58: PIAZZA BELGIO | F58: MQ | G58: 443
A59: 4 | B59: VR | C59: 8. 4 | E59: PIAZZA LUSSEMBURGO | F59: MQ | G59: 397
A60: 4 | B60: VR | C60: 8. 5 | E60: VIA OSLO - STOCCOLMA | F60: MQ | G60: 3950
A61: 4 | B61: VR | C61: 8. 6 | E61: PIAZZA SVIZZERA | F61: MQ | G61: 489
A62: 4 | B62: VR | C62: 8. 7 | E62: PIAZZA FRANCIA | F62: MQ | G62: 450
A63: 4 | B63: VR | C63: 8. 8 | E63: PIAZZA OLANDA | F63: MQ | G63: 426
A64: 4 | B64: VR | C64: 8. 9 | E64: VIA COSTANTINOPOLI | F64: MQ | G64: 1213
A65: 4 | B65: VR | C65: 8. 10 | E65: VIA ZAGABRIA | F65: MQ | G65: 3193 | N65: corretto
A66: 4 | B66: VR | C66: 8. 11 | E66: VIA CETTIGNE | F66: MQ | G66: 465 | N66: corretto
A67: 4 | B67: VR | C67: 8. 12 | E67: PIAZZA MARSIGLIA | F67: MQ | G67: 330
A68: 4 | B68: VR | C68: 8. 13 | E68: VIA GALVANI | F68: MQ | G68: 1934
A69: 4 | B69: VR | C69: 8. 14 | E69: VIA ANDORRA | F69: MQ | G69: 814
A70: 4 | B70: VR | C70: 8. 15 | E70: VIA TEL AVIV | F70: MQ | G70: 1670
A71: 4 | B71: VR | C71: 8. 16 | E71: VIA CETTIGNE | F71: MQ | G71: 965 | N71: corretto
A72: 4 | B72: VR | C72: 8. 17 | E72: VIA CETTIGNE | F72: MQ | G72: 918 | N72: corretto
A73: 4 | B73: N.VR | C73: 8. 18 | E73: VIA BERLINO | F73: MQ | G73: 777 | H73: =SUM(G56:G73) -> 19147 | N73: aggiunto
A75: 5 | B75: VR | C75: 9. 1 | E75: VIA SCHIAVAZZI | F75: MQ | G75: 2987
A76: 5 | B76: VR | C76: 9. 2 | E76: PIAZZA SILESU | F76: MQ | G76: 747
A77: 5 | B77: VR | C77: 9. 3 | E77: VIA SCHIAVAZZI | F77: MQ | G77: 0 | N77: tolto
A78: 5 | B78: VR | C78: 9. 4 | E78: PIAZZA FALCHI | F78: MQ | G78: 692
A79: 5 | B79: VR | C79: 9. 5 | E79: PIAZZA DEMURO | F79: MQ | G79: 3432
A80: 5 | B80: VR | C80: 9. 6 | E80: VIA MAGELLANO | F80: MQ | G80: 581 | N80: corretto
A81: 5 | B81: VR | C81: 9. 7 | E81: NUOVO BORGO S. ELIA | F81: MQ | G81: 14507
A82: 5 | B82: VR | C82: 9. 8 | E82: VECCHIO BORGO S. ELIA | F82: MQ | G82: 3519 | N82: corretto
A83: 5 | B83: VR | C83: 9. 9 | E83: PIAZZA ORSA MAGGIORE | F83: MQ | G83: 256
A84: 5 | B84: VR | C84: 9.10 | E84: PIAZZA NINFEE | F84: MQ | G84: 256
A85: 5 | B85: VR | C85: 9.11 | E85: PIAZZA ALDEBARAN | F85: MQ | G85: 266
A86: 5 | B86: VR | C86: 9.12 | E86: PIAZZA SIRIO | F86: MQ | G86: 261
A87: 5 | B87: VR | C87: 9.13 | E87: VIA FAVONIO | F87: MQ | G87: 256
A88: 5 | B88: VR | C88: 9.14 | E88: VIA DEI TRITONI | F88: MQ | G88: 1302
A89: 5 | B89: VR | C89: 9.15 | E89: VIA DEL POZZETTO | F89: MQ | G89: 652
A90: 5 | B90: N.VR | C90: 9.16 | E90: VIA DEL POZZETTO | F90: MQ | G90: 603 | H90: =SUM(G75:G90) -> 30317 | N90: aggiunto
A92: 1 | B92: VR | C92: 10. 1 | E92: VIA NUORO | F92: MQ | G92: 198
A93: 1 | B93: VR | C93: 10. 2 | E93: VIA QUESADA | F93: MQ | G93: 2120
A94: 1 | B94: VR | C94: 10. 3 | E94: VIA CABONI | F94: MQ | G94: 1540
A95: 4 | B95: VR | C95: 10. 4 | E95: VIA RAFFA GARZIA | F95: MQ | G95: 322
A96: 5 | B96: VR | C96: 10. 5 | E96: VIA FIRENZE | F96: MQ | G96: 294
A97: 5 | B97: VR | C97: 10. 6 | E97: VIA MACERATA | F97: MQ | G97: 1069
A98: 5 | B98: VR | C98: 10. 7 | E98: VIA PESARO | F98: MQ | G98: 1366
A99: 5 | B99: VR | C99: 10. 8 | E99: VIA MORGAGNI | F99: MQ | G99: 2082
A100: 5 | B100: VR | C100: 10. 9 | E100: VIA DARWIN | F100: MQ | G100: 228
A101: 5 | B101: VR | C101: 10.10 | E101: VIA IS GUAZZONIS | F101: MQ | G101: 269
A102: 5 | B102: VR | C102: 10.11 | E102: VIA MALPIGHI | F102: MQ | G102: 571
A103: 1 | B103: N.VR | C103: 10.12 | E103: VIA RAVENNA | F103: MQ | G103: 654 | N103: aggiunto
A104: 5 | B104: N.VR | C104: 10.13 | E104: VIA SA PERDA BIANCA | F104: MQ | G104: 2623 | H104: =SUM(G92:G104) -> 13336 | N104: aggiunto
A106: 6 | B106: VR | C106: 11. 1 | E106: VIA BACONE | F106: MQ | G106: 2076
A107: 6 | B107: VR | C107: 11. 2 | E107: VIA S. TOMMASO D'AQUINO | F107: MQ | G107: 268
...

Sheet 6 - Verde Ornamentale
A1: VERDE ORNAMENTALE | K1: VERDE ORNAMENTALE PER CIRCOSCRIZIONI
A2: CIRC O.A. | H2: mq | L2: mq
A3: 1 | B3: VO | C3: 1. 1 | E3: MOLO SANT'AGOSTINO | F3: MQ | G3: 158 | K3: Circoscrizione 1 | L3: =+H20+G32+G33+G34+G41+G84+G85+G86+G87+G88+G95+G96+G98+G38+G100+G101 -> 25021 | P3: corretto
A4: 1 | B4: VO | C4: 1. 2 | E4: LARGO CARLO FELICE | F4: MQ | G4: 174 | K4: Circoscrizione 2 | L4: =+H30+G51+G52 -> 8584
A5: 1 | B5: VO | C5: 1. 3 | E5: VIA MANNO | F5: MQ | G5: 2 | K5: Circoscrizione 3 | L5: =+G35+G36+G37+G39+G47+G48+G49+G50+G53+G54+G55+G57+G58+G59+G60+G61 -> 32841
A6: 1 | B6: VO | C6: 1. 4 | E6: PIAZZA MAZZINI | F6: MQ | G6: 61 | K6: Circoscrizione 4 | L6: =+G42+G43+G44+G45+G63+G64+G65+G66+G67+G69+G71+G90+G92+G93+G70+G72+G73+G94 -> 14793
A7: 1 | B7: VO | C7: 1. 5 | E7: BASTIONE S. REMY | F7: MQ | G7: 207 | K7: Circoscrizione 5 | L7: =+G75+G76+G77+G78+G79+G80+G81+G82+G89+G91+G97+G99 -> 22576
A8: 1 | B8: VO | C8: 1. 6 | E8: VIA CAMMINO NUOVO | F8: MQ | G8: 715 | K8: Municipalità di PIRRI | L8: =+H114 -> 10576 | S8: =SUM(L8:M8) -> 10576 | T8: =+S8-H116 -> -103815
A9: 1 | B9: VO | C9: 1. 7 | E9: PIAZZA LODDO | F9: MQ | G9: 89 | K9: TOTALE | L9: =SUM(L3:L8) -> 114391
A10: 1 | B10: VO | C10: 1. 8 | E10: VIA ANFITEATRO | F10: MQ | G10: 197
A11: 1 | B11: VO | C11: 1. 9 | E11: VIA PORCELL | F11: MQ | G11: 1463
A12: 1 | B12: VO | C12: 1. 10 | E12: VIA FIUME | F12: MQ | G12: 623
A13: 1 | B13: VO | C13: 1. 11 | E13: PIAZZA INDIPENDENZA | F13: MQ | G13: 82
A14: 1 | B14: VO | C14: 1. 12 | E14: PIAZZA ARSENALE | F14: MQ | G14: 96
A15: 1 | B15: VO | C15: 1. 13 | E15: VIALE BUON CAMMINO | F15: MQ | G15: 3068
A16: 1 | B16: VO | C16: 1. 14 | E16: VIALE BUON CAMMINO | F16: MQ | G16: 1805
A17: 1 | B17: VO | C17: 1. 15 | E17: CORSO VITTORIO EMANUELE | F17: MQ | G17: 1300
A18: 1 | B18: N.VO | C18: 1. 16 | E18: VIA CAMMINO NUOVO | F18: MQ | G18: 840 | P18: aggiunto
A19: 1 | B19: N.VO | C19: 1. 17 | E19: VIA CAMMINO NUOVO | F19: MQ | G19: 2478 | P19: aggiunto
A20: 1 | B20: N.VO | C20: 1. 18 | E20: VIA SPANO | F20: MQ | G20: 5 | H20: =SUM(G3:G20) -> 13363 | P20: aggiunto
A22: 2 | B22: VO | C22: 2. 1 | E22: VIA MAMELI | F22: MQ | G22: 0 | P22: tolto
A23: 2 | B23: VO | C23: 2. 2 | E23: VIA ROVERETO | F23: MQ | G23: 1005
A24: 2 | B24: VO | C24: 2. 3 | E24: VIA NICOLODI | F24: MQ | G24: 0 | P24: tolto
A25: 2 | B25: VO | C25: 2. 4 | E25: PIAZZA S.AVENDRACE | F25: MQ | G25: 436 | P25: corretto
A26: 2 | B26: VO | C26: 2. 5 | E26: VIA TRINCEA DEI RAZZI | F26: MQ | G26: 884
A27: 2 | B27: VO | C27: 2. 6 | E27: PIAZZA S.MICHELE | F27: MQ | G27: 0 | P27: tolto
A28: 2 | B28: VO | C28: 2. 7 | E28: ROTONDA S.GILLA | F28: MQ | G28: 868
A29: 2 | B29: REV.VO | C29: 2. 8 | E29: VIA SIMETO | F29: MQ | G29: 218 | P29: corretto
A30: 2 | B30: N.VO | C30: 2. 9 | E30: ROTONDA LOTTIZZAZIONE I FENICOTTERI | F30: MQ | G30: 1278 | H30: =SUM(G22:G30) -> 4689
A32: 1 | B32: VO | C32: 3. 1 | E32: PIAZZA COSTITUZIONE | F32: MQ | G32: 85
A33: 1 | B33: VO | C33: 3. 2 | E33: VIALE REGINA ELENA (PIAZZA MARGHINOTTI) | F33: MQ | G33: 138
A34: 1 | B34: VO | C34: 3. 3 | E34: VIALE REGINA ELENA | F34: MQ | G34: 1746
A35: 3 | B35: VO | C35: 3. 4 | E35: VIA ROMAGNA | F35: MQ | G35: 1114
A36: 3 | B36: VO | C36: 3. 5 | E36: VIALE CIUSA | F36: MQ | G36: 921
A37: 3 | B37: VO | C37: 3. 6 | E37: VIA LIGURIA | F37: MQ | G37: 2572
A38: 1 | B38: VO | C38: 3. 7 | E38: VIALE REGINA ELENA | F38: MQ | G38: 5298
A39: 3 | B39: N.VO | C39: 3. 8 | E39: VIA ROMAGNA | F39: MQ | G39: 15 | H39: =SUM(G32:G39) -> 11889 | P39: aggiunto
A41: 1 | B41: VO | C41: 4. 1 | E41: PIAZZA GARIBALDI | F41: MQ | G41: 679
A42: 4 | B42: VO | C42: 4. 2 | E42: VIA GIUDICESSA BENEDETTA | F42: MQ | G42: 271
A43: 4 | B43: VO | C43: 4. 3 | E43: PIAZZA PORRINO | F43: MQ | G43: 910 | P43: corretto
A44: 4 | B44: N.VO | C44: 4. 4 | E44: VIA CINO DA PISTOIA | F44: MQ | G44: 143 | P44: aggiunto
A45: 4 | B45: N.VO | C45: 4. 5 | E45: VIA BACCAREDDA | F45: MQ | G45: 720 | H45: =SUM(G41:G45) -> 2723 | P45: aggiunto
A47: 3 | B47: REV.VO | C47: 5. 1 | E47: VIA PIERO DELLA FRANCESCA | F47: MQ | G47: 2245
A48: 3 | B48: N.VO | C48: 5. 2 | E48: VIA CORNALIAS - ROTONDA | F48: MQ | G48: 5 | P48: corretto
A49: 3 | B49: N.VO | C49: 5. 3 | E49: PIAZZA DEI CASTELLANI | F49: MQ | G49: 1216
A50: 3 | B50: N.VO | C50: 5. 4 | E50: ROTONDA VIALE MONASTIR - VIA PUGLIA | G50: =186+154+114+155+76+466 -> 1151
A51: 2 | B51: N.VO | C51: 5. 5 | E51: ELMAS ARTIGIANATO ALTO (EX LOTTT. CAPPA MAZZELLA) | G51: 3895 | P51: corretto
A52: 2 | B52: N.VO | C52: 5. 6 | E52: ELMAS ARTIGIANATO | G52: 0 | P52: tolto
A53: 3 | B53: N.VO | C53: 5. 7 | E53: VIA GIOTTO | G53: 602 | P53: aggiunto
A54: 3 | B54: N.VO | C54: 5. 8 | E54: VIA SARRABUS | G54: 188 | P54: aggiunto
A55: 3 | B55: N.VO | C55: 5. 9 | E55: VIA MANDROLISAI | G55: 232 | H55: =SUM(G47:G55) -> 9534 | P55: aggiunto
A57: 3 | B57: VO | C57: 6. 1 | E57: VIA SAMPANTE | F57: MQ | G57: 1665
A58: 3 | B58: REV.VO | C58: 6. 2 | E58: VIA JENNER | F58: MQ | G58: 13953
A59: 3 | B59: N.VO | C59: 6. 3 | E59: ROTATORIA VIA CINQUINI | F59: MQ | G59: 113 | P59: aggiunto
A60: 3 | B60: N.VO | C60: 6. 4 | E60: VIA CASTALDI | F60: MQ | G60: 433 | P60: aggiunto
A61: 3 | B61: N.VO | C61: 6. 5 | E61: VIA JENNER | F61: MQ | G61: 6416 | H61: =SUM(G57:G61) -> 22580 | P61: aggiunto
A63: 4 | B63: VO | C63: 7. 1 | E63: VIA LONDRA | F63: MQ | G63: 0 | P63: tolto
A64: 4 | B64: VO | C64: 7. 2 | E64: VIALE MARCONI | F64: MQ | G64: 1113
A65: 4 | B65: VO | C65: 7. 3 | E65: VIA GRANDI | F65: MQ | G65: 173
A66: 4 | B66: N.VO | C66: 7. 4 | E66: VIA PACIOLI | F66: MQ | G66: 1595 | P66: corr nome
A67: 4 | B67: N.VO | C67: 7. 5 | E67: VIA DEI GIUDICATI | F67: MQ | G67: 15 | H67: =SUM(G63:G67) -> 2896 | P67: aggiunto
A69: 4 | B69: VO | C69: 8. 1 | E69: VIA SCANO | F69: MQ | G69: 4120
A70: 4 | B70: VO | C70: 8. 2 | E70: VIA SCANO | F70: MQ | G70: 480
A71: 4 | B71: VO | C71: 8. 3 | E71: LARGO GENNARI | F71: MQ | G71: 1439
A72: 4 | B72: N.VO | C72: 8. 4 | E72: LARGO GENNARI | F72: MQ | G72: 375 | P72: aggiunto
A73: 4 | B73: N.VO | C73: 8. 5 | E73: VIA SIBIGLIA | F73: MQ | G73: 175 | H73: =SUM(G69:G73) -> 6589 | P73: aggiunto
A75: 5 | B75: VO | C75: 9. 1 | E75: CIRCONVALLAZIONE STADIO | F75: MQ | G75: 3508 | P75: corretto
A76: 5 | B76: VO | C76: 9. 2 | E76: PIAZZA DEGLI ARCIPELAGHI | F76: MQ | G76: 3643 | P76: corretto
A77: 5 | B77: VO | C77: 9. 3 | E77: VIA DEI TRITONI | F77: MQ | G77: 934 | P77: corretto
A78: 5 | B78: REV.VO | C78: 9. 4 | E78: LAZZARETTO | F78: MQ | G78: 601 | P78: corretto
A79: 5 | B79: VO | C79: 9. 5 | E79: CIRCONVALLAZIONE STADIO | F79: MQ | G79: 514
A80: 5 | B80: VO | C80: 9. 6 | E80: VIA ISOLA SAN PIETRO | F80: MQ | G80: 348
A81: 5 | B81: N.VO | C81: 9. 7 | E81: VIA LUNGO SALINE - ROTONDA | F81: MQ | G81: 2827
A82: 5 | B82: N.VO | C82: 9. 8 | E82: VIA ISOLA PIANA | F82: MQ | G82: 346 | H82: =SUM(G75:G82) -> 12721 | P82: aggiunta
A84: 1 | B84: VO | C84: 10. 1 | E84: PIAZZA LUSSU | F84: MQ | G84: 942
A85: 1 | B85: VO | C85: 10. 2 | E85: PIAZZA ICHNUSA | F85: MQ | G85: 2
A86: 1 | B86: VO | C86: 10. 3 | E86: VIALE CIMITERO - CIS | F86: MQ | G86: 0 | P86: tolto
A87: 1 | B87: VO | C87: 10. 4 | E87: VIALE BONARIA | F87: MQ | G87: 0 | P87: tolto
A88: 1 | B88: VO | C88: 10. 5 | E88: VIALE BONARIA | F88: MQ | G88: 760
A89: 5 | B89: VO | C89: 10. 6 | E89: PIAZZA MARCO POLO | F89: MQ | G89: 8731 | P89: corretto
A90: 4 | B90: VO | C90: 10. 7 | E90: PIAZZA REPUBBLICA | F90: MQ | G90: 2918
A91: 5 | B91: VO | C91: 10. 8 | E91: VIA FREUD | F91: MQ | G91: 945
A92: 4 | B92: VO | C92: 10. 9 | E92: VIA CUGIA-VIA CABONI BOI | F92: MQ | G92: 346
A93: 4 | B93: REV.VO | C93: 10. 10 | E93: VIA AMAT | F93: MQ | G93: 0 | P93: spostato | Q93: SA
A94: 4 | B94: VO | C94: 10. 11 | E94: VIA DEI CONVERSI | F94: MQ | G94: 0 | P94: nn c'era
A95: 1 | B95: VO | C95: 10. 12 | E95: VIALE DEL CIMITERO | F95: MQ | G95: 1484
A96: 1 | B96: VO | C96: 10. 13 | E96: ROTONDA LIPPI (tra va XX settembre e via Sonnino) | F96: MQ | G96: 100
A97: 5 | B97: VO | C97: 10. 14 | E97: VIA SA PERDA BIANCA | F97: MQ | G97: 0 | P97: spostato | Q97: VR
A98: 1 | B98: VO | C98: 10. 15 | E98: VIA PIRASTU | F98: MQ | G98: 72 | P98: corretto
A99: 5 | B99: N.VO | C99: 10. 16 | E99: VIA DEI SALINIERI | F99: MQ | G99: 179 | P99: aggiunta
A100: 1 | B100: N.VO | C100: 10. 17 | E100: VIA CABONI | F100: MQ | G100: 151 | P100: aggiunta
A101: 1 | B101: N.VO | C101: 10. 18 | E101: VIA RIMINI - VIA CABONI | F101: MQ | G101: 201 | H101: =SUM(G84:G101) -> 16831 | P101: aggiunta
A103: 6 | B103: VO | C103: 11. 1 | E103: PIAZZA ITALIA | F103: MQ | G103: 116
A104: 6 | B104: VO | C104: 11. 2 | E104: VIA VESALIO | F104: MQ | G104: 89 | P104: corretto
A105: 6 | B105: VO | C105: 11. 3 | E105: PIAZZA MARZABOTTO | F105: MQ | G105: 353
A106: 6 | B106: REV.VO | C106: 11. 4 | E106: CENTRO COMMERCIALE MARCONI | F106: MQ
A107: 6 | B107: VO | C107: 11. 5 | E107: VIA VESALIO | F107: MQ
A108: 6 | B108: VO | C108: 11. 6 | E108: VIA BIXIO (via stefano turr) | F108: MQ | G108: 1176
A109: 6 | B109: REV.VO | C109: 11. 7 | E109: VIA GIOVANE ITALIA | F109: MQ | G109: 270 | P109: corretto
A110: 6 | B110: VO | C110: 11. 8 | E110: VIA RISORGIMENTO | F110: MQ | G110: 589 | P110: corretto
...

Sheet 7 - Verde Stradale
B1: VERDE STRADALE | M1: VERDE STRADALE PER CIRCOSCRIZIONI
A2: CIRC O.A. | H2: mq
A3: 1 | B3: V | C3: 1. 1 | E3: VIA RIVA PONENTE | F3: MQ | G3: 10 | N3: mq | S3: corretto
A4: 2 | B4: V | C4: 1. 2 | E4: VIA CARLOFORTE | F4: MQ | G4: 0 | M4: Circoscrizione 1 | N4: =+G3+G5+G6+G11+G16+G19+G48+G50+G51 -> 2808 | S4: tolto | T4: perché?
A5: 1 | B5: V | C5: 1. 3 | E5: PIAZZA SAVOIA | F5: MQ | G5: 0 | M5: Circoscrizione 2 | N5: =+G4+G8+G9+G10+G13+G25+G12+G14 -> 44919 | S5: tolto
A6: 1 | B6: V | C6: 1 .4 | E6: VIA BELVEDERE | F6: MQ | G6: 1991 | H6: =SUM(G3:G6) -> 2001 | M6: Circoscrizione 3 | N6: =+G17+G26+G28+G64 -> 1989
M7: Circoscrizione 4 | N7: =+G38+G21+G22+G23+G30+G32+G33+G34+G36+G37+G39 -> 18736
A8: 2 | B8: V | C8: 2. 1 | E8: PIAZZA TRENTO | F8: MQ | G8: 33 | M8: Circoscrizione 5 | N8: =+G41+G42+G43+G44+G45+G46+G52+G53+G54+G55+G56+G58+G57+G59 -> 16984
A9: 2 | B9: V | C9: 2. 2 | E9: VIA PO | F9: MQ | G9: 302 | M9: Municipalità di PIRRI | N9: =+G62+G63+G66 -> 2787
A10: 2 | B10: V | C10: 2. 3 | E10: VIA ARGONNE | F10: MQ | G10: 276 | M10: TOTALE | N10: =SUM(N4:N9) -> 88223
A11: 1 | B11: V | C11: 2. 4 | E11: PIAZZA D' ARMI | F11: MQ | G11: 472
A12: 2 | B12: N.V | C12: 2. 5 | E12: VIA MARNA | F12: MQ | G12: 111
A13: 2 | B13: N.V | C13: 2. 6 | E13: LUNGO LINEA FERROVIARIA IN PROSSIMITA DE I "FENICOTTERI" | F13: MQ | G13: 2406
A14: 2 | B14: N.V | C14: 2. 7 | E14: SVINCOLO A GOCCIA VIA SAN PAOLO FORESTAZIONE URBANA | F14: MQ | G14: 41699 | H14: =SUM(G8:G14) -> 45299
A16: 1 | B16: V | C16: 3. 1 | E16: VIA GARIBALDI | F16: MQ | G16: 4
A17: 3 | B17: V | C17: 3. 2 | E17: VIA LIGURIA | F17: MQ | G17: 292 | S17: corretto
A18: 1 | B18: V | C18: 3. 3 | E18: VIA ROMAGNA | F18: MQ | G18: 0 | S18: tolto
A19: 1 | B19: N.V | C19: 3. 4 | E19: VIA ROMAGNA | F19: MQ | G19: 173 | H19: =SUM(G16:G19) -> 469 | S19: aggiunto
A21: 4 | B21: V | C21: 4. 1 | E21: PIAZZA S.ROCCO | F21: MQ | G21: 25 | S21: corretto
A22: 4 | B22: V | C22: 4. 2 | E22: VIA S.ALENIXEDDA | F22: MQ | G22: 164
A23: 4 | B23: V | C23: 4. 3 | E23: VIA BACAREDDA | F23: MQ | G23: 0 | H23: =SUM(G21:G23) -> 189 | S23: tolto
A25: 2 | B25: V | C25: 5. 1 | E25: PIAZZA S.MICHELE | F25: MQ | G25: 92
A26: 3 | B26: REV.V | C26: 5. 2 | E26: SPARTITRAFFICO ALDO MORONGIU | F26: MQ | G26: 484 | H26: =SUM(G25:G26) -> 576 | S26: corretto
A28: 3 | B28: V | C28: 6. 1 | E28: VIA CADELLO | F28: MQ | G28: 487 | H28: =SUM(G28) -> 487
A30: 4 | B30: V | C30: 7. 1 | E30: VIA DEI GIUDICATI | F30: MQ | G30: 0 | S30: tolto
B31: V | C31: 7. 2 | E31: VIA EUCLIDE | F31: MQ
A32: 4 | B32: V | C32: 7. 3 | E32: VIA VOLTA | F32: MQ | G32: 169
A33: 4 | B33: N.V | C33: 7. 4 | E33: VIA GIUDICESSA BENEDETTA - SPARTITRAFFICO | F33: MQ | G33: 73
A34: 4 | B34: N.V | C34: 7. 5 | E34: VIA GIUDICESSA BENEDETTA | F34: MQ | G34: 0 | H34: =SUM(G30:G34) -> 242 | S34: tolto
A36: 4 | B36: V | C36: 8. 1 | E36: VIA AMAT | F36: MQ | G36: 587 | S36: corretto
A37: 4 | B37: V | C37: 8. 2 | E37: VIA VIDAL | F37: MQ | G37: 202
A38: 4 | B38: V | C38: 8. 3 | E38: VIA COSTANTINOPOLI | F38: MQ | G38: 0 | S38: tolto
A39: 4 | B39: N.V | C39: 8. 4 | E39: ASSE MEDIANO | F39: MQ | G39: 17516 | H39: =SUM(G36:G39) -> 18305 | S39: corretto
A41: 5 | B41: V | C41: 9. 1 | E41: PIAZZA S.BARTOLOMEO | F41: MQ | G41: 381 | S41: corretto
A42: 5 | B42: REV.V | C42: 9. 2 | E42: CIRCONVALLAZIONE STADIO | F42: MQ | G42: 2104
A43: 5 | B43: REV.V | C43: 9. 3 | E43: VIA VESPUCCI | F43: MQ | G43: 0 | S43: tolto
A44: 5 | B44: V | C44: 9. 4 | E44: VIA GALLINARA | F44: MQ | G44: 142
A45: 5 | B45: V | C45: 9. 5 | E45: MARINA PICCOLA | F45: MQ | G45: 1752
A46: 5 | B46: N.V | C46: 9. 6 | E46: VIA DEI CAVALLEGGERI | F46: MQ | G46: 266 | H46: =SUM(G41:G46) -> 4645
A48: 1 | B48: V | C48: 10. 1 | E48: PIAZZA DEFFENU | F48: MQ | G48: 158
B49: V | C49: 10. 2 | E49: VIALE COLOMBO | F49: MQ
A50: 1 | B50: V | C50: 10. 3 | E50: VIA CABONI | F50: MQ | G50: 0 | S50: tolto
A51: 1 | B51: V | C51: 10. 4 | E51: VIA CABONI | F51: MQ | G51: 0
A52: 5 | B52: V | C52: 10. 5 | E52: PIAZZA FIRENZE | F52: MQ | G52: 140
A53: 5 | B53: V | C53: 10. 6 | E53: VIA PESSAGNO | F53: MQ | G53: 8835 | S53: corretto
A54: 5 | B54: V | C54: 10. 7 | E54: VIA MONTE MIXI | F54: MQ | G54: 622
A55: 5 | B55: V | C55: 10. 8 | E55: VIA ROCKFELLER | F55: MQ | G55: 681
A56: 5 | B56: V | C56: 10. 9 | E56: VIA FRACASTORO | F56: MQ | G56: 36
A57: 5 | B57: V | C57: 10.10 | E57: VIA IS GUADAZZONIS | F57: MQ | G57: 0 | S57: tolto
A58: 5 | B58: V | C58: 10.11 | E58: VIA SA PERDA BIANCA | F58: MQ | G58: 2025 | S58: corretto
A59: 5 | B59: V | C59: 10.12 | E59: VIA RIMINI - VIA CABONI | F59: MQ | G59: 0 | H59: =SUM(G48:G59) -> 12497 | S59: tolto
A62: 6 | B62: V | C62: 11. 1 | E62: VIA S'ARRIU | F62: MQ | G62: 50
A63: 6 | B63: V | C63: 11. 2 | E63: VIA L. CORONA | F63: MQ | G63: 102
A64: 3 | B64: V | C64: 11. 3 | E64: VIA PERETTI | F64: MQ | G64: 726
B65: V | C65: 11. 4 | E65: VIALE ELMAS | F65: MQ
A66: 6 | B66: V | C66: 11. 5 | E66: CENTRO COMMERCIALE MARCONI | F66: MQ | G66: 2635 | H66: =SUM(G62:G66) -> 3513
B68: TOTALE VERDE STRADALE | F68: MQ | H68: =SUM(H6:H66) -> 88223
E70: CIRC O.A.: Ordinamento attuale delle circoscrizioni
E260: CIRC O.A.: Ordinamento attuele delle circoscrizioni

Sheet 8 - Verde di servizio
A1: VERDE DI SERVIZIO | J1: VERDE DI SERVIZIO PER CIRCOSCRIZIONI
A2: CIRC O.A. | H2: mq | K2: mq
A3: 1 | B3: S | C3: 1. 1 | E3: VIALE LA PLAIA (da riperimetrare meglio) | F3: MQ | G3: 1577 | J3: Circoscrizione 1 | K3: =H13+G32+G33+G34+G35+G38+G39+G40+G138+G139+G140+G141+G142+G155+G159+G160 -> 65969
A4: 1 | B4: S | C4: 1. 2 | D4: s | E4: VIA G.M.ANGIOJ, SATTA | F4: MQ | G4: 844 | J4: Circoscrizione 2 | K4: =+H30+G53+G54+G55+G68 -> 132660
A5: 1 | B5: S | C5: 1. 3 | D5: s | E5: PIAZZA DETTORI | F5: MQ | G5: 45 | J5: Circoscrizione 3 | K5: =+G36+G37+G52+G56+G57+G58+G59+G60+G61+G62+G63+G64+G65+G66+G67+H81+G162 -> 248880
A6: 1 | B6: S | C6: 1. 4 | D6: s | E6: VIA COLLEGIO, MANNO | F6: MQ | G6: 0 | J6: Circoscrizione 4 | K6: =+G154+G42+G43+G44+G46+G49+G48+H98+H110+G156 -> 213482.12 | O6: tolto
A7: 1 | B7: S | C7: 1. 5 | D7: s | E7: VIA S.GIUSEPPE | F7: MQ | G7: 203 | J7: Circoscrizione 5 | K7: =+H136+G143+G144+G145+G146+G147+G148+G149+G150+G151+G152+G153+G157+G158 -> 385066
A8: 1 | B8: S | C8: 1. 6 | D8: s | E8: VIA CANELLES, S.CATERINA | F8: MQ | G8: 202 | J8: Municipalità di PIRRI | K8: =+G163+G164+G165+G166+G167+G168+G169+G170+G171+G172+G173+G176+G177+G178+G179+G181+G180+G182+G183+G184+G185 -> 119437
A9: 1 | B9: S | C9: 1. 7 | E9: VIALE REGINA ELENA | F9: MQ | G9: 16761 | J9: TOTALE | K9: =SUM(K3:K8) -> 1165494.1
A10: 1 | B10: S | C10: 1. 8 | D10: s | E10: VIA CANELLES | F10: MQ | G10: 233
A11: 1 | B11: S | C11: 1. 9 | D11: s | E11: VIA LAMARMORA | F11: MQ | G11: 430
A12: 1 | B12: S | C12: 1.10 | D12: s | E12: VIA S.VINCENZO | F12: MQ | G12: 475
A13: 1 | B13: N.S | C13: 1.11 | E13: VIA CAMMINO NUOVO | F13: MQ | G13: 5124 | H13: =SUM(G3:G13) -> 25894 | N13: =SUM(M3:M13) -> 0 | O13: aggiunto
A16: 2 | B16: S | C16: 2. 1 | E16: PIAZZA TRENTO | F16: MQ | G16: 2539 | O16: corretto
A17: 2 | B17: S | C17: 2. 2 | D17: s | E17: VIALE TRENTO | F17: MQ | G17: 7217
A18: 2 | B18: S | C18: 2. 3 | D18: s | E18: VIA FALZAREGO | F18: MQ | G18: 7217
A19: 2 | B19: S | C19: 2. 4 | D19: s | E19: VIA FALZAREGO | F19: MQ | G19: 2170
A20: 2 | B20: S | C20: 2. 5 | D20: s | E20: VIA BAINSIZZA | F20: MQ | G20: 6623 | O20: corretto
A21: 2 | B21: S | C21: 2. 6 | D21: s | E21: VIA MAGLIAS | F21: MQ | G21: 10290
A22: 2 | B22: S | C22: 2. 7 | D22: s | E22: VIA BLIGNY, MAMELI | F22: MQ | G22: 2948
A23: 2 | B23: S | C23: 2. 8 | D23: s | E23: VIA DOBERDO' | F23: MQ | G23: 0 | O23: tolto
A24: 2 | B24: S | C24: 2. 9 | D24: s | E24: VIA REDIPUGLIA | F24: MQ | G24: 1901 | O24: corretto
A25: 2 | B25: S | C25: 2.10 | D25: s | E25: VIA CASTAGNE VIZZA | F25: MQ | G25: 1618
A26: 2 | B26: S | C26: 2.11 | D26: s | E26: VIA IS MIRRIONIS | F26: MQ | G26: 2962
A27: 2 | B27: N.S | C27: 2.12 | E27: VIA CAMPO SCIPIONE | F27: MQ | G27: 63198
A28: 2 | B28: N.S | C28: 2.13 | E28: VIA CODROIPO | F28: MQ | G28: 3829 | O28: aggiunto
A29: 2 | B29: N.S | C29: 2. 14 | E29: VIA ARGONNE | F29: MQ | G29: 2649 | O29: aggiunto
A30: 2 | B30: N.S | C30: 2. 15 | E30: VIA TUVUMANNU | F30: MQ | G30: 7183 | H30: =SUM(G16:G30) -> 122344 | N30: =SUM(M16:M30) -> 0 | O30: aggiunto
A32: 1 | B32: S | C32: 3. 1 | D32: s | E32: VIALE D'ARBOREA | F32: MQ | G32: 30
A33: 1 | B33: S | C33: 3. 2 | D33: s | E33: PIAZZA GARIBALDI, RIVA | F33: MQ | G33: 2497
A34: 1 | B34: S | C34: 3. 3 | D34: s | E34: VIALE S. VINCENZO,MEREU | F34: MQ | G34: 5123 | O34: corretto
A35: 1 | B35: S | C35: 3. 4 | D35: s | E35: VIALE S. VINCENZO,FOIS | F35: MQ | G35: 138
A36: 3 | B36: S | C36: 3. 5 | E36: CAMPO CUS | F36: MQ | G36: 40081 | O36: corretto
A37: 3 | B37: S | C37: 3. 6 | E37: PIAZZA DEI CASTELLANI | F37: MQ | G37: 0 | O37: spostato
A38: 1 | B38: N.S | C38: 3. 7 | E38: VIA PICENO | F38: MQ | G38: 530 | O38: aggiunto
A39: 1 | B39: N.S | C39: 3. 8 | E39: VIA BASILICATA | F39: MQ | G39: 5148 | O39: aggiunto
A40: 1 | B40: N.S | C40: 3. 9 | E40: VIA BASILICATA | F40: MQ | G40: 5064 | H40: =SUM(G32:G40) -> 58611 | N40: =SUM(M32:M40) -> 0 | O40: aggiunto
A42: 4 | B42: S | C42: 4. 1 | D42: s | E42: VIA DANTE, FOSCOLO | F42: MQ | G42: 358
A43: 4 | B43: S | C43: 4. 2 | D43: s | E43: VIA DONIZETTI | F43: MQ | G43: 372
A44: 4 | B44: S | C44: 4. 3 | E44: VIA PACINOTTI | F44: MQ | G44: 1488
B45: S | C45: 4. 4 | E45: PIAZZA PORRINO | F45: MQ
A46: 4 | B46: S | C46: 4. 5 | D46: s | E46: VIA RAFFAELLO | F46: MQ | G46: 777
B47: S | C47: 4. 6 | E47: VIA DEI GIUDICATI | F47: MQ
A48: 4 | B48: S | C48: 4. 7 | D48: s | E48: VIA S. ALENIXEDDA | F48: MQ | G48: 874 | O48: corretto
A49: 4 | B49: S | C49: 4. 8 | D49: s | E49: PIAZZA GIOVANNI XXIII, CIMA | F49: MQ | G49: 5479 | O49: corretto
B50: S | C50: 4. 9 | E50: VIA S.ALENIXEDDA | F50: MQ | H50: =SUM(G42:G50) -> 9348 | N50: =SUM(M42:M50) -> 0
A52: 3 | B52: S | C52: 5. 1 | D52: s | E52: PIAZZA S. MICHELE | F52: MQ | G52: 2185
A53: 2 | B53: S | C53: 5. 2 | D53: s | E53: VIA ALAGON | F53: MQ | G53: 4798 | O53: corretto
A54: 2 | B54: REV.S | C54: 5. 3 | D54: s | E54: VIA PREMUDA | F54: MQ | G54: 554
A55: 2 | B55: S | C55: 5. 4 | D55: s | E55: VIA PREMUDA | F55: MQ | G55: 2217
A56: 3 | B56: REV.S | C56: 5. 5 | E56: CIMITERO SAN MICHELE | F56: MQ | G56: 87751 | O56: corretto
A57: 3 | B57: S | C57: 5. 6 | D57: s | E57: VIA CARPACCIO ALZIATOR | F57: MQ | G57: 5761
A58: 3 | B58: S | C58: 5. 7 | D58: s | E58: VIA DESSI DELIPERI | F58: MQ | G58: 2189
A59: 3 | B59: S | C59: 5. 8 | D59: s | E59: VIA ASQUER, ALZIATOR | F59: MQ | G59: 8821
A60: 3 | B60: S | C60: 5. 9 | D60: s | E60: VIA CRESPELLANI | F60: MQ | G60: 9933 | O60: corretto
A61: 3 | B61: S | C61: 5. 10 | D61: s | E61: VIA CRESPELLANI | F61: MQ | G61: 5274 | O61: corretto
A62: 3 | B62: S | C62: 5. 11 | D62: s | E62: VIA PIER DELLA FRANCESCA | F62: MQ | G62: 8015 | O62: corretto
A63: 3 | B63: N.S | C63: 5. 12 | E63: VIA CRESPELLANI CAMPI SPORTIVI | F63: MQ | G63: 16681
A64: 3 | B64: N.S | C64: 5. 13 | E64: VIA DESSY DELIPERI | F64: MQ | G64: 4698 | O64: aggiunto
A65: 3 | B65: N.S | C65: 5. 14 | E65: VIA DESSY DELIPERI | F65: MQ | G65: 5132 | O65: aggiunto
A66: 3 | B66: N.S | C66: 5. 15 | E66: PIAZZA DEI CASTELLANI | F66: MQ | G66: 1003 | O66: aggiunto
A67: 3 | B67: N.S | C67: 5. 16 | E67: VIA DESSY DELIPERI | F67: MQ | G67: 2747 | O67: aggiunto
A68: 2 | B68: N.S | C68: 5. 17 | E68: ELMAS ARTIGIANATO | F68: MQ | G68: 2747 | H68: =SUM(G52:G68) -> 170506 | N68: =SUM(M52:M68) -> 0 | O68: aggiunto
A70: 3 | B70: S | C70: 6. 1 | E70: VIA BUGGERRU | F70: MQ | G70: 0
A71: 3 | B71: S | C71: 6. 2 | D71: s | E71: VIA MEILOGU, CIUSA | F71: MQ | G71: 5227
A72: 3 | B72: S | C72: 6. 3 | D72: s | E72: VIA MEILOGU | F72: MQ | G72: 3329
A73: 3 | B73: S | C73: 6. 4 | D73: s | E73: VIA BINGIA MATTA,VIA VAL VENOSTA | F73: MQ | G73: 2088
A74: 3 | B74: S | C74: 6. 5 | D74: s | E74: VIA CORNALIAS | F74: MQ | G74: 7670
A75: 3 | B75: S | C75: 6. 6 | D75: s | E75: VIA FLUMENTEPIDO, S.PERDISCEDDU | F75: MQ | G75: 1584
A76: 3 | B76: S | C76: 6. 7 | D76: s | E76: VIA SERBARIU | F76: MQ | G76: 1235
A77: 3 | B77: S | C77: 6. 8 | E77: CIRCOSCR. 6Is Mirrionis/Bingia Matta/Cinquini | F77: MQ | G77: 1867
A78: 3 | B78: S | C78: 6. 9 | D78: s | E78: VIA MONSIGNOR PIOVELLA | F78: MQ | G78: 3513
A79: 3 | B79: N.S | C79: 6. 10 | D79: s | E79: VIA MONTE ACUTO | F79: MQ | G79: 3972 | O79: aggiunto
A80: 3 | B80: N.S | C80: 6. 11 | E80: VIA KOCH | F80: MQ | G80: 2320 | O80: aggiunto
A81: 3 | B81: N.S | C81: 6. 12 | E81: VIA MANDROLISAI | F81: MQ | G81: 7711 | H81: =SUM(G70:G81) -> 40516 | N81: =SUM(M70:M81) -> 0 | O81: aggiunto
A83: 4 | B83: S | C83: 7. 1 | D83: s | E83: VIA CASTIGLIONE | F83: MQ | G83: =4782.83-1044.71 -> 3738.12 | O83: corretto
A84: 4 | B84: S | C84: 7. 2 | D84: s | E84: VIA SALVATOR ROSA | F84: MQ | G84: 2468
A85: 4 | B85: S | C85: 7. 3 | D85: s | E85: VIA SALVATOR ROSA | F85: MQ | G85: 4117
A86: 4 | B86: S | C86: 7. 4 | D86: s | E86: VIA BANDELLO | F86: MQ | G86: 1285
A87: 4 | B87: S | C87: 7. 5 | E87: VIA CASTIGLIONE | F87: MQ | G87: 11060 | O87: corretto
A88: 4 | B88: S | C88: 7. 6 | D88: s | E88: VIA MARCONI | F88: MQ | G88: 6366 | O88: corretto
A89: 4 | B89: S | C89: 7. 7 | D89: s | E89: VIALE MARCONI, FOSCOLO | F89: MQ | G89: 7323 | O89: corretto
A90: 4 | B90: S | C90: 7. 8 | D90: s | E90: VIA CASTIGLIONE | F90: MQ | G90: 3240 | O90: corretto
A91: 4 | B91: S | C91: 7. 9 | D91: s | E91: VIA PITAGORA CEP | F91: MQ | G91: 1295
A92: 4 | B92: S | C92: 7. 10 | D92: s | E92: VIA PARIGI | F92: MQ | G92: 1860
A93: 4 | B93: S | C93: 7. 11 | D93: s | E93: C.E.P. | F93: MQ | G93: 2679
A94: 4 | B94: S | C94: 7. 12 | D94: s | E94: VIA TALETE, VITT. DA FELTRE | F94: MQ | G94: 3835
A95: 4 | B95: S | C95: 7. 13 | E95: VIA TIRANA | F95: MQ | G95: 8868
A96: 4 | B96: N.S | C96: 7. 14 | E96: VIA RIVA VILLASANTA | F96: MQ | G96: 2084
A97: 4 | B97: N.S | C97: 7. 15 | E97: VIA DONORATICO | F97: MQ | G97: 6478 | P97: aggiunto
A98: 4 | B98: N.S | C98: 7. 16 | E98: VIA LONDRA | F98: MQ | G98: 1854 | H98: =SUM(G83:G98) -> 68550.12 | N98: =SUM(M83:M98) -> 0 | P98: aggiunto
A100: 4 | B100: S | C100: 8. 1 | D100: s | E100: VIA CUGIA | F100: MQ | G100: 6126 | P100: corretto
A101: 4 | B101: S | C101: 8. 2 | D101: s | E101: VIA CARBONI BOI, E. D'ARBOREA | F101: MQ | G101: 0 | P101: tolto
A102: 4 | B102: S | C102: 8. 3 | D102: s | E102: VIA GARAVETTI | F102: MQ | G102: 8412
A103: 4 | B103: S | C103: 8. 4 | D103: s | E103: VIA DUBLINO STAT. | F103: MQ | G103: 2443
A104: 4 | B104: S | C104: 8. 5 | D104: s | E104: VIA STOCCOLMA, REGINA ELENA | F104: MQ | G104: 4221 | P104: corretto
A105: 4 | B105: S | C105: 8. 6 | D105: s | E105: VIA STOCCOLMA | F105: MQ | G105: 3334
A106: 4 | B106: S | C106: 8. 7 | E106: VIA ZAGABRIA | F106: MQ | G106: 1593
A107: 4 | B107: N.S | C107: 8. 8 | E107: MAGNOLIA | F107: MQ | G107: 7775 | P107: corretto
A108: 4 | B108: N.S | C108: 8. 9 | E108: VIA BERENGARIO | F108: MQ | G108: 2447 | P108: aggiunto
...

Sheet 9 - Verde Speciale
A1: VERDE SPECIALE | K1: VERDE SPECIALE PER CIRCOSCRIZIONI
A2: CIRC O.A. | H2: mq | L2: mq
A3: 1 | B3: VS | C3: 1. 1 | E3: ORTO BOTANICO | F3: MQ | G3: 38445 | K3: Circoscrizione 1 | L3: =+G3+G4+G5+G7+G23+G26+G27 -> 141537
A4: 1 | B4: VS | C4: 1. 2 | E4: ANFITEATRO ROMANO | F4: MQ | G4: 26760 | K4: Circoscrizione 2 | L4: =+G6 -> 4110
A5: 1 | B5: VS | C5: 1. 3 | E5: CITTADELLA DEI MUSEI | F5: MQ | G5: 3168 | K5: Circoscrizione 3 | L5: 0
A6: 2 | B6: VS | C6: 1. 4 | E6: VILLA DI TIGELLIO | F6: MQ | G6: 4110 | K6: Circoscrizione 4 | L6: =+G15+G24+G25 -> 324975
A7: 1 | B7: N.VS | C7: 1. 5 | E7: VIALE BUON CAMMINO | F7: MQ | G7: 1805 | H7: =SUM(G3:G7) -> 74288 | P7: aggiunto
K8: Circoscrizione 5 | L8: =+G17+G18+G19+G20 -> 2044392
B9: REV.VS | C9: 2. 1 | E9: COLLE TUVIXEDDU | F9: MQ | G9: 0 | H9: =SUM(G9) -> 0 | K9: Municipalità di PIRRI | L9: 0
K10: TOTALE | L10: =SUM(L3:L9) -> 2515014
B11: VS | C11: 3. 1 | E11: MONTE CLARO | F11: MQ | G11: 0 | H11: =SUM(G11) -> 0
B13: VS | C13: 4. 1 | E13: VIA CAO DI S. MARCO - VIVAIO COMUNALE | F13: MQ | G13: 0 | H13: 0
A15: 4 | B15: REV.VS | C15: 8. 1 | E15: MONTE URPINU | F15: MQ | G15: 138182 | H15: =SUM(G15) -> 138182
A17: 5 | B17: REV.VS | C17: 9. 1 | E17: MONTE S. ELIA | F17: MQ | G17: 1299869
A18: 5 | B18: REV.VS | C18: 9. 2 | E18: VIALE CALAMOSCA | F18: MQ | G18: 744523
A19: 5 | B19: VS | C19: 9. 3 | E19: S. ELIA RIMBOSCHIMENTO | F19: MQ | G19: 0 | P19: tolto
A20: 5 | B20: VS | C20: 9. 4 | E20: VIA MONTECRISTO | F20: MQ | G20: 0 | H20: =SUM(G17:G20) -> 2044392 | P20: tolto
B22: VS | C22: 10. 1 | E22: PARCO DELLE RIMEMBRANZE | F22: MQ | G22: 0 | P22: tolto
A23: 1 | B23: VS | C23: 10. 2 | E23: CIMITERO DI BONARIA | F23: MQ | G23: 71359
A24: 4 | B24: REV.VS | C24: 10. 3 | E24: MONTE URPINU | F24: MQ | G24: 149141 | P24: corretto
A25: 4 | B25: N.VS | C25: 10. 4 | E25: MONTE URPINU - OSPEDALE BINAGHI | F25: MQ | G25: 37652 | P25: corretto
A26: 1 | B26: N.VS | C26: 10. 5 | F26: MQ | G26: 0 | P26: tolto
A27: 1 | B27: N.VS | C27: 10. 6 | F27: MQ | G27: 0 | H27: =SUM(G22:G27) -> 258152 | P27: tolto
A29: TOTALE VERDE SPECIALE | F29: MQ | H29: =SUM(H6:H27) -> 2515014
E31: CIRC O.A.: Ordinamento attuale delle circoscrizioni
E259: CIRC O.A.: Ordinamento attuele delle circoscrizioni

Sheet 10 - Filari
A1: FILARI | J1: FILARI PER CIRCOSCRIZIONI
A2: CIRC O.A. | H2: mq | K2: mq
A3: 1 | B3: F | C3: 1. 1 | E3: VIALE TRIESTE | F3: MQ | G3: =45*5 -> 225 | I3: 45 | J3: Circoscrizione 1 | K3: =+H10+G26+G27+G93+G96+G97+G98+G99+G100+G28 -> 4440
A4: 1 | B4: F | C4: 1. 2 | E4: LARGO CARLO FELICE | F4: MQ | G4: =128*5 -> 640 | I4: 128 | J4: Circoscrizione 2 | K4: =+H24+G48+G44+G45 -> 3190
A5: 1 | B5: F | C5: 1. 3 | E5: CORSO VITTORIO EMANUELE | F5: MQ | G5: =15*5 -> 75 | I5: 15 | J5: Circoscrizione 3 | K5: =+G46+G49+G50+G51 -> 235
A6: 1 | B6: F | C6: 1. 4 | E6: PIAZZA JENNE | F6: MQ | G6: =4*5 -> 20 | I6: 4 | J6: Circoscrizione 4 | K6: =+H42+H58+H66 -> 5110
A7: 1 | B7: F | C7: 1. 5 | E7: VIA UNIVERSITA' | F7: MQ | G7: =2*5 -> 10 | I7: 2 | J7: Circoscrizione 5 | K7: =+H91+G94+G95+G101+G102+G103+G104+G105 -> 9965
A8: 1 | B8: F | C8: 1. 6 | E8: CAMMINO NUOVO | F8: MQ | G8: =14*5 -> 70 | I8: 14 | J8: Municipalità di PIRRI | K8: =+H111 -> 645
A9: 1 | B9: F | C9: 1. 7 | E9: VIALE S. IGNAZIO | F9: MQ | G9: =55*5 -> 275 | I9: 55 | J9: TOTALE | K9: =SUM(K3:K8) -> 23585
A10: 1 | B10: F | C10: 1. 8 | E10: VIALE BUONCAMMINO | F10: MQ | G10: =69*5 -> 345 | H10: =SUM(G3:G10) -> 1660 | I10: 69
A12: 2 | B12: F | C12: 2. 1 | E12: VIALE TRIESTE | F12: MQ | G12: =183*5 -> 915 | I12: 183
A13: 2 | B13: F | C13: 2. 2 | E13: VIA FALZAREGO | F13: MQ | G13: =0*5 -> 0 | I13: 0 | Q13: tolto
A14: 2 | B14: F | C14: 2. 3 | E14: VIALE TRENTO | F14: MQ | G14: =25*5 -> 125 | I14: 25
A15: 2 | B15: F | C15: 2. 4 | E15: VIA DE MAGISTRIS | F15: MQ | G15: =3*5 -> 15 | I15: 3
A16: 2 | B16: F | C16: 2. 5 | E16: VIALE MERELLO | F16: MQ | G16: =204*5 -> 1020 | I16: 204
A17: 2 | B17: F | C17: 2. 6 | E17: VIA MARENGO | F17: MQ | G17: =2*5 -> 10 | I17: 2
A18: 2 | B18: F | C18: 2. 7 | E18: VIA COL D'ECHELE | F18: MQ | G18: =0*5 -> 0 | Q18: tolto
A19: 2 | B19: F | C19: 2. 8 | E19: VIA MONTE GRAPPA | F19: MQ | G19: =19*5 -> 95 | I19: 19 | Q19: spost retino
A20: 2 | B20: F | C20: 2. 9 | E20: VIA CODROIPO | F20: MQ | G20: =23*5 -> 115 | I20: 23
A21: 2 | B21: F | C21: 2.10 | E21: VIA S.AVENDRACE | F21: MQ | G21: 5 | I21: 1
A22: 2 | B22: F | C22: 2.11 | E22: VIA S.GILLA | F22: MQ | G22: =70*5 -> 350 | I22: 70
A23: 2 | B23: F | C23: 2.12 | E23: VIA PO | F23: MQ | G23: =12*5 -> 60 | I23: 12
A24: 2 | B24: F | C24: 2.13 | E24: VIALE ELMAS | F24: MQ | G24: 0 | H24: =SUM(G12:G24) -> 2710 | Q24: tolto
A26: 1 | B26: F | C26: 3. 1 | E26: VIALE REGINA ELENA | F26: MQ | G26: =71*5 -> 355 | I26: 71 | Q26: corretto
A27: 1 | B27: F | C27: 3. 2 | E27: VIA LIGURIA | F27: MQ | G27: =40*5 -> 200 | I27: 40
A28: 1 | B28: F | C28: 3. 3 | E28: VIALE REGINA MARGHERITA | F28: MQ | G28: =52*5 -> 260 | H28: =SUM(G26:G28) -> 815 | I28: 52
A30: 4 | B30: F | C30: 4. 1 | E30: VIA SONNINO | F30: MQ | G30: =34*5 -> 170 | I30: 34
A31: 4 | B31: F | C31: 4. 2 | E31: VIA BACAREDDA | F31: MQ | G31: 0 | Q31: tolto
A32: 4 | B32: F | C32: 4. 3 | E32: VIA PAOLI | F32: MQ | G32: =7*5 -> 35 | I32: 7 | Q32: corretto
A33: 4 | B33: F | C33: 4. 4 | E33: VIA DANTE | F33: MQ | G33: =246*5 -> 1230 | I33: 246
A34: 4 | B34: F | C34: 4. 5 | E34: VIA PERGOLESI | F34: MQ | G34: =80*5 -> 400 | I34: 80
A35: 4 | B35: F | C35: 4. 6 | E35: VIA SAN BENEDETTO | F35: MQ | G35: =6*5 -> 30 | I35: 6
A36: 4 | B36: F | C36: 4. 7 | E36: VIA PETRARCA | F36: MQ | G36: =28*5 -> 140 | I36: 28
A37: 4 | B37: F | C37: 4. 8 | E37: VIA CAO DI S. MARCO | F37: MQ | G37: 0 | Q37: tolto
A38: 4 | B38: F | C38: 4. 9 | E38: PIAZZA GIOVANNI XXIII | F38: MQ | G38: =11*5 -> 55 | I38: 11
A39: 4 | B39: F | C39: 4.10 | E39: PIAZZA S.BENEDETTO | F39: MQ | G39: =13*5 -> 65 | I39: 13
A40: 4 | B40: F | C40: 4.11 | E40: VIA G.VERDI | F40: MQ | G40: =16*5 -> 80 | I40: 16
A41: 4 | B41: F | C41: 4.12 | E41: VIA S.ALENIXEDDA | F41: MQ | G41: =44*5 -> 220 | I41: 44
A42: 4 | B42: F | C42: 4.13 | E42: VIA DEI GIUDICATI | F42: MQ | G42: =15*5 -> 75 | H42: =SUM(G30:G42) -> 2500 | I42: 15
A44: 2 | B44: F | C44: 5. 1 | E44: VIA LUNIGIANA | F44: MQ | G44: =29*5 -> 145 | I44: 29
A45: 2 | B45: F | C45: 5. 2 | E45: VIA PUGLIE | F45: MQ | G45: =40*5 -> 200 | I45: 40
A46: 3 | B46: F | C46: 5. 3 | E46: VIA CORNALIAS | F46: MQ | G46: =25*5 -> 125 | H46: =SUM(G44:G46) -> 470 | I46: 25
A48: 2 | B48: F | C48: 6. 1 | E48: VIA IS MIRRIONIS | F48: MQ | G48: =27*5 -> 135 | I48: 27
A49: 3 | B49: F | C49: 6. 2 | E49: VIA PARRAGUEZ | F49: MQ | G49: 0 | Q49: tolto
A50: 3 | B50: F | C50: 6. 3 | E50: VIA MONSIGNOR PIOVELLA | F50: MQ | G50: 0 | Q50: tolto
A51: 3 | B51: F | C51: 6. 4 | E51: VIA QUIRRA - VIA BUGGERRU | F51: MQ | G51: =22*5 -> 110 | H51: =SUM(G48:G51) -> 245 | I51: 22 | Q51: corretto
A53: 4 | B53: F | C53: 7. 1 | E53: VIA BOCCACCIO | F53: MQ | G53: =18*5 -> 90 | I53: 18
A54: 4 | B54: F | C54: 7. 2 | E54: VIA CASTIGLIONE | F54: MQ | G54: =86*5 -> 430 | I54: 86
A55: 4 | B55: F | C55: 7. 3 | E55: VIA SERRA | F55: MQ | G55: =27*5 -> 135 | I55: 27 | Q55: corr nome
A56: 4 | B56: F | C56: 7. 4 | E56: VIA VIENNA | F56: MQ | G56: =15*5 -> 75 | I56: 15
A57: 4 | B57: N.F | C57: 7. 5 | E57: VIALE MARCONI | F57: MQ | G57: =89*5 -> 445 | I57: 89
A58: 4 | B58: N.F | C58: 7. 6 | E58: VIA TORRICELLI | F58: MQ | G58: =29*5 -> 145 | H58: =SUM(G53:G58) -> 1320 | I58: 29
A60: 4 | B60: F | C60: 8. 1 | E60: VIA PESSINA | F60: MQ | G60: =65*5 -> 325 | I60: 65
A61: 4 | B61: F | C61: 8. 2 | E61: VIA CUGIA | F61: MQ | G61: =16*5 -> 80 | I61: 16
A62: 4 | B62: F | C62: 8. 3 | E62: VIA AMAT | F62: MQ | G62: =5*5 -> 25 | I62: 5
A63: 4 | B63: F | C63: 8. 4 | E63: VIA CARBONI BOI | F63: MQ | G63: =23*5 -> 115 | I63: 23
A64: 4 | B64: F | C64: 8. 5 | E64: VIA SCANO | F64: MQ | G64: =70*5 -> 350 | I64: 70
A65: 4 | B65: F | C65: 8. 6 | E65: VIA DELL'ABBAZIA | F65: MQ | G65: =25*5 -> 125 | I65: 25
A66: 4 | B66: F | C66: 8. 7 | E66: VIA LEO | F66: MQ | G66: =54*5 -> 270 | H66: =SUM(G60:G66) -> 1290 | I66: 54 | Q66: contati
A68: 5 | B68: F | C68: 9. 1 | E68: VIALE S.ELIA | F68: MQ | G68: =96*5 -> 480 | I68: 96
A69: 5 | B69: F | C69: 9. 2 | E69: CHIESA SANT'ELIA | F69: MQ | G69: =7*5 -> 35 | I69: 7
A70: 5 | B70: F | C70: 9. 3 | E70: VIALE CALAMOSCA | F70: MQ | G70: =124*5 -> 620 | I70: 124
A71: 5 | B71: F | C71: 9. 4 | E71: VIALE S.BARTOLOMEO | F71: MQ | G71: =11*5 -> 55 | I71: 11
A72: 5 | B72: F | C72: 9. 5 | E72: VIALE POETTO | F72: MQ | G72: =170*5 -> 850 | I72: 170
A73: 5 | B73: F | C73: 9. 6 | E73: VIA TRAMONTANA | F73: MQ | G73: =104*5 -> 520 | I73: 104
A74: 5 | B74: F | C74: 9. 7 | E74: VIA BOREA | F74: MQ | G74: =0*5 -> 0 | Q74: tolto
A75: 5 | B75: F | C75: 9. 8 | E75: VIA DEL SOLE | F75: MQ | G75: =53*5 -> 265 | I75: 53
A76: 5 | B76: F | C76: 9. 9 | E76: VIA PROCIDA | F76: MQ | G76: =19*5 -> 95 | I76: 19
A77: 5 | B77: F | C77: 9.10 | E77: VIALE LUNGO SALINE | F77: MQ | G77: =60*5 -> 300 | I77: 60
A78: 5 | B78: F | C78: 9.11 | E78: LUNGOMARE POETTO | F78: MQ | G78: =686*5 -> 3430 | I78: 686
A79: 5 | B79: F | C79: 9.12 | E79: VIA ISCHIA | F79: MQ | G79: =7*5 -> 35 | I79: 7
A80: 5 | B80: F | C80: 9.13 | E80: VIA AUSONIA | F80: MQ | G80: =36*5 -> 180 | I80: 36
A81: 5 | B81: F | C81: 9.14 | E81: VIA ISOLA PIANA | F81: MQ | G81: =0*5 -> 0 | Q81: tolto
A82: 5 | B82: N.F | C82: 9.15 | E82: VIA SAMUELE UTZERI | F82: MQ | G82: =5*44 -> 220 | I82: 55
A83: 5 | B83: N.F | C83: 9.16 | E83: VIA DEI NAVIGATORI | F83: MQ | G83: =12*5 -> 60 | I83: 12
A84: 5 | B84: N.F | C84: 9.17 | E84: VIA SAMUELE UTZERI - PARCHEGGIO | F84: MQ | G84: =10*3*5 -> 150 | I84: 30
A85: 5 | B85: N.F | C85: 9.18 | E85: VIALE SANT'ELIA | F85: MQ | G85: =33*5 -> 165 | I85: 33
A86: 5 | B86: N.F | C86: 9.19 | E86: RENATO PRUNAS | F86: MQ | G86: =22*5 -> 110 | I86: 22
A87: 5 | B87: N.F | C87: 9.20 | E87: FRANCESCO ALZIATOR | F87: MQ | G87: =22*5 -> 110 | I87: 22
A88: 5 | B88: N.F | C88: 9.21 | E88: VIA FRANCESCO LODDO CANEPA | F88: MQ | G88: =20*5 -> 100 | I88: 20
A89: 5 | B89: N.F | C89: 9.22 | E89: VIALE SAN BARTOLOMEO | F89: MQ | G89: =35*5 -> 175 | I89: 35
A90: 5 | B90: N.F | C90: 9.23 | E90: SANT'ELIA | F90: MQ | G90: =34*5 -> 170 | I90: 34
A91: 5 | B91: N.F | C91: 9.24 | E91: VIALE SANT'ELIA | F91: MQ | G91: =17*5 -> 85 | H91: =SUM(G68:G90) -> 8125 | I91: 17
A93: 1 | B93: F | C93: 10. 1 | E93: VIALE COLOMBO | F93: MQ | G93: =79*5 -> 395 | I93: 79
A94: 5 | B94: F | C94: 10. 2 | E94: CALATA TRINITARI | F94: MQ | G94: =13*5 -> 65 | I94: 13
A95: 5 | B95: F | C95: 10. 3 | E95: VIALE ARMANDO DIAZ | F95: MQ | G95: =198*5 -> 990 | I95: 198
A96: 1 | B96: F | C96: 10. 4 | E96: VIALE REGINA MARGHERITA | F96: MQ | G96: =90*5 -> 450 | I96: 90
A97: 1 | B97: F | C97: 10. 5 | E97: VIALE BONARIA | F97: MQ | G97: =87*5 -> 435 | I97: 87
A98: 1 | B98: F | C98: 10. 6 | E98: VIALE CIMITERO | F98: MQ | G98: =48*5 -> 240 | I98: 48
A99: 1 | B99: F | C99: 10. 7 | E99: VIA DANTE | F99: MQ | G99: =50*5 -> 250 | I99: 50
A100: 1 | B100: F | C100: 10. 8 | E100: VIA CABONI | F100: MQ | G100: =39*5 -> 195 | I100: 39
A101: 5 | B101: F | C101: 10. 9 | E101: VIA MILANO | F101: MQ | G101: =92*5 -> 460 | I101: 92
A102: 5 | B102: F | C102: 10.10 | E102: VIA FIRENZE | F102: MQ | G102: =29*5 -> 145 | I102: 29
A103: 5 | B103: F | C103: 10.11 | E103: VIA FORLANINI | F103: MQ | G103: =0*5 -> 0 | Q103: tolto
A104: 5 | B104: F | C104: 10.12 | E104: VIA AMSICORA | F104: MQ | G104: =36*5 -> 180 | I104: 36
A105: 5 | B105: F | C105: 10.13 | E105: TRAV. VIA MILANO | F105: MQ | G105: =0*5 -> 0 | H105: =SUM(G93:G105) -> 3805 | Q105: tolto
A107: 6 | B107: F | C107: 11. 1 | E107: VIA S. MARIA CHIARA | F107: MQ | G107: =60*5 -> 300 | I107: 60
A108: 6 | B108: F | C108: 11. 2 | E108: VIA ITALIA | F108: MQ | G108: =45*5 -> 225 | I108: 45
A109: 6 | B109: F | C109: 11. 3 | E109: VIA FOSSE ARDEATINE | F109: MQ | G109: =22*5 -> 110 | I109: 22
A110: 6 | B110: F | C110: 11. 4 | E110: VIA NICOLAU | F110: MQ
...

Sheet 11- Incolti
A1: INCOLTI | J1: INCOLTI PER CIRCOSCRIZIONI
A2: CIRC O.A. | H2: mq | K2: mq
A3: 1 | B3: I | C3: 1. 1 | E3: VIA ANFITEATRO | F3: MQ | G3: 3151 | J3: Circoscrizione 1 | K3: =H8+G21+G29+G183+G184+G195+G198 -> 72404
A4: 1 | B4: I | C4: 1. 2 | E4: VIA UNIVERSITA' | F4: MQ | G4: 0 | J4: Circoscrizione 2 | K4: =+G10+G11+G12+G17+G18+G19+G20+G22+G23+G24+G25+G26+G53+G77 -> 846388 | M4: tolto
A5: 1 | B5: I | C5: 1. 3 | E5: VIALE REGINA ELENA | F5: MQ | J5: Circoscrizione 3 | K5: =+G33+G35+G45+G47+G50+G55+G58+G59+G63+H98+G203+G263+G269+G68+G69+G71+G72+G73+G76+G78+G79+G80 -> 2881846
A6: 1 | B6: I | C6: 1. 4 | E6: CAMMINO NUOVO | F6: MQ | G6: 223 | J6: Circoscrizione 4 | K6: =+H129+H147+G215+G216+G217+G218+G219+G220++G221+G259+G245 -> 268520 | M6: corretto
A7: 1 | B7: I | C7: 1. 5 | E7: VIALE REGINA ELENA | F7: MQ | G7: 1725 | J7: Circoscrizione 5 | K7: =+H178+G187+G193+G197+G199+G200+G201+G252+G253+G254+G255+G257+G258+G264 -> 353817 | M7: corretto
A8: 1 | B8: I | C8: 1. 6 | E8: VIALE BUON CAMMINO | F8: MQ | G8: 27532 | H8: =SUM(G3:G8) -> 32631 | J8: Municipalità di PIRRI | K8: =+G205+G204+G206+G207+G209+G210+G211+G212+G224+G225+G226+G227+G228+G229+G230+G233+G234+G235+G236+G237+G238+G239+G240+G241+G267+G268+G262+G242+G243+G244+G246+G247+G248+G249 -> 426961 | M8: corretto
J9: TOTALE | K9: =SUM(K3:K8) -> 4849936
A10: 2 | B10: I | C10: 2. 1 | E10: S. GILLA | F10: MQ | G10: 11737
A11: 2 | B11: I | C11: 2. 2 | E11: S. GILLA | F11: MQ | G11: 11253
A12: 2 | B12: I | C12: 2. 3 | E12: VIA S. GILLA | F12: MQ | G12: 1365
A13: 2 | B13: I | C13: 2. 4 | E13: VIA CODROIPO | F13: MQ | G13: 0 | M13: tolto
A14: 2 | B14: I | C14: 2. 5 | E14: VIA ARGONNE | F14: MQ | G14: 0 | M14: tolto
A15: 2 | B15: I | C15: 2. 6 | E15: VIA COL D'ECHELE | F15: MQ | G15: 0 | M15: tolto
A16: 2 | B16: I | C16: 2. 7 | E16: VIA TUVUMANNU | F16: MQ | G16: 0 | M16: tolto
A17: 2 | B17: REV.I | C17: 2. 8 | E17: VIA IS MIRRIONIS | F17: MQ | G17: =18896 -> 18896
A18: 2 | B18: REV.I | C18: 2. 9 | E18: COLLE TUVIXEDDU | F18: MQ | G18: 29123
A19: 2 | B19: I | C19: 2.10 | E19: VIA BAINSIZZA | F19: MQ | G19: 2337 | M19: corretto
A20: 2 | B20: REV.I | C20: 2.11 | E20: VIA DEI PUNICI | F20: MQ | G20: 524
A21: 1 | B21: I | C21: 2.12 | E21: VIALE BUON CAMMINO (ORTO DEI CAPPUCCINI) | F21: MQ | G21: 27077 | M21: corretto
A22: 2 | B22: I | C22: 2.13 | E22: VIA S. GIOVANNI BOSCO | F22: MQ | G22: 8019 | M22: corretto
A23: 2 | B23: I | C23: 2.14 | E23: SS 554 | F23: MQ | G23: 28989 | M23: aggiunto aree
A24: 2 | B24: REV.I | C24: 2.15 | E24: NUOVO RACCORDO | F24: MQ | G24: 55705
A25: 2 | B25: N.I | C25: 2.16 | E25: LUNGOMARE SALINE | F25: MQ | G25: 80579
A26: 2 | B26: N.I | C26: 2.17 | E26: VIA SAN PAOLO | F26: MQ | G26: 106280 | H26: =SUM(G10:G26) -> 381884
B28: I | C28: 3. 1 | E28: VIALE REGINA ELENA | F28: MQ | G28: 0
A29: 1 | B29: I | C29: 3. 2 | E29: VIA S.SATURNINO | F29: MQ | G29: 1523
A30: 1 | B30: I | C30: 3. 3 | E30: VIA PICENO | F30: MQ | G30: 0 | M30: tolto
A31: 1 | B31: I | C31: 3. 4 | E31: VIA BASILICATA | F31: MQ | G31: 0 | M31: tolto
A32: 1 | B32: I | C32: 3. 5 | E32: VIA BASILICATA | F32: MQ | G32: 0 | M32: tolto
A33: 3 | B33: I | C33: 3. 6 | E33: VIA TRENTINO | F33: MQ | G33: 3172
B34: I | C34: 3. 7 | E34: MONTE CLARO | F34: MQ
A35: 3 | B35: REV.I | C35: 3. 8 | E35: VIA VALENZANI | F35: MQ | G35: 25331 | H35: =SUM(G28:G35) -> 30026
A37: 4 | B37: I | C37: 4. 1 | E37: VIA CINO DA PISTOIA | F37: MQ | G37: 0 | M37: tolto
B38: REV.I | C38: 4. 2 | E38: VIA CAO S.MARCO | F38: MQ | G38: 0 | H38: =SUM(G37:G38) -> 0
A40: 2 | B40: I | C40: 5. 1 | E40: VIALE MONASTIR | F40: MQ | G40: 0
A41: 3 | B41: I | C41: 5. 2 | E41: VIA VAL D'ELSA | F41: MQ
A42: 3 | B42: I | C42: 5. 3 | E42: VIA ABRUZZI | F42: MQ
A43: 3 | B43: I | C43: 5. 4 | E43: VIA MANDROLISAI | F43: MQ
A44: 3 | B44: I | C44: 5. 5 | E44: VIA MANDROLISAI | F44: MQ
A45: 3 | B45: REV.I | C45: 5. 6 | E45: CIMITERO S. MICHELE | F45: MQ | G45: 181482 | M45: corretto
A46: 3 | B46: I | C46: 5. 7 | E46: PIAZZA DEI CASTELLANI | F46: MQ
A47: 3 | B47: REV.I | C47: 5. 8 | E47: VIA CORNALIAS | F47: MQ | G47: 12941
A48: 3 | B48: I | C48: 5. 9 | E48: VIA IL PERUGINO | F48: MQ
A49: 3 | B49: I | C49: 5.10 | E49: VIA VERONESE | F49: MQ | G49: 0 | M49: tolto
A50: 3 | B50: I | C50: 5.11 | E50: VIA IL GHIRLANDAIO | F50: MQ | G50: 1907
A51: 3 | B51: I | C51: 5.12 | E51: PIAZZA MUSE | F51: MQ
A52: 3 | B52: REV.I | C52: 5.13 | E52: VIA BROTZU | F52: MQ
A53: 3 | B53: I | C53: 5.14 | E53: VIA PIERO DELLA FRANCESCA | F53: MQ | G53: 0 | M53: tolto
A54: 3 | B54: I | C54: 5.15 | E54: VIA GIOTTO | F54: MQ | G54: 0 | M54: tolto
A55: 3 | B55: I | C55: 5.16 | E55: VIA BOTTICELLI | F55: MQ | G55: 3992
A56: 3 | B56: I | C56: 5.17 | E56: VIA DESSY DELIPERI | F56: MQ | G56: 0 | M56: tolto
A57: 3 | B57: I | C57: 5.18 | E57: VIA DESSY DELIPERI | F57: MQ | G57: 0
A58: 3 | B58: I | C58: 5.19 | E58: VIA GIOTTO | F58: MQ | G58: 1071
A59: 3 | B59: I | C59: 5.20 | E59: VIA PAOLO DI DORIA | F59: MQ | G59: 19743 | M59: corretto
B60: I | C60: 5.21 | E60: VIA TIEPOLO | F60: MQ
B61: I | C61: 5.22 | E61: PIAZZA DEGLI SFORZA | F61: MQ
B62: I | C62: 5.23 | E62: VIA BERNINI | F62: MQ
A63: 3 | B63: REV.I | C63: 5.24 | E63: VIA TIEPOLO | F63: MQ | G63: 1966
A64: 3 | B64: I | C64: 5.25 | E64: VIA SINI | F64: MQ | G64: 0 | M64: tolto
B65: I | C65: 5.26 | E65: VIA DE MARTIS | F65: MQ
B66: I | C66: 5.27 | E66: VIA BORROMINI | F66: MQ
B67: I | C67: 5.28 | E67: VIA GHERARDO DELLE NOTTI | F67: MQ
A68: 3 | B68: I | C68: 5.29 | E68: VIA BINAGHI | F68: MQ | G68: 4839
A69: 3 | B69: I | C69: 5.30 | E69: VIA SETZU | F69: MQ | G69: 6466
A70: 3 | B70: I | C70: 5.31 | E70: VIA BINAGHI | F70: MQ | G70: 0 | M70: tolto
A71: 3 | B71: I | C71: 5.32 | E71: VIA CRESPELLANI | F71: MQ | G71: 4847
A72: 3 | B72: I | C72: 5.33 | E72: VIA TINTORETTO | F72: MQ | G72: 29530
A73: 3 | B73: REV.I | C73: 5.34 | E73: SS.554 | F73: MQ | G73: 257251
A74: 3 | B74: I | C74: 5.35 | E74: VIA SARRUBUS | F74: MQ | G74: 0 | M74: tolto
A75: 3 | B75: I | C75: 5.36 | E75: VIA MANDROLISAI | F75: MQ | G75: 0 | M75: tolto
A76: 3 | B76: REV.I | C76: 5.37 | E76: VIA CAMPEDA | F76: MQ | G76: 3478
A77: 2 | B77: N.I | C77: 5.38 | E77: PARCO DELLE CAVE | F77: MQ | G77: =84704+296773+110104 -> 491581
A78: 3 | B78: N.I | C78: 5.39 | E78: SU STANGIONI | F78: MQ | G78: 568622
A79: 3 | B79: N.I | C79: 5.40 | E79: PIANA DI SAN LORENZO | F79: MQ | G79: =476018+971095+206036 -> 1653149
A80: 3 | B80: N.I | C80: 5.41 | E80: VIA CARAVAGGIO | F80: MQ | G80: 1497 | H80: =SUM(G40:G80) -> 3244362
A82: 3 | B82: I | C82: 6. 1 | E82: PIAZZA VALSASSINA | F82: MQ | G82: 2133
A83: 3 | B83: I | C83: 6. 2 | E83: VIA MONTE ACUTO | F83: MQ | G83: 0 | M83: tolto
A84: 3 | B84: I | C84: 6. 3 | E84: VIA VAL VENOSTA | F84: MQ | G84: 1405
A85: 3 | B85: I | C85: 6. 4 | E85: VIA CINQUINI | F85: MQ | G85: 7286
A86: 3 | B86: I | C86: 6. 5 | E86: VIA SERBARIU | F86: MQ | G86: 0 | M86: tolto
A87: 3 | B87: I | C87: 6. 6 | E87: VIA BACU ABIS | F87: MQ | G87: 0 | M87: tolto
A88: 3 | B88: REV.I | C88: 6. 7 | E88: VIA GUZZONI | F88: MQ | G88: 34246 | M88: corretto
A89: 3 | B89: I | C89: 6. 8 | E89: VIA CASTALDI | F89: MQ | G89: 0 | M89: tolto
A90: 3 | B90: I | C90: 6. 9 | E90: VIA KOCH | F90: MQ | G90: 0 | M90: tolto
A91: 3 | B91: REV.I | C91: 6.10 | E91: VIA JENNER | F91: MQ | G91: 0 | M91: tolto
A92: 3 | B92: I | C92: 6.11 | E92: VIA KOCH | F92: MQ | G92: 1172
A93: 3 | B93: I | C93: 6.12 | E93: VIA KOCH | F93: MQ | G93: 300
A94: 3 | B94: REV.I | C94: 6.13 | E94: VIA MONSIGNOR PIOVELLA | F94: MQ | G94: 1391
A95: 3 | B95: I | C95: 6.14 | E95: VIA MANDROLISAI | F95: MQ | G95: 0 | M95: tolto
A96: 3 | B96: I | C96: 6.15 | E96: VIA CORNALIAS | F96: MQ | G96: 1435
A97: 3 | B97: N.I | C97: 6.16 | E97: VIA CETTIGNE | F97: MQ | G97: 8230
A98: 3 | B98: N.I | C98: 6.17 | E98: VIA CAMPEDA | F98: MQ | G98: 3931 | H98: =SUM(G82:G98) -> 61529
A100: 4 | B100: I | C100: 7. 1 | E100: VIA DONORATICO | F100: MQ | G100: 0 | M100: tolto
A101: 4 | B101: I | C101: 7. 2 | E101: VIA CAPULA | F101: MQ | G101: 0 | M101: tolto
A102: 4 | B102: REV.I | C102: 7. 3 | E102: VIA DEI CARROZ | F102: MQ | G102: 21682
A103: 4 | B103: I | C103: 7. 4 | E103: VIA BIASI | F103: MQ | G103: 969 | M103: corretto
A104: 4 | B104: REV.I | C104: 7. 5 | E104: VIA CHIABRIERA | F104: MQ | G104: 3476
A105: 4 | B105: I | C105: 7. 6 | E105: VIA SALVATOR ROSA | F105: MQ | G105: 0 | M105: tolto
...

Sheet Riassunto per Circoscrizione
B1: TIPOLOGIA | N1: (mq)
B3: PU | C3: GP | D3: GQ | E3: SA | F3: VR | G3: VO | H3: V | I3: S | J3: VS | K3: F | L3: I | M3: sommano | O3: =M4-225-5277-4611-158 -> 456477 | P3: ho levato viale F1.1,SA 1.1 e 1.2, VO 1.1perché non sono CS
A4: ='1 - Parco Urbano'!K3 -> Circoscrizione 1 | B4: ='1 - Parco Urbano'!L3 -> 0 | C4: ='2 - Giardino Pubblico'!K11 -> 80928 | D4: ='3 - Giardino di Quartiere'!K3 -> 8362 | E4: ='4 - Sosta Alberata'!L3 -> 57436 | F4: ='5 - Verde Residenziale'!M3 -> 7843 | G4: ='6 - Verde Ornamentale'!L3 -> 25021 | H4: ='7 - Verde Stradale'!N4 -> 2808 | I4: ='8 - Verde di servizio'!K3 -> 65969 | J4: ='9 - Verde Speciale'!L3 -> 141537 | K4: ='10 - Filari'!K3 -> 4440 | L4: ='11- Incolti'!K3 -> 72404 | M4: =SUM(B4:L4) -> 466748
A5: ='1 - Parco Urbano'!K4 -> Circoscrizione 2 | B5: ='1 - Parco Urbano'!L4 -> 183939 | C5: ='2 - Giardino Pubblico'!K12 -> 0 | D5: ='3 - Giardino di Quartiere'!K4 -> 10387 | E5: ='4 - Sosta Alberata'!L4 -> 19929 | F5: ='5 - Verde Residenziale'!M4 -> 10579 | G5: ='6 - Verde Ornamentale'!L4 -> 8584 | H5: ='7 - Verde Stradale'!N5 -> 44919 | I5: ='8 - Verde di servizio'!K4 -> 132660 | J5: ='9 - Verde Speciale'!L4 -> 4110 | K5: ='10 - Filari'!K4 -> 3190 | L5: ='11- Incolti'!K4 -> 846388 | M5: =SUM(B5:L5) -> 1264685
A6: ='1 - Parco Urbano'!K5 -> Circoscrizione 3 | B6: ='1 - Parco Urbano'!L5 -> 468845 | C6: ='2 - Giardino Pubblico'!K13 -> 0 | D6: ='3 - Giardino di Quartiere'!K5 -> 54479 | E6: ='4 - Sosta Alberata'!L5 -> 5239 | F6: ='5 - Verde Residenziale'!M5 -> 34054 | G6: ='6 - Verde Ornamentale'!L5 -> 32841 | H6: ='7 - Verde Stradale'!N6 -> 1989 | I6: ='8 - Verde di servizio'!K5 -> 248880 | J6: ='9 - Verde Speciale'!L5 -> 0 | K6: ='10 - Filari'!K5 -> 235 | L6: ='11- Incolti'!K5 -> 2881846 | M6: =SUM(B6:L6) -> 3728408
A7: ='1 - Parco Urbano'!K6 -> Circoscrizione 4 | B7: ='1 - Parco Urbano'!L6 -> 323287 | C7: ='2 - Giardino Pubblico'!K14 -> 59306 | D7: ='3 - Giardino di Quartiere'!K6 -> 62468 | E7: ='4 - Sosta Alberata'!L6 -> 32750 | F7: ='5 - Verde Residenziale'!M6 -> 47021 | G7: ='6 - Verde Ornamentale'!L6 -> 14793 | H7: ='7 - Verde Stradale'!N7 -> 18736 | I7: ='8 - Verde di servizio'!K6 -> 213482.12 | J7: ='9 - Verde Speciale'!L6 -> 324975 | K7: ='10 - Filari'!K6 -> 5110 | L7: ='11- Incolti'!K6 -> 268520 | M7: =SUM(B7:L7) -> 1370448.1
A8: ='1 - Parco Urbano'!K7 -> Circoscrizione 5 | B8: ='1 - Parco Urbano'!L7 -> 0 | C8: ='2 - Giardino Pubblico'!K15 -> 7610 | D8: ='3 - Giardino di Quartiere'!K7 -> 80332 | E8: ='4 - Sosta Alberata'!L7 -> 28133 | F8: ='5 - Verde Residenziale'!M8 -> 38819 | G8: ='6 - Verde Ornamentale'!L7 -> 22576 | H8: ='7 - Verde Stradale'!N8 -> 16984 | I8: ='8 - Verde di servizio'!K7 -> 385066 | J8: ='9 - Verde Speciale'!L8 -> 2044392 | K8: ='10 - Filari'!K7 -> 9965 | L8: ='11- Incolti'!K7 -> 353817 | M8: =SUM(B8:L8) -> 2987694
A9: Municipalità Pirri | B9: ='1 - Parco Urbano'!L8 -> 114704 | C9: ='2 - Giardino Pubblico'!K16 -> 21254 | D9: ='3 - Giardino di Quartiere'!K8 -> 19831 | E9: ='4 - Sosta Alberata'!L8 -> 4872 | F9: ='5 - Verde Residenziale'!M9 -> 29545 | G9: ='6 - Verde Ornamentale'!L8 -> 10576 | H9: ='7 - Verde Stradale'!N9 -> 2787 | I9: ='8 - Verde di servizio'!K8 -> 119437 | J9: ='9 - Verde Speciale'!L9 -> 0 | K9: ='10 - Filari'!K8 -> 645 | L9: ='11- Incolti'!K8 -> 426961 | M9: =SUM(B9:L9) -> 750612
A10: TOTALI PARZIALI | B10: ='1 - Parco Urbano'!L9 -> 1090775 | C10: ='2 - Giardino Pubblico'!K17 -> 169098 | D10: ='3 - Giardino di Quartiere'!K9 -> 235859 | E10: ='4 - Sosta Alberata'!L9 -> 148359 | F10: ='5 - Verde Residenziale'!M10 -> 167861 | G10: ='6 - Verde Ornamentale'!L9 -> 114391 | H10: ='7 - Verde Stradale'!N10 -> 88223 | I10: ='8 - Verde di servizio'!K9 -> 1165494.1 | J10: ='9 - Verde Speciale'!L10 -> 2515014 | K10: ='10 - Filari'!K9 -> 23585 | L10: ='11- Incolti'!K9 -> 4849936 | M10: =SUM(B10:L10) -> 10568595
B11: Tutte le misure sono espresse in MQ | L11: Totale | N11: =SUM(B10:L10) -> 10568595
E254: CIRC O.A.: Ordinamento attuele delle circoscrizioni

Sheet Centro Storico
A1: Dato di partenza | B1: ='Riassunto per Circoscrizione'!M4 -> 466748 | D1: Circoscrizione 1
A2: Da sotrarre | B2: 225 | C2: F1.1 | D2: Viale Trieste
B3: 5277 | C3: SA 1.1 | D3: Piazza Matteotti
B4: 4611 | C4: SA 1.2 | D4: Via Roma
B5: 158 | C5: VO 1.1 | D5: Molo Sant'Agostino
B6: 72404 | C6: Tutti | D6: Incolti
B7: =B1-B2-B3-B4-B5-B6 -> 384073
B8: 1435 | D8: Totale Filari senza Viale Trieste
B9: =B7-B8 -> 382638
A11: Pirri
B12: 805 | C12: I.27
B13: 1577 | C13: I.33
B14: 1706 | C14: I.36 | D14: =SUM(B12:B14) -> 4088
B15: 245 | C15: SA.2
B16: 326 | C16: SA.3
B17: 116 | C17: VO.1
B18: 2173 | C18: S.12 | D18: =SUM(B15:B18) -> 2860
B19: =SUM(B12:B18) -> 6948

Sheet Foglio2
